BEGIN:VCALENDAR
VERSION:2.0
PRODID:-//RunIreland.com - ECPv6.5.1.5//NONSGML v1.0//EN
CALSCALE:GREGORIAN
METHOD:PUBLISH
X-ORIGINAL-URL:https://www.runireland.com
X-WR-CALDESC:Events for RunIreland.com
REFRESH-INTERVAL;VALUE=DURATION:PT1H
X-Robots-Tag:noindex
X-PUBLISHED-TTL:PT1H
BEGIN:VTIMEZONE
TZID:Europe/Dublin
BEGIN:STANDARD
TZOFFSETFROM:+0000
TZOFFSETTO:+0100
TZNAME:IST
DTSTART:20180325T010000
END:STANDARD
BEGIN:DAYLIGHT
TZOFFSETFROM:+0100
TZOFFSETTO:+0000
TZNAME:GMT
DTSTART:20181028T010000
END:DAYLIGHT
BEGIN:STANDARD
TZOFFSETFROM:+0000
TZOFFSETTO:+0100
TZNAME:IST
DTSTART:20190331T010000
END:STANDARD
BEGIN:DAYLIGHT
TZOFFSETFROM:+0100
TZOFFSETTO:+0000
TZNAME:GMT
DTSTART:20191027T010000
END:DAYLIGHT
END:VTIMEZONE
BEGIN:VEVENT
DTSTART;TZID=Europe/Dublin:20190615T120000
DTEND;TZID=Europe/Dublin:20190615T120000
DTSTAMP:20260419T213352
CREATED:20171208T153342Z
LAST-MODIFIED:20190501T115542Z
UID:176614-1560600000-1560600000@www.runireland.com
SUMMARY:Colour Dash Limerick
DESCRIPTION:Ireland’s most fun paint run is back this summer!\nThousands of enthusiastic walkers\, joggers and runners will inject some colour into their lives this summer. Each Colour Dash event is 5km of fun and colour\, and registration is €30 per person. With entertainment provided on the day\, it’s a fun day for all – including the kids! \n100% of the funds raised through the Colour Dash will go directly to the Irish Cancer Society. Sign up today\, get active and join the fight against cancer! \nRegister HERE 
URL:https://www.runireland.com/events/colour-dash-limerick-3/
LOCATION:University of Limerick\, Ireland
CATEGORIES:5K,Kids Race
ATTACH;FMTTYPE=image/jpeg:https://www.runireland.com/wp-content/uploads/2017/12/ICS-CD-2019-300x250px.jpg
GEO:53.1423672;-7.6920536
END:VEVENT
BEGIN:VEVENT
DTSTART;TZID=Europe/Dublin:20190413T080000
DTEND;TZID=Europe/Dublin:20190414T080000
DTSTAMP:20260419T213352
CREATED:20190315T114241Z
LAST-MODIFIED:20190405T145841Z
UID:176367-1555142400-1555228800@www.runireland.com
SUMMARY:Marathon Club Ireland Ultra Weekend
DESCRIPTION:We will be hosting our 24hr event in UL on the 13th/14th April it will be run on a mile loop which consists of a newly laid running track of compacted aggregate. There will be shower facilities available for the 24hrs. Pasta at 6hrs and 12hrs\, porridge at 18hrs\, boiling water\, fruit and treats available for the duration of the event\, floodlit for the night time. \nEvent Options: \n– 24 Hour \n– 12 Hour \n– 6 Hour \n– Full Marathon on either day \n– Half Marathon on either day \n– 18 / 20 Miler as the last long run before Great Limerick Run \n \n  \n 
URL:https://www.runireland.com/events/marathon-club-ireland-ultra-weekend/
LOCATION:University of Limerick\, Ireland
CATEGORIES:Full Marathon,Half Marathon,Track,Ultra Marathons
GEO:53.1423672;-7.6920536
END:VEVENT
BEGIN:VEVENT
DTSTART;TZID=Europe/Dublin:20190101T090000
DTEND;TZID=Europe/Dublin:20190101T100000
DTSTAMP:20260419T213352
CREATED:20181217T112634Z
LAST-MODIFIED:20181231T170700Z
UID:173456-1546333200-1546336800@www.runireland.com
SUMMARY:New Year's Day Double - Limerick parkrun
DESCRIPTION:NOTE: 9am START (30 mins earlier than normal) !!! \nNew Year’s Day is the only day when you can get credit for taking part in two parkrun events (a free timed 5k event)!! Come join us and Lees Road parkrun in Ennis for a New Year’s double. \nStart with Limerick parkrun at 9am. Then hop in the car and head to Lees Road parkrun in Ennis for an 11am parkrun. Two parkrun credits in one day 🙂 Can’t get better value than that. You can also take part in just one of the events. \nAs always both events are free. Your existing barcode will work at both events\, so there is no need to register a second time. If you don’t have a barcode you can register for free at www.parkrun.ie/register. Make sure you bring your printed barcode with you on the morning so you get your time and event credit. \nRunners\, walkers\, buggies etc all welcome. (Children under 11 must be accompanied by an adult at all times) Spread the word….. \nLimerick parkrun parking\nParking is available in the carpark to the right as you drive down towards the boathouse (after turning left at the roundabout). There is no parking at the boathouse itself. The event starts on the tarmac path just below the carpark (before the boathouse)
URL:https://www.runireland.com/events/new-years-day-double-limerick-parkrun/
LOCATION:University of Limerick\, Ireland
CATEGORIES:5K
GEO:53.1423672;-7.6920536
END:VEVENT
BEGIN:VEVENT
DTSTART;TZID=Europe/Dublin:20181225T093000
DTEND;TZID=Europe/Dublin:20181225T103000
DTSTAMP:20260419T213352
CREATED:20181218T203909Z
LAST-MODIFIED:20181218T203925Z
UID:173404-1545730200-1545733800@www.runireland.com
SUMMARY:Christmas Day Limerick parkrun
DESCRIPTION:An special Limerick parkrun to mark Christmas Day!! \nLimerick parkrun – a free timed 5k event – takes place every Saturday @ 9.30am on the path just above the boathouse in UL. Outside of our regular Saturday parkruns we are holding an extra event on Christmas Day itself. All welcome!! \nAs its Christmas Day we won’t have tea/coffee afterwards as people will be rushing home for Turkey :-). \nRunners\, walkers\, buggies etc all welcome. (Children under 11 must be accompanied by an adult at all times) \nParking is available in the carpark to the right as you drive down towards the boathouse (after turning left at the roundabout). There is no parking at the boathouse itself. The event starts on the tarmac path just below the carpark (before the boathouse) \nSee you all there – don’t forget your barcode! (No printed barcode – no time). If you don’t have a barcode you can register for free at https://www.parkrun.ie/register/
URL:https://www.runireland.com/events/christmas-day-limerick-parkrun/
LOCATION:University of Limerick\, Ireland
CATEGORIES:5K
GEO:53.1423672;-7.6920536
END:VEVENT
BEGIN:VEVENT
DTSTART;TZID=Europe/Dublin:20180623T120000
DTEND;TZID=Europe/Dublin:20180623T120000
DTSTAMP:20260419T213352
CREATED:20171208T153342Z
LAST-MODIFIED:20180524T112440Z
UID:164727-1529755200-1529755200@www.runireland.com
SUMMARY:Colour Dash Limerick
DESCRIPTION:Ireland’s most fun paint run is back this summer!\nThousands of enthusiastic walkers\, joggers and runners will inject some colour into their lives this summer. Each Colour Dash event is 5km of fun and colour\, and registration is €30 per person. With entertainment provided on the day\, it’s a fun day for all – including the kids! \n100% of the funds raised through the Colour Dash will go directly to the Irish Cancer Society. Sign up today\, get active and join the fight against cancer!
URL:https://www.runireland.com/events/colour-dash-limerick/
LOCATION:University of Limerick\, Ireland
CATEGORIES:5K,Kids Race
ATTACH;FMTTYPE=image/jpeg:https://www.runireland.com/wp-content/uploads/2017/12/ics-cd-google-plus-cover-2120-x-1192-f.jpg
GEO:53.1423672;-7.6920536
END:VEVENT
BEGIN:VEVENT
DTSTART;TZID=Europe/Dublin:20180410T210000
DTEND;TZID=Europe/Dublin:20180410T230000
DTSTAMP:20260419T213352
CREATED:20180404T103742Z
LAST-MODIFIED:20180404T104503Z
UID:168929-1523394000-1523401200@www.runireland.com
SUMMARY:5k Glow Run
DESCRIPTION:This year’s 5k Glow Run will be held in memory of Jacinta O’Brien\, a former member of the Physical Education and Sports Science Department in UL who sadly passed away from SADS (Sudden Adult Death Syndrome) in 2004. Jacinta completely immersed herself in the UL community\, in sport and within the PESS faculty. In remembrance of her passing\, each year a charity run is organized by the 2nd year Sport and Exercise Science students. \nThis year\, all the money raised from the run will be donated to Temple Street Children’s Hospital and Limerick Suicide Watch. Temple Street Hospital was chosen for their vital work in providing medical treatment for children throughout Ireland. Limerick Suicide watch aims to help people in distress or that may be feeling suicidal. Each week patrol teams are sent out to keep eyes on the river and be of assistance to anyone in need. The charity is completely reliant on donations therefore\, being an optimal recipient for the money raised from this year’s Glow Run. \nOnline registration – https://sirius.eventmaster.ie/event/LGGtp3H76
URL:https://www.runireland.com/events/5k-glow-run/
LOCATION:University of Limerick\, Ireland
CATEGORIES:5K
GEO:53.1423672;-7.6920536
END:VEVENT
END:VCALENDAR