BEGIN:VCALENDAR
VERSION:2.0
PRODID:-//RunIreland.com - ECPv6.5.1.5//NONSGML v1.0//EN
CALSCALE:GREGORIAN
METHOD:PUBLISH
X-ORIGINAL-URL:https://www.runireland.com
X-WR-CALDESC:Events for RunIreland.com
REFRESH-INTERVAL;VALUE=DURATION:PT1H
X-Robots-Tag:noindex
X-PUBLISHED-TTL:PT1H
BEGIN:VTIMEZONE
TZID:Europe/Dublin
BEGIN:STANDARD
TZOFFSETFROM:+0000
TZOFFSETTO:+0100
TZNAME:IST
DTSTART:20190331T010000
END:STANDARD
BEGIN:DAYLIGHT
TZOFFSETFROM:+0100
TZOFFSETTO:+0000
TZNAME:GMT
DTSTART:20191027T010000
END:DAYLIGHT
END:VTIMEZONE
BEGIN:VEVENT
DTSTART;TZID=Europe/Dublin:20190302T100000
DTEND;TZID=Europe/Dublin:20190302T120000
DTSTAMP:20260419T214037
CREATED:20190208T214044Z
LAST-MODIFIED:20190208T214044Z
UID:175575-1551520800-1551528000@www.runireland.com
SUMMARY:Straffan Fun Run
DESCRIPTION:Straffan 5k & 10k Family Fun Run \nSaturday 2nd March\, 10:00am \nChipped & Timed Event run by Popup Races \nMedals for all \nRefreshments in Straffan Hall afterwards
URL:https://www.runireland.com/events/straffan-fun-run/
LOCATION:Straffan \, Co. Kildare\, Straffan\, Co. Kildare
ATTACH;FMTTYPE=image/jpeg:https://www.runireland.com/wp-content/uploads/2019/02/Fun-Run-Friels-Poster.jpg
ORGANIZER;CN="Straffan Community Hall":MAILTO:orla.fallon@hotmail.com
GEO:53.3118851;-6.6088248
X-APPLE-STRUCTURED-LOCATION;VALUE=URI;X-ADDRESS=Straffan  Co. Kildare Straffan Co. Kildare;X-APPLE-RADIUS=500;X-TITLE=Straffan:geo:-6.6088248,53.3118851
END:VEVENT
END:VCALENDAR