BEGIN:VCALENDAR
VERSION:2.0
PRODID:-//RunIreland.com - ECPv6.5.1.5//NONSGML v1.0//EN
CALSCALE:GREGORIAN
METHOD:PUBLISH
X-ORIGINAL-URL:https://www.runireland.com
X-WR-CALDESC:Events for RunIreland.com
REFRESH-INTERVAL;VALUE=DURATION:PT1H
X-Robots-Tag:noindex
X-PUBLISHED-TTL:PT1H
BEGIN:VTIMEZONE
TZID:Europe/Dublin
BEGIN:STANDARD
TZOFFSETFROM:+0000
TZOFFSETTO:+0100
TZNAME:IST
DTSTART:20180325T010000
END:STANDARD
BEGIN:DAYLIGHT
TZOFFSETFROM:+0100
TZOFFSETTO:+0000
TZNAME:GMT
DTSTART:20181028T010000
END:DAYLIGHT
BEGIN:STANDARD
TZOFFSETFROM:+0000
TZOFFSETTO:+0100
TZNAME:IST
DTSTART:20190331T010000
END:STANDARD
BEGIN:DAYLIGHT
TZOFFSETFROM:+0100
TZOFFSETTO:+0000
TZNAME:GMT
DTSTART:20191027T010000
END:DAYLIGHT
END:VTIMEZONE
BEGIN:VEVENT
DTSTART;TZID=Europe/Dublin:20190720T093000
DTEND;TZID=Europe/Dublin:20190720T150000
DTSTAMP:20260419T231559
CREATED:20190201T152151Z
LAST-MODIFIED:20190201T152151Z
UID:174388-1563615000-1563634800@www.runireland.com
SUMMARY:Run Killarney
DESCRIPTION:Run Killarney gives competitors the chance to run one of the world’s most breathtaking and scenic routes through Muckross House and Killarney National Park.\nThe races are open to everyone\, men and women alike\, at all levels of running experience\, walkers\, newcomers and people who just want a challenge and a great day out.\nThis is a professionally run event and truly the world’s most beautiful road race. All competitors receive a finshers t-shirt and medal. There are two distances to choose from for Run Killarney\, the 10k route and the half marathon.
URL:https://www.runireland.com/events/run-killarney/
LOCATION:Killarney\, Ireland
CATEGORIES:10K,Half Marathon
ATTACH;FMTTYPE=image/png:https://www.runireland.com/wp-content/uploads/2019/01/Run-Killarney-Social-Icon-03.png
ORGANIZER;CN="Elite Event Management":MAILTO:info@eliteevents.ie
GEO:53.1423672;-7.6920536
END:VEVENT
BEGIN:VEVENT
DTSTART;VALUE=DATE:20190720
DTEND;VALUE=DATE:20190721
DTSTAMP:20260419T231559
CREATED:20181106T161814Z
LAST-MODIFIED:20181107T110732Z
UID:172402-1563580800-1563667199@www.runireland.com
SUMMARY:Run Killarney Half Marathon and 10k race
DESCRIPTION:Take part in world’s most beautiful road race on the 20th of July 2019 \n10K & Half Marathon routes
URL:https://www.runireland.com/events/run-killarney-half-marathon-and-10k-race/
LOCATION:Killarney\, Ireland
CATEGORIES:10K,Half Marathon,Trail / Off Road Races
ATTACH;FMTTYPE=image/png:https://www.runireland.com/wp-content/uploads/2018/11/Logo-Dark-2019.png
ORGANIZER;CN="Elite Event Management":MAILTO:info@eliteevents.ie
GEO:53.1423672;-7.6920536
END:VEVENT
BEGIN:VEVENT
DTSTART;TZID=Europe/Dublin:20190406T080000
DTEND;TZID=Europe/Dublin:20190406T170000
DTSTAMP:20260419T231559
CREATED:20190201T151102Z
LAST-MODIFIED:20190201T151102Z
UID:174374-1554537600-1554570000@www.runireland.com
SUMMARY:Quest Glendalough
DESCRIPTION:This epic adventure involves racers running and cycling through the Wicklow Mountains National Park and Glendalough Valley as well as kayaking across the spectacular Upper Lake and finishing the race in the shadows of the monastic round tower which epitomises the Glendalough area.\nThree challenging routes: 57k Expert\, 41km Sport and 19k Challenge. Registration takes place both the night before and the morning of the event in 2019
URL:https://www.runireland.com/events/quest-glendalough/
LOCATION:Glendalough\, Wicklow\, Glendalough\, Wicklow\, Ireland
CATEGORIES:Adventure Races,Trail / Off Road Races
ATTACH;FMTTYPE=image/jpeg:https://www.runireland.com/wp-content/uploads/2019/01/Header-for-event-page-2019.jpg
ORGANIZER;CN="Elite Event Management":MAILTO:info@eliteevents.ie
GEO:53.01198;-6.32984
X-APPLE-STRUCTURED-LOCATION;VALUE=URI;X-ADDRESS=Glendalough Wicklow Glendalough Wicklow Ireland;X-APPLE-RADIUS=500;X-TITLE=Glendalough:geo:-6.32984,53.01198
END:VEVENT
BEGIN:VEVENT
DTSTART;VALUE=DATE:20190406
DTEND;VALUE=DATE:20190407
DTSTAMP:20260419T231559
CREATED:20181106T153816Z
LAST-MODIFIED:20181106T153839Z
UID:172393-1554508800-1554595199@www.runireland.com
SUMMARY:Quest Glenalough 2019
DESCRIPTION:This epic adventure involves racers running and cycling through the Wicklow Mountains National Park and Glendalough Valley as well as kayaking across the spectacular Upper Lake and finishing the race in the shadows of the monastic round tower which epitomises the Glendalough area. \nThree challenging routes: 57k Expert\, 41km Sport and 19k Challenge.
URL:https://www.runireland.com/events/quest-glenalough-2019/
LOCATION:Glendalough\, Wicklow\, Glendalough\, Wicklow\, Ireland
CATEGORIES:Adventure Races,Cycle Events,Trail / Off Road Races
ATTACH;FMTTYPE=image/jpeg:https://www.runireland.com/wp-content/uploads/2018/11/Header-for-event-page-2019.jpg
ORGANIZER;CN="Elite Event Management":MAILTO:info@eliteevents.ie
GEO:53.01198;-6.32984
X-APPLE-STRUCTURED-LOCATION;VALUE=URI;X-ADDRESS=Glendalough Wicklow Glendalough Wicklow Ireland;X-APPLE-RADIUS=500;X-TITLE=Glendalough:geo:-6.32984,53.01198
END:VEVENT
BEGIN:VEVENT
DTSTART;TZID=Europe/Dublin:20190302T080000
DTEND;TZID=Europe/Dublin:20190302T170000
DTSTAMP:20260419T231559
CREATED:20190201T150941Z
LAST-MODIFIED:20190201T150941Z
UID:174371-1551513600-1551546000@www.runireland.com
SUMMARY:Quest Kenmare
DESCRIPTION:Fully booked but waiting list available email info@eliteevents.ie
URL:https://www.runireland.com/events/quest-kenmare/
LOCATION:Kenmare\, Kerry\, Kenmare\, Kenmare
CATEGORIES:Adventure Races,Trail / Off Road Races
ATTACH;FMTTYPE=image/jpeg:https://www.runireland.com/wp-content/uploads/2019/01/Kenmare-2019.jpg
ORGANIZER;CN="Elite Event Management":MAILTO:info@eliteevents.ie
END:VEVENT
BEGIN:VEVENT
DTSTART;VALUE=DATE:20190302
DTEND;VALUE=DATE:20190303
DTSTAMP:20260419T231559
CREATED:20181106T154037Z
LAST-MODIFIED:20181106T160259Z
UID:172389-1551484800-1551571199@www.runireland.com
SUMMARY:Quest Kenmare 2019
DESCRIPTION:Quest Kenmare is our newest and most exciting Quest destination. The route encompasses the amazing mountains of the Beara Peninsula and boutique charm of Kenmare Town.\nRun\, cycle and kayak across the spectacular mountains and valleys to challenge yourself in 2019.
URL:https://www.runireland.com/events/quest-kenmare-2019/
LOCATION:Kenmare\, Kerry\, Kenmare\, Kenmare
CATEGORIES:Adventure Races,Cycle Events,Duathlons and Triathlons,Trail / Off Road Races
ATTACH;FMTTYPE=image/jpeg:https://www.runireland.com/wp-content/uploads/2018/11/Kenmare-2019.jpg
ORGANIZER;CN="Elite Event Management":MAILTO:info@eliteevents.ie
END:VEVENT
BEGIN:VEVENT
DTSTART;TZID=Europe/Dublin:20180728T080000
DTEND;TZID=Europe/Dublin:20180728T170000
DTSTAMP:20260419T231559
CREATED:20171208T165609Z
LAST-MODIFIED:20171211T123418Z
UID:164777-1532764800-1532797200@www.runireland.com
SUMMARY:Run Killarney 2018
DESCRIPTION:Run Killarney gives competitors the chance to run one of the world’s most breath taking and scenic routes through Muckross House and Killarney National Park. \nThe races are open to everyone\, men and women alike\, at all levels of running experience\, walkers\, newcomers and people who just want a challenge and a great day out. \nThis is a professionally run event and every effort has been made to ensure that all competitors needs are looked after. \nMore information can be found at www.runkillarney.com
URL:https://www.runireland.com/events/run-killarney-2018/
LOCATION:Killarney\, Ireland
CATEGORIES:10K,Half Marathon
ORGANIZER;CN="Elite Event Management":MAILTO:info@eliteevents.ie
GEO:53.1423672;-7.6920536
END:VEVENT
END:VCALENDAR