BEGIN:VCALENDAR
VERSION:2.0
PRODID:-//RunIreland.com - ECPv6.5.1.5//NONSGML v1.0//EN
CALSCALE:GREGORIAN
METHOD:PUBLISH
X-ORIGINAL-URL:https://www.runireland.com
X-WR-CALDESC:Events for RunIreland.com
REFRESH-INTERVAL;VALUE=DURATION:PT1H
X-Robots-Tag:noindex
X-PUBLISHED-TTL:PT1H
BEGIN:VTIMEZONE
TZID:Europe/Dublin
BEGIN:STANDARD
TZOFFSETFROM:+0000
TZOFFSETTO:+0100
TZNAME:IST
DTSTART:20180325T010000
END:STANDARD
BEGIN:DAYLIGHT
TZOFFSETFROM:+0100
TZOFFSETTO:+0000
TZNAME:GMT
DTSTART:20181028T010000
END:DAYLIGHT
END:VTIMEZONE
BEGIN:VEVENT
DTSTART;VALUE=DATE:20180707
DTEND;VALUE=DATE:20180708
DTSTAMP:20260420T144359
CREATED:20171222T112214Z
LAST-MODIFIED:20180618T131450Z
UID:165592-1530921600-1531007999@www.runireland.com
SUMMARY:Cahir Half Marathon & Relay 2018
DESCRIPTION:Mooreabbey Milers AC are back in Cahir for the 4th installment of the Cahir Half Marathon. Come enjoy 13.1 miles of the Premier county’s quaint countryside on Saturday July 7th at 2pm.  \nThis race will start and finish in the shadow of the impressive Cahir Castle. Online entry incls: chip timing\, bespoke medal\, quality goody bag\, fresh berries\, physio & showers.  \nPrize money Male & Female: 1st €300\, 2nd €200\, 3rd €100. Category prizes o/40\, o/50\, 0/60\, 0/70 male & female. Lots of spot prizes also. Free family entertainment and music at the finish line. Race headquarters will be in Cahir House Hotel.  \nLink to the route below. *Only a 70m overall height gain over the 13.1 miles. Great course on a good road surface. Fast times to be had with great variety and stunning views along the way. \nhttps://www.strava.com/activities/939946727 \nRelay Event: \nThe Relay consists of teams of two\, with each person running 6.5 miles each. With the clock ticking it will be a joint effort to get the best possible time! There will be a prize for the winning team as well as the glory of course! \nEach participant of the event (Half marathon and Relay) will receive their very own Cahir Half Marathon & Relay buff!
URL:https://www.runireland.com/events/cahir-half-marathon-2018/
CATEGORIES:Half Marathon
ATTACH;FMTTYPE=image/jpeg:https://www.runireland.com/wp-content/uploads/2017/12/cahir_start_0.jpg
ORGANIZER;CN="Louise":MAILTO:cahirhalfmarathon@gmail.com
END:VEVENT
END:VCALENDAR