BEGIN:VCALENDAR
VERSION:2.0
PRODID:-//RunIreland.com - ECPv6.5.1.5//NONSGML v1.0//EN
CALSCALE:GREGORIAN
METHOD:PUBLISH
X-ORIGINAL-URL:https://www.runireland.com
X-WR-CALDESC:Events for RunIreland.com
REFRESH-INTERVAL;VALUE=DURATION:PT1H
X-Robots-Tag:noindex
X-PUBLISHED-TTL:PT1H
BEGIN:VTIMEZONE
TZID:Europe/Dublin
BEGIN:STANDARD
TZOFFSETFROM:+0000
TZOFFSETTO:+0100
TZNAME:IST
DTSTART:20180325T010000
END:STANDARD
BEGIN:DAYLIGHT
TZOFFSETFROM:+0100
TZOFFSETTO:+0000
TZNAME:GMT
DTSTART:20181028T010000
END:DAYLIGHT
END:VTIMEZONE
BEGIN:VEVENT
DTSTART;TZID=Europe/Dublin:20180819T120000
DTEND;TZID=Europe/Dublin:20180819T140000
DTSTAMP:20260419T195019
CREATED:20180523T093448Z
LAST-MODIFIED:20180523T174419Z
UID:170234-1534680000-1534687200@www.runireland.com
SUMMARY:Inflatable Colour Run - Mullingar\, Co. Westmeath 2018
DESCRIPTION:The Inflatable Colour Run is about to bounce into Westmeath this Summer! \nThis is ONE EVENT YOU DON’T WANT TO MISS! \nThe very best parts of Inflatable runs and Colour Runs\, combined\, to make one EPIC day out\, suitable for abilities. \nArrive dressed in white (or fancy dress if you’re really up for fun!) enjoy all the fun\, colour and music of the Start Line Party\, then walk\, run\, dance or bounce your way around the route\, making your way through the colour stations and of course the Fun Inflatables! \nLaugh as we celebrate taking part with some music and even more colour at the finish line! \nAt the end\, we have a unique 2018 medal for each and every participant to add to their collection! Suitable for guys and girls\, adults and children\, runners and walkers.. if you love fun\, you will enjoy this event!
URL:https://www.runireland.com/events/inflatable-colour-run-mullingar-co-westmeath-2018/
CATEGORIES:Kids Race,Other
ATTACH;FMTTYPE=image/png:https://www.runireland.com/wp-content/uploads/2018/05/General-image-Colour-Run-1.png
END:VEVENT
BEGIN:VEVENT
DTSTART;TZID=Europe/Dublin:20180805T140000
DTEND;TZID=Europe/Dublin:20180805T160000
DTSTAMP:20260419T195019
CREATED:20180523T093158Z
LAST-MODIFIED:20180523T174216Z
UID:170232-1533477600-1533484800@www.runireland.com
SUMMARY:Inflatable Colour Run - Killarney Co. Kerry 2018
DESCRIPTION:The Inflatable Colour Run is about to bounce into Kerry this Summer! \nThis is ONE EVENT YOU DON’T WANT TO MISS! \nThe very best parts of Inflatable runs and Colour Runs\, combined\, to make one EPIC day out\, suitable for all abilities. \nArrive dressed in white (or fancy dress if you’re really up for fun!) enjoy all the fun\, colour and music of the Start Line Party\, then walk\, run\, dance or bounce your way around the route\, making your way through the colour stations and of course the Fun Inflatables! \nLaugh as we celebrate taking part with some music and even more colour at the finish line! \nAt the end\, we have a unique 2018 medal for each and every participant to add to their collection! Suitable for guys and girls\, adults and children\, runners and walkers.. if you love fun\, you will enjoy this event!
URL:https://www.runireland.com/events/inflatable-colour-run-killarney-co-kerry-2018/
CATEGORIES:Kids Race,Other
ATTACH;FMTTYPE=image/png:https://www.runireland.com/wp-content/uploads/2018/05/General-image-Colour-Run-1.png
END:VEVENT
BEGIN:VEVENT
DTSTART;TZID=Europe/Dublin:20180729T120000
DTEND;TZID=Europe/Dublin:20180729T140000
DTSTAMP:20260419T195019
CREATED:20180523T092913Z
LAST-MODIFIED:20180710T111652Z
UID:170228-1532865600-1532872800@www.runireland.com
SUMMARY:Inflatable Colour Run - Downpatrick Co. Down 2018
DESCRIPTION:The Inflatable Colour Run is about to bounce into Co. Down this Summer! \nThis is ONE EVENT YOU DON’T WANT TO MISS! \nThe very best parts of Inflatable runs and Colour Runs\, combined\, to make one EPIC day out\, suitable for all abilities. \nArrive dressed in white (or fancy dress if you’re really up for fun!) enjoy all the fun\, colour and music of the Start Line Party\, then walk\, run\, dance or bounce your way around the route\, making your way through the colour stations and of course the Fun Inflatables! \nLaugh as we celebrate taking part with some music and even more colour at the finish line! \nAt the end\, we have a unique 2018 medal for each and every participant to add to their collection! Suitable for guys and girls\, adults and children\, runners and walkers.. if you love fun\, you will enjoy this event!
URL:https://www.runireland.com/events/inflatable-colour-run-downpatrick-co-down-2018/
CATEGORIES:Kids Race,Other
ATTACH;FMTTYPE=image/png:https://www.runireland.com/wp-content/uploads/2018/05/General-image-Colour-Run-1.png
END:VEVENT
BEGIN:VEVENT
DTSTART;TZID=Europe/Dublin:20180722T120000
DTEND;TZID=Europe/Dublin:20180722T140000
DTSTAMP:20260419T195019
CREATED:20180523T092137Z
LAST-MODIFIED:20180523T173417Z
UID:170224-1532260800-1532268000@www.runireland.com
SUMMARY:Inflatable Colour Run - Galway 2018
DESCRIPTION:The Inflatable Colour Run is about to bounce into Galway this Summer! \nThis is ONE EVENT YOU DON’T WANT TO MISS! \nThe very best parts of Inflatable runs and Colour Runs\, combined\,  to make one EPIC day out\, suitable for all abilities. \nArrive dressed in white (or fancy dress if you’re really up for fun!) enjoy all the fun\, colour and music of the Start Line Party\, then walk\, run\, dance or bounce your way around the route\, making your way through the colour stations and of course the Fun Inflatables! \nLaugh as we celebrate taking part with some music and even more colour at the finish line! \nAt the end\, we have a unique 2018 medal for each and every participant to add to their collection! Suitable for guys and girls\, adults and children\, runners and walkers.. if you love fun\, you will enjoy this event!
URL:https://www.runireland.com/events/inflatable-colour-run-galway-2018/
CATEGORIES:Kids Race,Other
ATTACH;FMTTYPE=image/png:https://www.runireland.com/wp-content/uploads/2018/05/General-image-Colour-Run-1.png
END:VEVENT
BEGIN:VEVENT
DTSTART;TZID=Europe/Dublin:20180714T120000
DTEND;TZID=Europe/Dublin:20180714T140000
DTSTAMP:20260419T195019
CREATED:20180523T091853Z
LAST-MODIFIED:20180523T173130Z
UID:170221-1531569600-1531576800@www.runireland.com
SUMMARY:Inflatable Colour Run - Clonmel\, Tipperary 2018
DESCRIPTION:The Inflatable Colour Run is about to bounce into Tipperary this Summer! \nThis is ONE EVENT YOU DON’T WANT TO MISS! \nThe very best parts of Inflatable runs and Colour Runs\, combined\,  to make one EPIC day out\, suitable for all abilities. \nArrive dressed in white (or fancy dress if you’re really up for fun!) enjoy all the fun\, colour and music of the Start Line Party\, then walk\, run\, dance or bounce your way around the route\, making your way through the colour stations and of course the Fun Inflatables! \nLaugh as we celebrate taking part with some music and even more colour at the finish line! \nAt the end\, we have a unique 2018 medal for each and every participant to add to their collection! Suitable for guys and girls\, adults and children\, runners and walkers.. if you love fun\, you will enjoy this event!
URL:https://www.runireland.com/events/inflatable-colour-run-clonmel-tipperary-2018/
CATEGORIES:Kids Race,Other
ATTACH;FMTTYPE=image/png:https://www.runireland.com/wp-content/uploads/2018/05/General-image-Colour-Run-1.png
END:VEVENT
BEGIN:VEVENT
DTSTART;TZID=Europe/Dublin:20180708T120000
DTEND;TZID=Europe/Dublin:20180708T140000
DTSTAMP:20260419T195019
CREATED:20180523T085757Z
LAST-MODIFIED:20180529T130425Z
UID:170205-1531051200-1531058400@www.runireland.com
SUMMARY:Inflatable Colour Run - Punchestown Kildare 12pm
DESCRIPTION:The Inflatable Colour Run is about to bounce into Kildare this Summer! \nThis is  ONE EVENT YOU DON’T WANT TO MISS! \nThe very best parts of Inflatable runs and Colour Runs\, combined\,  to make one EPIC day out\, suitable for all abilities. \nArrive dressed in white (or fancy dress if you’re really up for fun!) enjoy all the fun\, colour and music of the Start Line Party\,  then walk\, run\, dance or bounce your way around the route\, making your way through the colour stations and of course the Fun Inflatables! \nLaugh as we celebrate taking part with some music and even more colour at the finish line! \nAt the end\, we have a unique 2018 medal for each and every participant to add to their collection! Suitable for guys and girls\, adults and children\, runners and walkers.. if you love fun\, you will enjoy this event!
URL:https://www.runireland.com/events/inflatable-colour-run-punchestown-kildare/
CATEGORIES:Other,Road Race
ATTACH;FMTTYPE=image/png:https://www.runireland.com/wp-content/uploads/2018/05/General-image-Colour-Run-1.png
END:VEVENT
BEGIN:VEVENT
DTSTART;TZID=Europe/Dublin:20180624T120000
DTEND;TZID=Europe/Dublin:20180624T140000
DTSTAMP:20260419T195019
CREATED:20180522T114212Z
LAST-MODIFIED:20180531T101620Z
UID:170177-1529841600-1529848800@www.runireland.com
SUMMARY:Inflatable Colour Run-CORK Racecourse\, Mallow 2018
DESCRIPTION:The Inflatable Colour Run is about to bounce into Mallow this Summer! \nThis is ONE EVENT YOU DON’T WANT TO MISS! \nThe very best parts of Inflatable runs and Colour Runs\, combined\, to make one EPIC day out\, suitable for all abilities. \nArrive dressed in white (or fancy dress if you’re really up for fun!) enjoy all the fun\, colour and music of the Start Line Party\, then walk\, run\, dance or bounce your way around the route\, making your way through the colour stations and of course the Fun Inflatables! \nLaugh as we celebrate taking part with some music and even more colour at the finish line! \nAt the end\, we have a unique 2018 medal for each and every participant to add to their collection! Suitable for guys and girls\, adults and children\, runners and walkers.. if you love fun\, you will enjoy this event!
URL:https://www.runireland.com/events/inflatable-colour-run-cork-racecourse-mallow-2018/
CATEGORIES:Kids Race,Other
ATTACH;FMTTYPE=image/png:https://www.runireland.com/wp-content/uploads/2018/05/General-image-Colour-Run-1.png
END:VEVENT
BEGIN:VEVENT
DTSTART;TZID=Europe/Dublin:20180617T120000
DTEND;TZID=Europe/Dublin:20180617T140000
DTSTAMP:20260419T195019
CREATED:20180522T113605Z
LAST-MODIFIED:20180529T085035Z
UID:170175-1529236800-1529244000@www.runireland.com
SUMMARY:Inflatable Colour Run-Tramore\, Co Waterford 2018
DESCRIPTION:The Inflatable Colour Run is about to bounce into Waterford this Summer! \nThis is ONE EVENT YOU DON’T WANT TO MISS! \nThe very best parts of Inflatable runs and Colour Runs\, combined\, to make one EPIC day out\, suitable for all abilities. \nArrive dressed in white (or fancy dress if you’re really up for fun!) enjoy all the fun\, colour and music of the Start Line Party\, then walk\, run\, dance or bounce your way around the route\, making your way through the colour stations and of course the Fun Inflatables! \nLaugh as we celebrate taking part with some music and even more colour at the finish line! \nAt the end\, we have a unique 2018 medal for each and every participant to add to their collection! Suitable for guys and girls\, adults and children\, runners and walkers.. if you love fun\, you will enjoy this event!
URL:https://www.runireland.com/events/inflatable-colour-run-tramore-co-waterford-2018/
CATEGORIES:Kids Race,Other
ATTACH;FMTTYPE=image/png:https://www.runireland.com/wp-content/uploads/2018/05/General-image-Colour-Run-1.png
END:VEVENT
END:VCALENDAR