BEGIN:VCALENDAR
VERSION:2.0
PRODID:-//RunIreland.com - ECPv6.5.1.5//NONSGML v1.0//EN
CALSCALE:GREGORIAN
METHOD:PUBLISH
X-WR-CALNAME:RunIreland.com
X-ORIGINAL-URL:https://www.runireland.com
X-WR-CALDESC:Events for RunIreland.com
REFRESH-INTERVAL;VALUE=DURATION:PT1H
X-Robots-Tag:noindex
X-PUBLISHED-TTL:PT1H
BEGIN:VTIMEZONE
TZID:Europe/Dublin
BEGIN:STANDARD
TZOFFSETFROM:+0000
TZOFFSETTO:+0100
TZNAME:IST
DTSTART:20190331T010000
END:STANDARD
BEGIN:DAYLIGHT
TZOFFSETFROM:+0100
TZOFFSETTO:+0000
TZNAME:GMT
DTSTART:20191027T010000
END:DAYLIGHT
END:VTIMEZONE
BEGIN:VEVENT
DTSTART;TZID=Europe/Dublin:20190414T110000
DTEND;TZID=Europe/Dublin:20190414T130000
DTSTAMP:20260425T013324
CREATED:20190222T143312Z
LAST-MODIFIED:20190222T143336Z
UID:175889-1555239600-1555246800@www.runireland.com
SUMMARY:Coolkenno 5K & 10K Challenge Run/Walk
DESCRIPTION:The Coolkenno 5k & 10k Challenge \nSunday 14th April 2019 \nStarts and Finishes in Coolkenno Community Field \nRegistration from 9.30am \nRace Starts at 11.00am \nThis is a great family event with a distance to suit everyone\, walkers are welcome. \nChip timed by JustRuns Events \nCash Prizes \n10k Adult – 1st €100 – 2nd €50 \n5K Adult – 1st €75 – 2nd €25 \nPrizes for family and spot prizes for down the field finishers \nShowers & Changing rooms available \nRefreshments afterwards. \nSupported by Rossiter tarmacadam & asphalt LTD.
URL:https://www.runireland.com/events/coolkenno-5k-10k-challenge-run-walk/
LOCATION:Coolkenno\, Co. Wicklow
CATEGORIES:10K,5K
ATTACH;FMTTYPE=image/jpeg:https://www.runireland.com/wp-content/uploads/2019/02/poster-2-coolkenno.jpg
END:VEVENT
END:VCALENDAR