BEGIN:VCALENDAR
VERSION:2.0
PRODID:-//RunIreland.com - ECPv6.5.1.5//NONSGML v1.0//EN
CALSCALE:GREGORIAN
METHOD:PUBLISH
X-ORIGINAL-URL:https://www.runireland.com
X-WR-CALDESC:Events for RunIreland.com
REFRESH-INTERVAL;VALUE=DURATION:PT1H
X-Robots-Tag:noindex
X-PUBLISHED-TTL:PT1H
BEGIN:VTIMEZONE
TZID:Europe/Dublin
BEGIN:STANDARD
TZOFFSETFROM:+0000
TZOFFSETTO:+0100
TZNAME:IST
DTSTART:20190331T010000
END:STANDARD
BEGIN:DAYLIGHT
TZOFFSETFROM:+0100
TZOFFSETTO:+0000
TZNAME:GMT
DTSTART:20191027T010000
END:DAYLIGHT
END:VTIMEZONE
BEGIN:VEVENT
DTSTART;TZID=Europe/Dublin:20190331T110000
DTEND;TZID=Europe/Dublin:20190331T130000
DTSTAMP:20260425T160930
CREATED:20190208T214025Z
LAST-MODIFIED:20190412T131208Z
UID:175612-1554030000-1554037200@www.runireland.com
SUMMARY:Wine On The Line 5K & 10K
DESCRIPTION:JustRuns Events \nare thrilled to announce the return of the incredibly popular Wine on the Line 5k & 10k race (AAI licenced) to the running calendar for Mother’s Day Sunday 31st March 2019 \nJustRuns Events are teaming up again this year with the Thoroughbred run Kildare team to bring you what is affectionately known now and thrilling for us to hear  “The Mother and Father of all events” in the beautiful heritage town of Kildare\, taking in some of our fabulous surrounding countryside too. \nKildare town has any amount of attractions and fine restaurants where you will undoubtedly have the most memorable Mother’s Day experience\, not to mention Kildare Village Outlet for any post-race retail therapy! If you participated over the last few years in either the Wine on the line or the Thoroughbred run Kildare you know you will experience an event organised and delivered to unrivalled standards. \nWe promise a fun-filled day for the whole family but be assured we will be paying particular attention to pampering all the running mammies out there. We want to see more Dads getting involved this year too. No family event would be a family event without including the children so we know the kids are going to love this year’s medal. \nPrizes include 1st & 2nd Male and Female over each distance \nFirst Female and Male Child in the 5K \nRace will start at 11am Sharp \nBespoke medal for all finishers \nFull 750ML bottle of red or white wine for those who choose the wine option \nAAI licensed and measured course
URL:https://www.runireland.com/events/wine-on-the-line-5k-10k/2019-03-31/
LOCATION:St. Bridgets Park\, Kildare Town\, Co. Kildare\, Kildare Town\, Co. Kildare
CATEGORIES:10K,5K
ATTACH;FMTTYPE=image/png:https://www.runireland.com/wp-content/uploads/2019/02/Winnerwotl2363.png
ORGANIZER;CN="JustRuns Events":MAILTO:timing@justrunsevents.ie
END:VEVENT
END:VCALENDAR