BEGIN:VCALENDAR
VERSION:2.0
PRODID:-//RunIreland.com - ECPv6.5.1.5//NONSGML v1.0//EN
CALSCALE:GREGORIAN
METHOD:PUBLISH
X-ORIGINAL-URL:https://www.runireland.com
X-WR-CALDESC:Events for RunIreland.com
REFRESH-INTERVAL;VALUE=DURATION:PT1H
X-Robots-Tag:noindex
X-PUBLISHED-TTL:PT1H
BEGIN:VTIMEZONE
TZID:Europe/Dublin
BEGIN:STANDARD
TZOFFSETFROM:+0000
TZOFFSETTO:+0100
TZNAME:IST
DTSTART:20180325T010000
END:STANDARD
BEGIN:DAYLIGHT
TZOFFSETFROM:+0100
TZOFFSETTO:+0000
TZNAME:GMT
DTSTART:20181028T010000
END:DAYLIGHT
END:VTIMEZONE
BEGIN:VEVENT
DTSTART;TZID=Europe/Dublin:20181107T200000
DTEND;TZID=Europe/Dublin:20181107T213000
DTSTAMP:20260421T185133
CREATED:20180918T091001Z
LAST-MODIFIED:20181018T153027Z
UID:171848-1541620800-1541626200@www.runireland.com
SUMMARY:Run in the Dark Dublin
DESCRIPTION:Run in the Dark 2018 kicks off in Dublin on 7th November at 8.00pm. Join the Mark Pollock Trust and thousands of fellow runners as we light up the night and take over the streets of the city centre for Dublin’s largest night run\, passing landmarks such as Custom House Quay and the Samuel Beckett Bridge. \nDESCRIPTION \nEvery November\, as darkness sweeps the globe\, thousands of people in 50 cities across the world will pull on their running shoes and red flashing armbands and hit the streets to Run in the Dark. \nYou can choose between running 5km or 10km… and if your running shoes are a little dusty\, you can even walk the 5km route. \nThe Dublin event will leave from CHQ\, Dublin city centre at 8.00pm. \nBook your entry HERE today \nWHY YOU SHOULD TAKE PART \nWe know there are lots of running events out there\, so why choose Run in the Dark?! \nApart from being a unique night run taking place in iconic locations around the world\, there’s also an important cause fuelling this fundraising run. Run in the Dark is a global running movement helping to cure paralysis in our lifetime. \nRun in the Dark is organised by the Mark Pollock Trust\, named after blind Irish adventure athlete Mark Pollock. Unbroken by blindness in 1998\, Mark Pollock suffered a catastrophic spinal cord injury in 2010 when he fell from a second story window that left him paralysed. As Mark strives to walk again\, his most complex journey is ahead of him – to find a cure for paralysis. \nBy taking part in Run in the Dark you are enabling ground-breaking collaborations and research which could change the lives of millions of paralysed people around the world. \nEvery donation\, every step\, every study\, moves us towards a cure for paralysis and enabling people to walk again. \nBook your Entry HERE
URL:https://www.runireland.com/events/run-in-the-dark-dublin-2/2018-11-07/
LOCATION:dublin city\, Dublin city centre\, Dublin\, Ireland
CATEGORIES:10K,5K
ATTACH;FMTTYPE=image/jpeg:https://www.runireland.com/wp-content/uploads/2018/09/300x250-Dublin-regular-1.jpg
ORGANIZER;CN="Run in the Dark":MAILTO:info@runinthedark.org
END:VEVENT
END:VCALENDAR