BEGIN:VCALENDAR
VERSION:2.0
PRODID:-//RunIreland.com - ECPv6.5.1.5//NONSGML v1.0//EN
CALSCALE:GREGORIAN
METHOD:PUBLISH
X-ORIGINAL-URL:https://www.runireland.com
X-WR-CALDESC:Events for RunIreland.com
REFRESH-INTERVAL;VALUE=DURATION:PT1H
X-Robots-Tag:noindex
X-PUBLISHED-TTL:PT1H
BEGIN:VTIMEZONE
TZID:Europe/Dublin
BEGIN:STANDARD
TZOFFSETFROM:+0000
TZOFFSETTO:+0100
TZNAME:IST
DTSTART:20230326T010000
END:STANDARD
BEGIN:DAYLIGHT
TZOFFSETFROM:+0100
TZOFFSETTO:+0000
TZNAME:GMT
DTSTART:20231029T010000
END:DAYLIGHT
BEGIN:STANDARD
TZOFFSETFROM:+0000
TZOFFSETTO:+0100
TZNAME:IST
DTSTART:20240331T010000
END:STANDARD
BEGIN:DAYLIGHT
TZOFFSETFROM:+0100
TZOFFSETTO:+0000
TZNAME:GMT
DTSTART:20241027T010000
END:DAYLIGHT
BEGIN:STANDARD
TZOFFSETFROM:+0000
TZOFFSETTO:+0100
TZNAME:IST
DTSTART:20250330T010000
END:STANDARD
BEGIN:DAYLIGHT
TZOFFSETFROM:+0100
TZOFFSETTO:+0000
TZNAME:GMT
DTSTART:20251026T010000
END:DAYLIGHT
END:VTIMEZONE
BEGIN:VEVENT
DTSTART;TZID=Europe/Dublin:20230805T080000
DTEND;TZID=Europe/Dublin:20230805T160000
DTSTAMP:20260425T142512
CREATED:20230313T104322Z
LAST-MODIFIED:20230313T104322Z
UID:186286-1691222400-1691251200@www.runireland.com
SUMMARY:Waterfoot to Ballycastle 2023
DESCRIPTION:Trail Marathon with 2 ITRA trail points \nThis is a spectacular and challenging course\, You will run from Waterfoot to Ballycastle along some fantastic trails that will take you right up through Glenariff Forest\, over Trostan\, with amazing views across the North coast. \nThis course is approximately 90% trail. \nCut off – 8hours \nYou must make your own way to Ballycastle for registration and collection of your race number\, road book etc. Where we will then take you by bus to the start line at Waterfoot\, here you will begin your Marathon journey\, running all the way back to Ballycastle. \ninfo@werunwildni.com
URL:https://www.runireland.com/events/waterfoot-to-ballycastle-2023/
LOCATION:Ballycastle Co.Antrim Northern Ireland\, Quay Road\, Ballycastle\, BT54\, United Kingdom
CATEGORIES:Trail / Off Road Races,Ultra Marathons
ATTACH;FMTTYPE=image/png:https://www.runireland.com/wp-content/uploads/2023/03/Screenshot-48.png
ORGANIZER;CN="We Run Wild NI Ltd":MAILTO:Info@werunwildni.com
END:VEVENT
BEGIN:VEVENT
DTSTART;TZID=Europe/Dublin:20230812T060000
DTEND;TZID=Europe/Dublin:20230812T233000
DTSTAMP:20260425T142512
CREATED:20221129T123553Z
LAST-MODIFIED:20221219T105312Z
UID:185963-1691820000-1691883000@www.runireland.com
SUMMARY:Connemara 100 2023
DESCRIPTION:Are you ready to be amazed?\n\n\n\n\nThe Course is Fabulous\n\n\n\n\ntaking participants from Clifden through Letterfrack\,\nLeitirgeish\, the Inagh alley\, Maam Cross\, Leenane\, Inagh Valley again\,\nthen on to Roundstone\, Ballyconeely and back to Clifden to complete 100 miles. \n\nWebsite click here
URL:https://www.runireland.com/events/connemara-100-2023/
CATEGORIES:Ultra Marathons
END:VEVENT
BEGIN:VEVENT
DTSTART;TZID=Europe/Dublin:20230923T063000
DTEND;TZID=Europe/Dublin:20230923T170000
DTSTAMP:20260425T142512
CREATED:20221219T115250Z
LAST-MODIFIED:20221219T115250Z
UID:186034-1695450600-1695488400@www.runireland.com
SUMMARY:Seven Sisters Skyline 2023
DESCRIPTION:An EPIC Mountain running event in County Donegal\, Ireland.\nThe Seven Sisters Skyline takes place Saturday\, September 23\, 2023.\nOur main event\, the Skyline is 55km long with 4\,000m+ of elevation gain. The Sky Challenge is 30km in length.\n\nRegister now CLICK HERE
URL:https://www.runireland.com/events/seven-sisters-skyline-2023/
CATEGORIES:Trail / Off Road Races,Ultra Marathons
ATTACH;FMTTYPE=image/jpeg:https://www.runireland.com/wp-content/uploads/2022/12/sevensis1-scaled.jpg
END:VEVENT
BEGIN:VEVENT
DTSTART;TZID=Europe/Dublin:20231204T080000
DTEND;TZID=Europe/Dublin:20231204T170000
DTSTAMP:20260425T142512
CREATED:20231205T175555Z
LAST-MODIFIED:20231205T175555Z
UID:187974-1701676800-1701709200@www.runireland.com
SUMMARY:Royal Canal Run Longford 2024
DESCRIPTION:A beautiful running event on the banks of the Royal Canal Longford. 10k\, Half Marathon\, Full Marathon & Ultra Marathon options available.\nFlat and fast route – Ideal for a PB with tarmac surface throughout. Bespoke Medal for all finishers. Always a sell out event so register early to avoid disappointment.\n\nRegister Now CLICK HERE
URL:https://www.runireland.com/events/royal-canal-run-longford-2024/
CATEGORIES:10K,Full Marathon,Half Marathon,Ultra Marathons
END:VEVENT
BEGIN:VEVENT
DTSTART;TZID=Europe/Dublin:20240420T080000
DTEND;TZID=Europe/Dublin:20240420T080000
DTSTAMP:20260425T142512
CREATED:20231220T171436Z
LAST-MODIFIED:20231220T171436Z
UID:187885-1713600000-1713600000@www.runireland.com
SUMMARY:Royal Canal Run Longford 2024
DESCRIPTION:  \n  \nA beautiful running event on the banks of the Royal Canal Longford. 10k\, Half Marathon\, Full Marathon and Ultra Marathon options available.\nFlat and fast. Ideal route for a PB with tarmac surface throughout. Bespoke Medal for all finishers and option to purchase Tshirt. Always a sell out event so register early to avoid disappointment.\n\nFuel4sport@gmail.com\nRegister Now CLICK HERE
URL:https://www.runireland.com/events/royal-canal-run-longford-2024-2/
CATEGORIES:10K,Full Marathon,Half Marathon,Ultra Marathons
ATTACH;FMTTYPE=image/jpeg:https://www.runireland.com/wp-content/uploads/2023/12/royal-canal-scaled.jpg
END:VEVENT
BEGIN:VEVENT
DTSTART;TZID=Europe/Dublin:20240525T070000
DTEND;TZID=Europe/Dublin:20240525T180000
DTSTAMP:20260425T142512
CREATED:20230906T163250Z
LAST-MODIFIED:20230906T163250Z
UID:187085-1716620400-1716660000@www.runireland.com
SUMMARY:Wild Atlantic Ultra 2024
DESCRIPTION:aRace summary: Take in the beautiful scenery of Co Mayo Ireland\, during this 50-miler for the Wild Atlantic Ultra. The run takes you around stunning imagery such as Croagh Patrick\, Sheefrey Pass\, Tawynard Forest\, Doolough Valley\, Clew Bay and Atlantic Coast. The Wild Atlantic Ultra\, “It’s more than a Ultra – it’s a scenic adventure where people make friends and bond while often achieving a lifelong goal!” \nIt’s literally a run around Croagh Patrick! \nHome \n \n 
URL:https://www.runireland.com/events/wild-atlantic-ultra-2024/
LOCATION:Louisburgh\, Lousiburgh National School\, Mayo\, Ireland
CATEGORIES:Ultra Marathons
ATTACH;FMTTYPE=image/jpeg:https://www.runireland.com/wp-content/uploads/2023/07/282149461_1080978075831870_4065824471170803963_n-scaled.jpg
ORGANIZER;CN="Wild Atlantic Ultra":MAILTO:info@wau50.com
GEO:53.7169121;-9.8739185
X-APPLE-STRUCTURED-LOCATION;VALUE=URI;X-ADDRESS=Louisburgh Lousiburgh National School Mayo Ireland;X-APPLE-RADIUS=500;X-TITLE=Lousiburgh National School:geo:-9.8739185,53.7169121
END:VEVENT
BEGIN:VEVENT
DTSTART;TZID=Europe/Dublin:20240601T070000
DTEND;TZID=Europe/Dublin:20240601T170000
DTSTAMP:20260425T142512
CREATED:20240513T074949Z
LAST-MODIFIED:20240513T075319Z
UID:189014-1717225200-1717261200@www.runireland.com
SUMMARY:9th Tullaroan Marathon including Ultra\,Full\,Half Marathon\,10K and 5k
DESCRIPTION:Tullaroan Marathon including Ultra\,Full\,Half Marathon\,10K and 5k a distance to suit all the family\nTullaroan Marathon\nSat 1st June 2024\n\nTullaroan Hills gave me some thrills!\nCome and join us at our family friendly event\nwith a choice of 5 distances\nClick Here To Book \n10:15   5k  race\n10:00  10k race\n09:30 Half Marathon (13.1 miles)\n08:30 Full Marathon (26.2 miles)\n07:00 Ultra Marathon (39.3 miles) \nPrices \n5k                         €10\n10k                       €20\nHalf Marathon   €25\nFull Marathon    €40\nUltra                    €50\nClick Here To Book \nTullaroan Athletics Club is located in the village of Tullaroan in Co.Kilkenny. Each year the club holds a Ultra\, Full\, Half Marathon\, 10k and 5k.This a family-friendly event for every member of the family to enjoy.With camping facilities available\,camper van parking\,shower facilities\,ample parking for all taking part.\nAfter the event you can enjoy home baking with a cup of tea or coffee\, or purchase a beer in the bar at the finish line.With a bespoke Medal for all finishers and the now famous Tullaroan t-shirt for all that finish the Ultra\,Full\,Half Marathon and 10K. So come on and enjoy (The Thrills In The Tullaroan Hills)where our friendly event officials will warmly welcome you and look after you for the day. \n  \nContact us CLICK HERE \n\n\n\ntullaroanmarathon@gmail.com
URL:https://www.runireland.com/events/9th-tullaroan-marathon-including-ultrafullhalf-marathon10k-and-5k/
CATEGORIES:10K,5K,Full Marathon,Half Marathon,Ultra Marathons
ATTACH;FMTTYPE=image/jpeg:https://www.runireland.com/wp-content/uploads/2024/05/tulla-scaled.jpg
END:VEVENT
BEGIN:VEVENT
DTSTART;TZID=Europe/Dublin:20240608T080000
DTEND;TZID=Europe/Dublin:20240608T170000
DTSTAMP:20260425T142512
CREATED:20240129T175112Z
LAST-MODIFIED:20240521T100206Z
UID:188106-1717833600-1717866000@www.runireland.com
SUMMARY:FOREST MARATHON 2024 - 10KM\, Half Marathon\, Full Marathon and 50KM
DESCRIPTION:  \n\n\nFOREST MARATHON – 10KM\, Half Marathon\, Full Marathon and 50KM\nJune 8th 2024 \n\n\n\n\nTaking part in the Portumna Forest Marathon is a spiritual experience – while it tests the body physically\, it soothes the mind in equal proportions. The runners\, crew\, and marshalls blend in with the environment and although there is plenty of clapping and encouragement for the runners there is a serenity about the place that bows down to the beauty of the natural environment. \nEveryone talks a little softer and smiles a little wider. \nWhen those inevitable Irish rain showers put in their short but frequent appearances\, everyone looks up at the raindrops through the leaves and marvels at the reflections of the rainbows in the puddles – appreciating the fact that the rain had a vital role to play in providing such a luscious backdrop for the run. \nRegister Now CLICK HERE
URL:https://www.runireland.com/events/forest-marathon-2024-10km-half-marathon-full-marathon-and-50km/
CATEGORIES:10K,Full Marathon,Half Marathon,Ultra Marathons
END:VEVENT
BEGIN:VEVENT
DTSTART;TZID=Europe/Dublin:20240924T063000
DTEND;TZID=Europe/Dublin:20240924T170000
DTSTAMP:20260425T142512
CREATED:20231005T162733Z
LAST-MODIFIED:20231005T164722Z
UID:187646-1727159400-1727197200@www.runireland.com
SUMMARY:Seven Sisters Skyline 2024
DESCRIPTION:Dunlewey\, Co. Donegal | Sept 21st 2024\n\n\n\n\n\n\n\n\nExcel Sports’ Seven Sisters Skyline 55km & 30km event has become Ireland’s premier mountain running event. It is also Ireland’s largest with its 500 participants. The event is run on a world class route which featured in the World Mountain Running World Cup in 2022. \nThe event race route runs along the top of all of the Seven Sisters in the Derryveagh mountains from Errigal to Muckish. The course is renowned for its variability in terrain and amazing beauty. \nThe event is for individuals\, women and men only. There are no team or age-related competitions. We have two distances for you to pick from\, which will you choose? \n\n\n\n\n\n\n\n55km\, 4\,000m+ elevation gain\n30km\, 2\,100m+ elevation gain\n\n\n\n\n\n\n\n\nNow you can purchase Cancellation Insurance – available at checkout allowing you to claim an 80% refund up until 3 days after the event finishes. \nThe Seven Sisters Skyline 30k and 55k races are part of the Ultra Trail du Mont-Blanc (UTMB) Index Race system. UTMB Index races contribute towards every Finishers UTMB Index in the corresponding category (20K\, 50K\, 100K or 100M) and gives privileged access to the UTMB World Series Events. \n\n\n\n\n  \nRegister Now CLICK HERE
URL:https://www.runireland.com/events/seven-sisters-skyline-2024/
CATEGORIES:Other,Ultra Marathons
END:VEVENT
BEGIN:VEVENT
DTSTART;TZID=Europe/Dublin:20250607T070000
DTEND;TZID=Europe/Dublin:20250607T170000
DTSTAMP:20260425T142512
CREATED:20241127T095000Z
LAST-MODIFIED:20241129T114822Z
UID:189667-1749279600-1749315600@www.runireland.com
SUMMARY:Forest Marathon 2025
DESCRIPTION:  \nThe Portumna Forest Marathon\, Half Marathon\, 10k & Ultra on 7 June 2025 in County Galway has a unique course with a distance for everyone. \nThe distances are run over a flat 5K loop within the Portumna Forest Park\, with extra distance added for the half marathon and full marathon. The course is run on tarmac roads and forest paths that are solid\, compacted\, even gravel. \nREGISTER NOW CLICK HERE \n  \n  \n \n  \nREGISTER NOW CLICK HERE
URL:https://www.runireland.com/events/forest-marathon-2025/
CATEGORIES:10K,Full Marathon,Half Marathon,Ultra Marathons
ATTACH;FMTTYPE=image/jpeg:https://www.runireland.com/wp-content/uploads/2024/11/forest.jpg
END:VEVENT
BEGIN:VEVENT
DTSTART;TZID=Europe/Dublin:20250913T083000
DTEND;TZID=Europe/Dublin:20250913T170000
DTSTAMP:20260425T142512
CREATED:20241018T093619Z
LAST-MODIFIED:20241018T093619Z
UID:189625-1757752200-1757782800@www.runireland.com
SUMMARY:Medieval Marathon 2025
DESCRIPTION:Kilkenny prepares for battle! \n\n\n\n\nKilkenny provides the historic backdrop for Ireland’s 5th Medieval Marathon. On the 13th of September 2025\, participants will set off from Ormonde Street (beside the Ormonde Hotel) for the Marathon\, 30K\, and Half Marathon\, and the 10K will start at St Francis Bridge (the new bridge). The route will take in some of the most historic sites in the medieval city before winding out the country roads\, making its way back to Kilkenny to finish in front of Butler Gallery in the heart of the city. All finishers will be rewarded with a bespoke medal and technical t-shirt to celebrate the battle victory! \n\nEarly Bird Price available until November 30th \nUse code – IAMINFOR25 for 15% off \nDistances and Start Times: \nFull Marathon: 8:30am\n30K 8:50am\nHalf Marathon: 9:20am\n10K: 10am \n\nEmail: \nmedievalmarathon@gmail.com \nFollow the event on Facebook: \n \nRegister Now CLICK HERE
URL:https://www.runireland.com/events/medieval-marathon-2025/
CATEGORIES:10K,Full Marathon,Half Marathon,Ultra Marathons
ATTACH;FMTTYPE=image/jpeg:https://www.runireland.com/wp-content/uploads/2024/10/medieval.jpg
END:VEVENT
END:VCALENDAR