BEGIN:VCALENDAR
VERSION:2.0
PRODID:-//RunIreland.com - ECPv6.5.1.5//NONSGML v1.0//EN
CALSCALE:GREGORIAN
METHOD:PUBLISH
X-WR-CALNAME:RunIreland.com
X-ORIGINAL-URL:https://www.runireland.com
X-WR-CALDESC:Events for RunIreland.com
REFRESH-INTERVAL;VALUE=DURATION:PT1H
X-Robots-Tag:noindex
X-PUBLISHED-TTL:PT1H
BEGIN:VTIMEZONE
TZID:Europe/Dublin
BEGIN:STANDARD
TZOFFSETFROM:+0000
TZOFFSETTO:+0100
TZNAME:IST
DTSTART:20240331T010000
END:STANDARD
BEGIN:DAYLIGHT
TZOFFSETFROM:+0100
TZOFFSETTO:+0000
TZNAME:GMT
DTSTART:20241027T010000
END:DAYLIGHT
BEGIN:STANDARD
TZOFFSETFROM:+0000
TZOFFSETTO:+0100
TZNAME:IST
DTSTART:20250330T010000
END:STANDARD
BEGIN:DAYLIGHT
TZOFFSETFROM:+0100
TZOFFSETTO:+0000
TZNAME:GMT
DTSTART:20251026T010000
END:DAYLIGHT
END:VTIMEZONE
BEGIN:VEVENT
DTSTART;TZID=Europe/Dublin:20240608T080000
DTEND;TZID=Europe/Dublin:20240608T170000
DTSTAMP:20260422T084846
CREATED:20240129T175112Z
LAST-MODIFIED:20240521T100206Z
UID:188106-1717833600-1717866000@www.runireland.com
SUMMARY:FOREST MARATHON 2024 - 10KM\, Half Marathon\, Full Marathon and 50KM
DESCRIPTION:  \n\n\nFOREST MARATHON – 10KM\, Half Marathon\, Full Marathon and 50KM\nJune 8th 2024 \n\n\n\n\nTaking part in the Portumna Forest Marathon is a spiritual experience – while it tests the body physically\, it soothes the mind in equal proportions. The runners\, crew\, and marshalls blend in with the environment and although there is plenty of clapping and encouragement for the runners there is a serenity about the place that bows down to the beauty of the natural environment. \nEveryone talks a little softer and smiles a little wider. \nWhen those inevitable Irish rain showers put in their short but frequent appearances\, everyone looks up at the raindrops through the leaves and marvels at the reflections of the rainbows in the puddles – appreciating the fact that the rain had a vital role to play in providing such a luscious backdrop for the run. \nRegister Now CLICK HERE
URL:https://www.runireland.com/events/forest-marathon-2024-10km-half-marathon-full-marathon-and-50km/
CATEGORIES:10K,Full Marathon,Half Marathon,Ultra Marathons
END:VEVENT
BEGIN:VEVENT
DTSTART;TZID=Europe/Dublin:20240924T063000
DTEND;TZID=Europe/Dublin:20240924T170000
DTSTAMP:20260422T084846
CREATED:20231005T162733Z
LAST-MODIFIED:20231005T164722Z
UID:187646-1727159400-1727197200@www.runireland.com
SUMMARY:Seven Sisters Skyline 2024
DESCRIPTION:Dunlewey\, Co. Donegal | Sept 21st 2024\n\n\n\n\n\n\n\n\nExcel Sports’ Seven Sisters Skyline 55km & 30km event has become Ireland’s premier mountain running event. It is also Ireland’s largest with its 500 participants. The event is run on a world class route which featured in the World Mountain Running World Cup in 2022. \nThe event race route runs along the top of all of the Seven Sisters in the Derryveagh mountains from Errigal to Muckish. The course is renowned for its variability in terrain and amazing beauty. \nThe event is for individuals\, women and men only. There are no team or age-related competitions. We have two distances for you to pick from\, which will you choose? \n\n\n\n\n\n\n\n55km\, 4\,000m+ elevation gain\n30km\, 2\,100m+ elevation gain\n\n\n\n\n\n\n\n\nNow you can purchase Cancellation Insurance – available at checkout allowing you to claim an 80% refund up until 3 days after the event finishes. \nThe Seven Sisters Skyline 30k and 55k races are part of the Ultra Trail du Mont-Blanc (UTMB) Index Race system. UTMB Index races contribute towards every Finishers UTMB Index in the corresponding category (20K\, 50K\, 100K or 100M) and gives privileged access to the UTMB World Series Events. \n\n\n\n\n  \nRegister Now CLICK HERE
URL:https://www.runireland.com/events/seven-sisters-skyline-2024/
CATEGORIES:Other,Ultra Marathons
END:VEVENT
BEGIN:VEVENT
DTSTART;TZID=Europe/Dublin:20250607T070000
DTEND;TZID=Europe/Dublin:20250607T170000
DTSTAMP:20260422T084846
CREATED:20241127T095000Z
LAST-MODIFIED:20241129T114822Z
UID:189667-1749279600-1749315600@www.runireland.com
SUMMARY:Forest Marathon 2025
DESCRIPTION:  \nThe Portumna Forest Marathon\, Half Marathon\, 10k & Ultra on 7 June 2025 in County Galway has a unique course with a distance for everyone. \nThe distances are run over a flat 5K loop within the Portumna Forest Park\, with extra distance added for the half marathon and full marathon. The course is run on tarmac roads and forest paths that are solid\, compacted\, even gravel. \nREGISTER NOW CLICK HERE \n  \n  \n \n  \nREGISTER NOW CLICK HERE
URL:https://www.runireland.com/events/forest-marathon-2025/
CATEGORIES:10K,Full Marathon,Half Marathon,Ultra Marathons
ATTACH;FMTTYPE=image/jpeg:https://www.runireland.com/wp-content/uploads/2024/11/forest.jpg
END:VEVENT
BEGIN:VEVENT
DTSTART;TZID=Europe/Dublin:20250913T083000
DTEND;TZID=Europe/Dublin:20250913T170000
DTSTAMP:20260422T084846
CREATED:20241018T093619Z
LAST-MODIFIED:20241018T093619Z
UID:189625-1757752200-1757782800@www.runireland.com
SUMMARY:Medieval Marathon 2025
DESCRIPTION:Kilkenny prepares for battle! \n\n\n\n\nKilkenny provides the historic backdrop for Ireland’s 5th Medieval Marathon. On the 13th of September 2025\, participants will set off from Ormonde Street (beside the Ormonde Hotel) for the Marathon\, 30K\, and Half Marathon\, and the 10K will start at St Francis Bridge (the new bridge). The route will take in some of the most historic sites in the medieval city before winding out the country roads\, making its way back to Kilkenny to finish in front of Butler Gallery in the heart of the city. All finishers will be rewarded with a bespoke medal and technical t-shirt to celebrate the battle victory! \n\nEarly Bird Price available until November 30th \nUse code – IAMINFOR25 for 15% off \nDistances and Start Times: \nFull Marathon: 8:30am\n30K 8:50am\nHalf Marathon: 9:20am\n10K: 10am \n\nEmail: \nmedievalmarathon@gmail.com \nFollow the event on Facebook: \n \nRegister Now CLICK HERE
URL:https://www.runireland.com/events/medieval-marathon-2025/
CATEGORIES:10K,Full Marathon,Half Marathon,Ultra Marathons
ATTACH;FMTTYPE=image/jpeg:https://www.runireland.com/wp-content/uploads/2024/10/medieval.jpg
END:VEVENT
END:VCALENDAR