BEGIN:VCALENDAR
VERSION:2.0
PRODID:-//RunIreland.com - ECPv6.5.1.5//NONSGML v1.0//EN
CALSCALE:GREGORIAN
METHOD:PUBLISH
X-ORIGINAL-URL:https://www.runireland.com
X-WR-CALDESC:Events for RunIreland.com
REFRESH-INTERVAL;VALUE=DURATION:PT1H
X-Robots-Tag:noindex
X-PUBLISHED-TTL:PT1H
BEGIN:VTIMEZONE
TZID:Europe/Dublin
BEGIN:STANDARD
TZOFFSETFROM:+0000
TZOFFSETTO:+0100
TZNAME:IST
DTSTART:20230326T010000
END:STANDARD
BEGIN:DAYLIGHT
TZOFFSETFROM:+0100
TZOFFSETTO:+0000
TZNAME:GMT
DTSTART:20231029T010000
END:DAYLIGHT
END:VTIMEZONE
BEGIN:VEVENT
DTSTART;TZID=Europe/Dublin:20230422T080000
DTEND;TZID=Europe/Dublin:20230422T170000
DTSTAMP:20260422T115546
CREATED:20221115T115332Z
LAST-MODIFIED:20230417T150651Z
UID:185864-1682150400-1682182800@www.runireland.com
SUMMARY:Royal Canal Run Longford 2023
DESCRIPTION:A beautiful running event on the banks of the Royal Canal. Flat and fast\, ideal for a good time. This event is based beside Longford town. It is on a 5.2km loop of the Royal Canal Longford. It is a flat fast route and all 4 events will be running at the same time. Different start times will be confirmed closer to the race. The surface is all Tarmac. There will be medals for all finishers and a T-shirt for pre-registered. It is a chip-timed event and is fully measured.\n  \nRegister Now CLICK HERE
URL:https://www.runireland.com/events/royal-canal-run-longford-2023/
CATEGORIES:10K,Full Marathon,Half Marathon,Ultra Marathons
ATTACH;FMTTYPE=image/jpeg:https://www.runireland.com/wp-content/uploads/2022/11/royalcanal.jpg
END:VEVENT
END:VCALENDAR