BEGIN:VCALENDAR
VERSION:2.0
PRODID:-//RunIreland.com - ECPv6.5.1.5//NONSGML v1.0//EN
CALSCALE:GREGORIAN
METHOD:PUBLISH
X-ORIGINAL-URL:https://www.runireland.com
X-WR-CALDESC:Events for RunIreland.com
REFRESH-INTERVAL;VALUE=DURATION:PT1H
X-Robots-Tag:noindex
X-PUBLISHED-TTL:PT1H
BEGIN:VTIMEZONE
TZID:Europe/Dublin
BEGIN:STANDARD
TZOFFSETFROM:+0000
TZOFFSETTO:+0100
TZNAME:IST
DTSTART:20220327T010000
END:STANDARD
BEGIN:DAYLIGHT
TZOFFSETFROM:+0100
TZOFFSETTO:+0000
TZNAME:GMT
DTSTART:20221030T010000
END:DAYLIGHT
END:VTIMEZONE
BEGIN:VEVENT
DTSTART;TZID=Europe/Dublin:20220604T070000
DTEND;TZID=Europe/Dublin:20220604T170000
DTSTAMP:20260424T145827
CREATED:20220512T090820Z
LAST-MODIFIED:20220512T185156Z
UID:185542-1654326000-1654362000@www.runireland.com
SUMMARY:Tullaroan Marathon including Ultra\,Full\,Half Marathon\,10K and 5k
DESCRIPTION:Tullaroan Marathon\n Sat 4th June 2022\n\nTullaroan Hills gave me some thrills!\nCome and join us at our family friendly event\nwith a choice of 5 distances:\n11:15 5k race\n10:30 10k race\n11:00 Half Marathon (13.1 miles)\n09:30 Full Marathon (26.2 miles)\n07:00 Ultra Marathon (39.3 miles) \nPrices: \n5k €10\n10k €20\nHalf Marathon €25\nFull Marathon €40\nUltra €50 \nRegister Now CLICK HERE \nTullaroan Athletics Club is located in the village of Tullaroan in Co. Kilkenny Ireland. Each year the club holds Tullaroan Marathon which comprises of an Ultra Marathon 39.3miles(63.24K) 7am stat time\, Full Marathon 26.2 miles (42.2K) 9:30 am start time  \, Half Marathon 13.1 miles (21.1K) 11am start time \, 10k 10:30 am start time and 5k 11:15am start time. The course is 13.1 miles\, so one loop for the half marathon two for the full and three for the ultra. The 10k runs on part of the same course leaving it at 5.5k mark and re-joining it at the 8k\, with all finishers coming together for the last 2k to the finish line where you will be greeted by our Race Director who will be there for the first to last finisher. With light refreshments served after you finish to make a great weekend for all running\, walking and rolling.  Tullaroan is full of rolling hills and delightful declines surrounded by the spectacular scenery of the countryside. With onsite parking and camping and shower facilities you can make a weekend of it arriving Friday evening and pitching you tent or campervan. We are renowned for our friendly and helpful race officials who will greet you with a smile and welcome you to our village. With participants from America\, UK\, Holland\, Belgium\, France\, Norway\, South Africa to name a few along with participants from all corners of Ireland. All finishers will receive a dazzling medal with tec t-shirt for the ultra\, full\, half an10K finishers. Whether you’re looking to break our course records\, 4:29:00 for the Ultra Marathon and 2:56:37 for the Full Marathon\, or a family fun day out Tullaroan Marathon is the event for you. Entry Open CLICK HERE or you can find us at tullaroanmarathon.com\, Check out our Facebook page: Tullaroan Marathon or email us: tullaroanmarathon@gmail.com. \nwww.tullaroanmarathon.com
URL:https://www.runireland.com/events/tullaroan-marathon-including-ultrafullhalf-marathon10k-and-5k-2/
CATEGORIES:10K,5K,Full Marathon,Half Marathon,Ultra Marathons
ATTACH;FMTTYPE=image/jpeg:https://www.runireland.com/wp-content/uploads/2022/05/tullaroan1-scaled.jpg
END:VEVENT
BEGIN:VEVENT
DTSTART;TZID=Europe/Dublin:20220611T070000
DTEND;TZID=Europe/Dublin:20220611T180000
DTSTAMP:20260424T145827
CREATED:20190730T093314Z
LAST-MODIFIED:20220609T160618Z
UID:178517-1654930800-1654970400@www.runireland.com
SUMMARY:Forest Marathon
DESCRIPTION:Portumna Forest Marathon\nTaking place in Portumna Forest Park. Forest marathon has a unique course and a distance for everyone. \n10K / Half / Full / 50K / 100K \n\n\n\n\n\nTaking part in the Portumna Forest Marathon is a spiritual experience – while it tests the body physically\, it soothes the mind in equal proportions. The runners\, crew\, and marshalls blend in with the environment and although there is plenty of clapping and encouragement for the runners there is a serenity about the place that bows down to the beauty of the natural environment. \nEveryone talks a little softer and smiles a little wider. When those inevitable Irish rain showers put in their short but frequent appearances\, everyone looks up at the raindrops through the leaves and marvels at the reflections of the rainbows in the puddles – appreciating the fact that the rain had a vital role to play in providing such a luscious backdrop for the run. \n\n\n  \n  \nFor more information go to www.forestmarathon.com
URL:https://www.runireland.com/events/forest-marathon/
LOCATION:portumna Forest Park\, Portumna\, Galway\, Ireland
CATEGORIES:10K,Full Marathon,Half Marathon,Other,Trail / Off Road Races,Ultra Marathons
ATTACH;FMTTYPE=image/png:https://www.runireland.com/wp-content/uploads/2022/01/portumnalogocolor_95jy3tze801.png
ORGANIZER;CN="Ray O'Connor":MAILTO:ray@proactive.ie
GEO:53.0927811;-8.2185406
X-APPLE-STRUCTURED-LOCATION;VALUE=URI;X-ADDRESS=portumna Forest Park Portumna Galway Ireland;X-APPLE-RADIUS=500;X-TITLE=Portumna:geo:-8.2185406,53.0927811
END:VEVENT
END:VCALENDAR