BEGIN:VCALENDAR
VERSION:2.0
PRODID:-//RunIreland.com - ECPv6.5.1.5//NONSGML v1.0//EN
CALSCALE:GREGORIAN
METHOD:PUBLISH
X-ORIGINAL-URL:https://www.runireland.com
X-WR-CALDESC:Events for RunIreland.com
REFRESH-INTERVAL;VALUE=DURATION:PT1H
X-Robots-Tag:noindex
X-PUBLISHED-TTL:PT1H
BEGIN:VTIMEZONE
TZID:Europe/Dublin
BEGIN:STANDARD
TZOFFSETFROM:+0000
TZOFFSETTO:+0100
TZNAME:IST
DTSTART:20210328T010000
END:STANDARD
BEGIN:DAYLIGHT
TZOFFSETFROM:+0100
TZOFFSETTO:+0000
TZNAME:GMT
DTSTART:20211031T010000
END:DAYLIGHT
END:VTIMEZONE
BEGIN:VEVENT
DTSTART;TZID=Europe/Dublin:20210626T110000
DTEND;TZID=Europe/Dublin:20210626T170000
DTSTAMP:20260424T194245
CREATED:20200511T100919Z
LAST-MODIFIED:20200511T100919Z
UID:183006-1624705200-1624726800@www.runireland.com
SUMMARY:Aughty Warrior Challenge 2021
DESCRIPTION:We have two challenges this year 2021. \nA: Half Marathon Trail Run 22K\nB: Trail Run 10K \nAre You Tough Enough For The Aughtys!
URL:https://www.runireland.com/events/aughty-warrior-challenge-2021/
LOCATION:kilchreest\,Co.Galway
CATEGORIES:Trail / Off Road Races
ATTACH;FMTTYPE=image/jpeg:https://www.runireland.com/wp-content/uploads/2020/05/Webp.net-compress-image.jpg
END:VEVENT
END:VCALENDAR