BEGIN:VCALENDAR
VERSION:2.0
PRODID:-//RunIreland.com - ECPv6.5.1.5//NONSGML v1.0//EN
CALSCALE:GREGORIAN
METHOD:PUBLISH
X-ORIGINAL-URL:https://www.runireland.com
X-WR-CALDESC:Events for RunIreland.com
REFRESH-INTERVAL;VALUE=DURATION:PT1H
X-Robots-Tag:noindex
X-PUBLISHED-TTL:PT1H
BEGIN:VTIMEZONE
TZID:Europe/Dublin
BEGIN:STANDARD
TZOFFSETFROM:+0000
TZOFFSETTO:+0100
TZNAME:IST
DTSTART:20200329T010000
END:STANDARD
BEGIN:DAYLIGHT
TZOFFSETFROM:+0100
TZOFFSETTO:+0000
TZNAME:GMT
DTSTART:20201025T010000
END:DAYLIGHT
END:VTIMEZONE
BEGIN:VEVENT
DTSTART;TZID=Europe/Dublin:20200905T093000
DTEND;TZID=Europe/Dublin:20200905T140000
DTSTAMP:20260426T000836
CREATED:20200227T113007Z
LAST-MODIFIED:20200302T162844Z
UID:181401-1599298200-1599314400@www.runireland.com
SUMMARY:10 Mile Sheep's Head Challenge
DESCRIPTION:The Sheep’s Head Challenge is a 10 mile\, mainly off road route that begins and finishes at the Tin Pub in Ahakista\, West Cork. The course follows the Glenlough Loop on the Sheep’s Head Way\, with walkers starting at 9.30am\, followed by the runners at 11.30am. \nThis year all proceeds from the event will go to Muintir Bhaire Sea Scouts and Muintir Bhaire Foroige group. \nIf chip-timing\, a flat course and a finishing medal is your thing\, this is not for you! What it is however is a community based race\, where people of all ages and fitness levels are welcome to take in the fantastic views the area has to offer. \nThere will be water stations on the course and light refreshments post-race.
URL:https://www.runireland.com/events/10-mile-sheeps-head-challenge/
LOCATION:ahakista\, The Tin Pub\, Ahakista\, Bantrt\, Cork\, Munster\, Ireland
CATEGORIES:10 Miles,Trail / Off Road Races
END:VEVENT
END:VCALENDAR