BEGIN:VCALENDAR
VERSION:2.0
PRODID:-//RunIreland.com - ECPv6.5.1.5//NONSGML v1.0//EN
CALSCALE:GREGORIAN
METHOD:PUBLISH
X-ORIGINAL-URL:https://www.runireland.com
X-WR-CALDESC:Events for RunIreland.com
REFRESH-INTERVAL;VALUE=DURATION:PT1H
X-Robots-Tag:noindex
X-PUBLISHED-TTL:PT1H
BEGIN:VTIMEZONE
TZID:Europe/Dublin
BEGIN:STANDARD
TZOFFSETFROM:+0000
TZOFFSETTO:+0100
TZNAME:IST
DTSTART:20190331T010000
END:STANDARD
BEGIN:DAYLIGHT
TZOFFSETFROM:+0100
TZOFFSETTO:+0000
TZNAME:GMT
DTSTART:20191027T010000
END:DAYLIGHT
END:VTIMEZONE
BEGIN:VEVENT
DTSTART;TZID=Europe/Dublin:20190422T110000
DTEND;TZID=Europe/Dublin:20190422T130000
DTSTAMP:20260421T135150
CREATED:20190301T152631Z
LAST-MODIFIED:20190301T152631Z
UID:176097-1555930800-1555938000@www.runireland.com
SUMMARY:Rosslare 10K
DESCRIPTION:Yet again Wexford Triathlon Club brings you the Rosslare 10k\, now in its 10th year! Come and compete in our annual 10k road race which takes place in Rosslare Strand every year on Easter Monday\, which is 22nd April in 2019. \nYear after year the feedback from all participants and spectators alike is that the Rosslare 10k is a fantastic event. Whether you’re here to win overall or one of our category prizes\, after a 10K PB or just happy to run\, jog\, walk or crawl the course\, all are welcome at the Rosslare 10K. \nThis race is suitable for all racers\, runners\, joggers and walkers! We even have pacers to help you get your PB – every 5 minutes from 45 minutes to 70 minutes catered for. \nHeld in the scenic surroundings of Rosslare Strand\, the Rosslare 10K is a two loop race on a fast course. The race is chip timed\, fully marshalled with water stations provided and refreshments for all athletes after the race. \nThe first 250 entrants will receive Quality Technical tshirts\, which go down a treat every year as is evidenced by the number of them being worn daily around the county! \nThere is a generous prize purse for winning athletes. \n18s and over only due to insurance restrictions. \nThanks to Kelly’s Resort Hotel and Spa for their very generous support of this event. \nThanks everyone!
URL:https://www.runireland.com/events/rosslare-10k-2/
LOCATION:Rosslare Strand\, Rosslare Strand\, Rosslare\, Co. Wexford
CATEGORIES:10K,Road Race
ATTACH;FMTTYPE=image/jpeg:https://www.runireland.com/wp-content/uploads/2019/03/size-1-1.jpg
ORGANIZER;CN="Wexford Triathlon Club":MAILTO:wexfordtriclub@gmail.com
GEO:52.2720275;-6.3892254
X-APPLE-STRUCTURED-LOCATION;VALUE=URI;X-ADDRESS=Rosslare Strand Rosslare Strand Rosslare Co. Wexford;X-APPLE-RADIUS=500;X-TITLE=Rosslare Strand:geo:-6.3892254,52.2720275
END:VEVENT
END:VCALENDAR