BEGIN:VCALENDAR
VERSION:2.0
PRODID:-//RunIreland.com - ECPv6.5.1.5//NONSGML v1.0//EN
CALSCALE:GREGORIAN
METHOD:PUBLISH
X-ORIGINAL-URL:https://www.runireland.com
X-WR-CALDESC:Events for RunIreland.com
REFRESH-INTERVAL;VALUE=DURATION:PT1H
X-Robots-Tag:noindex
X-PUBLISHED-TTL:PT1H
BEGIN:VTIMEZONE
TZID:Europe/Dublin
BEGIN:STANDARD
TZOFFSETFROM:+0000
TZOFFSETTO:+0100
TZNAME:IST
DTSTART:20190331T010000
END:STANDARD
BEGIN:DAYLIGHT
TZOFFSETFROM:+0100
TZOFFSETTO:+0000
TZNAME:GMT
DTSTART:20191027T010000
END:DAYLIGHT
END:VTIMEZONE
BEGIN:VEVENT
DTSTART;TZID=Europe/Dublin:20190310T130000
DTEND;TZID=Europe/Dublin:20190310T143000
DTSTAMP:20260421T170556
CREATED:20190105T142311Z
LAST-MODIFIED:20190301T152725Z
UID:173825-1552222800-1552228200@www.runireland.com
SUMMARY:5 & 10km Galway Colour Fun Run
DESCRIPTION:Lawrencetown Community Development Group in association with East Galway  & Midlands Cancer Support \,  invite you to join our  5/10km Colour Fun Run on March 10th at 1.00pm! \nThe 5/10 km fun event starting point will be the local community hall starting at 1pm. Organisers plan to have a parade of colour at the starting line with all sorts of colour powder available to purchase at the event meaning your takeoff will look like you have emerged from a rainbow.  This is the finale to the Lawrencetown Community Developments 8 week schedule of fitness events that are being held. They are keen to promote the idea that staying fit and healthy should be a fun and an enjoyable experience in everyone`s life and so the programme has a whole host of events to suit all ages. \nOrganisers are inviting people of all ages\, families\, individuals\, runners\, walkers\, joggers etc  – to come along and participate is this fun event. \n(registration from 12.15 in the hall). \nCost of entry is as follows. \n5km Colour Walk/Run \nAdults €10 \nChildren (under 12s) €5 \nFamily €20 \n  \n10km \nAdults €20 \nChildren (under 12) €5 \nFamily €20 \nColour Powder is €5 per bag \nAll proceeds in aid of East Galway &Midland Cancer Support & LCDG School Parking Development Project. \nFor more information\, contact Irene at 087 7977189. \n 
URL:https://www.runireland.com/events/5-10km-colour-fun-run/
LOCATION:Lawrencetown Co Galway\, Lawrencetown\, Ballinasloe\, H53 DC80
CATEGORIES:10K,5K,Road Race
ATTACH;FMTTYPE=image/jpeg:https://www.runireland.com/wp-content/uploads/2019/01/Colour-Run-Final.jpg
GEO:53.2364011;-8.1739495
X-APPLE-STRUCTURED-LOCATION;VALUE=URI;X-ADDRESS=Lawrencetown Co Galway Lawrencetown Ballinasloe H53 DC80;X-APPLE-RADIUS=500;X-TITLE=Lawrencetown:geo:-8.1739495,53.2364011
END:VEVENT
END:VCALENDAR