BEGIN:VCALENDAR
VERSION:2.0
PRODID:-//RunIreland.com - ECPv6.5.1.5//NONSGML v1.0//EN
CALSCALE:GREGORIAN
METHOD:PUBLISH
X-WR-CALNAME:RunIreland.com
X-ORIGINAL-URL:https://www.runireland.com
X-WR-CALDESC:Events for RunIreland.com
REFRESH-INTERVAL;VALUE=DURATION:PT1H
X-Robots-Tag:noindex
X-PUBLISHED-TTL:PT1H
BEGIN:VTIMEZONE
TZID:Europe/Dublin
BEGIN:STANDARD
TZOFFSETFROM:+0000
TZOFFSETTO:+0100
TZNAME:IST
DTSTART:20180325T010000
END:STANDARD
BEGIN:DAYLIGHT
TZOFFSETFROM:+0100
TZOFFSETTO:+0000
TZNAME:GMT
DTSTART:20181028T010000
END:DAYLIGHT
END:VTIMEZONE
BEGIN:VEVENT
DTSTART;TZID=Europe/Dublin:20181014T100000
DTEND;TZID=Europe/Dublin:20181014T140000
DTSTAMP:20260422T101104
CREATED:20180902T145203Z
LAST-MODIFIED:20180925T003237Z
UID:171627-1539511200-1539525600@www.runireland.com
SUMMARY:North East Galway 10k
DESCRIPTION:North East Galway 10km at 12Noon is back this year. We also have the kids walk/run at 10.30AM and a 5km walk/run at 11AM.\nVenue\nThe race starts in the village of Moylough and finishes at Moylough Sports Field where changing facilities are available.\nThe race is open to all runners and walkers.\nAccreditation\nThe route has been measured and verified by Athletics Ireland\, it is also an AAI permitted race and an officially timed event. \nRegistration\nRegistration and Race Number pick up will be available prior to the race at Moylough community centre on Saturday 13th Oct from 7pm-8pm\, and on Sunday morning from 10am.\nRegistration also available on runireland.com. \nPrizes\nCash prizes available on the day for 1st\, 2nd and 3rd ladies and gents categories. \nContact\nFor further information please contact: 087-3665692.
URL:https://www.runireland.com/events/north-east-galway-10k/2018-10-14/
LOCATION:Moylough village
CATEGORIES:10K,5K,Kids Race,Road Race
ATTACH;FMTTYPE=image/jpeg:https://www.runireland.com/wp-content/uploads/2018/09/wm.jpg
END:VEVENT
END:VCALENDAR