BEGIN:VCALENDAR
VERSION:2.0
PRODID:-//RunIreland.com - ECPv6.5.1.5//NONSGML v1.0//EN
CALSCALE:GREGORIAN
METHOD:PUBLISH
X-WR-CALNAME:RunIreland.com
X-ORIGINAL-URL:https://www.runireland.com
X-WR-CALDESC:Events for RunIreland.com
REFRESH-INTERVAL;VALUE=DURATION:PT1H
X-Robots-Tag:noindex
X-PUBLISHED-TTL:PT1H
BEGIN:VTIMEZONE
TZID:Europe/Dublin
BEGIN:STANDARD
TZOFFSETFROM:+0000
TZOFFSETTO:+0100
TZNAME:IST
DTSTART:20180325T010000
END:STANDARD
BEGIN:DAYLIGHT
TZOFFSETFROM:+0100
TZOFFSETTO:+0000
TZNAME:GMT
DTSTART:20181028T010000
END:DAYLIGHT
END:VTIMEZONE
BEGIN:VEVENT
DTSTART;TZID=Europe/Dublin:20180923T130000
DTEND;TZID=Europe/Dublin:20180923T150000
DTSTAMP:20260422T101307
CREATED:20180726T122628Z
LAST-MODIFIED:20180823T135308Z
UID:171064-1537707600-1537714800@www.runireland.com
SUMMARY:Tuairíni 5k Run
DESCRIPTION:5k Road Race. Start at Corbally (beside Barna golf club) and finish at Scoil Tuairíni (Barna/Moycullen Road). \nRegister on the day at scoil cholmáin Tuairíni from 11am or online at run ireland.com. \nThe course is mainly downhill and fast and has PB potential. \nIncludes chip timing and refreshments provided at finish line FOC. \nAll race participants will receive a finishers medal. \nPrizes for 1st Male\, 1st Female\, and 1st U16. \nParking at the school and bus will bring you to the start line.
URL:https://www.runireland.com/events/tuairini-5k-run/
LOCATION:Tuairíni School\, Moycullen\, Scoil Toreeney\, Moycullen\, Co Galway\, Galway\, H91YR64
CATEGORIES:5K,Road Race
ATTACH;FMTTYPE=image/jpeg:https://www.runireland.com/wp-content/uploads/2018/07/Capture.jpg
END:VEVENT
END:VCALENDAR