BEGIN:VCALENDAR
VERSION:2.0
PRODID:-//RunIreland.com - ECPv6.5.1.5//NONSGML v1.0//EN
CALSCALE:GREGORIAN
METHOD:PUBLISH
X-WR-CALNAME:RunIreland.com
X-ORIGINAL-URL:https://www.runireland.com
X-WR-CALDESC:Events for RunIreland.com
REFRESH-INTERVAL;VALUE=DURATION:PT1H
X-Robots-Tag:noindex
X-PUBLISHED-TTL:PT1H
BEGIN:VTIMEZONE
TZID:Europe/Dublin
BEGIN:STANDARD
TZOFFSETFROM:+0000
TZOFFSETTO:+0100
TZNAME:IST
DTSTART:20180325T010000
END:STANDARD
BEGIN:DAYLIGHT
TZOFFSETFROM:+0100
TZOFFSETTO:+0000
TZNAME:GMT
DTSTART:20181028T010000
END:DAYLIGHT
END:VTIMEZONE
BEGIN:VEVENT
DTSTART;TZID=Europe/Dublin:20180826T110000
DTEND;TZID=Europe/Dublin:20180826T140000
DTSTAMP:20260422T231318
CREATED:20180808T153539Z
LAST-MODIFIED:20180808T153612Z
UID:171252-1535281200-1535292000@www.runireland.com
SUMMARY:The Wild Atlantic 10 Miler
DESCRIPTION:The Wild Atlantic 10 Miler \nBallina A.C. are pleased to announce our second 10 Mile Road Race is taking place this year on August 26th. The race is located in Ballina Town\, commencing at 11.00 am. \nFollowing on from the success of last years inaugural event we guarantee all participants a fantastic race day\, with a fantastic route taking in some magnificent views of the Wild Atlantic Way\, The route is picturesque and ideal for runners and walkers new to the 10 mile distance and those wishing to simply enjoy a scenic race! Our race distance\, course and timing also fits nicely with marathon training. Participants on the day can expect exceptional hospitality not only in terms of the post event food\, but also the local support encouraging runners along the route\, if you let us know what club you hail from you might see a sign encouraging you along the way! \nEvent Details and Schedule:\n-Early Bird Offer €20 until July 1st (€25 thereafter & €30 From 20th August Until Raceday)\n-AAI Approved\n-Race starts @ 11.00am\, Sunday August 26th 2018\n-Starting and finishing points – Ballina Athletic Club (Parking available)\n-Race number\, Chip & T-shirt collection – Ballina A.C Sunday 26th August 8.30am-10.30am\n-Overall Race Winners 1st\, 2nd & 3rd Male & Female \nOnline Entry Available on https://www.njuko.net/wildatlanticrun/register/25395 \nWe look forward to welcoming you to Ballina and to our race\, see you on August 26th! \nEvery runner receives a bespoke medal to remember your day and the FIRST 200 REGISTERED RECEIVES A TECHNICAL T-SHIRT. The race is also chipped and timed. We have prizes for the first 3 male & female runners home. \nWe want to extend a warm welcome to all participants entering the Ballina A.C “Wild Atlanic 10 Mile” Road Race on August 26th\, and thank you for choosing our race.
URL:https://www.runireland.com/events/the-wild-atlantic-10-miler/
LOCATION:Ballina Athletic Club\, Belleek\, Ballina\, F26 VH52
CATEGORIES:10 Miles,Road Race
ATTACH;FMTTYPE=image/jpeg:https://www.runireland.com/wp-content/uploads/2018/08/download.jpg
ORGANIZER;CN="Ballina AC":MAILTO:ballinaathleticclub@gmail.com
GEO:54.1196361;-9.1463054
X-APPLE-STRUCTURED-LOCATION;VALUE=URI;X-ADDRESS=Ballina Athletic Club Belleek Ballina F26 VH52;X-APPLE-RADIUS=500;X-TITLE=Belleek:geo:-9.1463054,54.1196361
END:VEVENT
END:VCALENDAR