BEGIN:VCALENDAR
VERSION:2.0
PRODID:-//RunIreland.com - ECPv6.5.1.5//NONSGML v1.0//EN
CALSCALE:GREGORIAN
METHOD:PUBLISH
X-ORIGINAL-URL:https://www.runireland.com
X-WR-CALDESC:Events for RunIreland.com
REFRESH-INTERVAL;VALUE=DURATION:PT1H
X-Robots-Tag:noindex
X-PUBLISHED-TTL:PT1H
BEGIN:VTIMEZONE
TZID:Europe/Dublin
BEGIN:STANDARD
TZOFFSETFROM:+0000
TZOFFSETTO:+0100
TZNAME:IST
DTSTART:20180325T010000
END:STANDARD
BEGIN:DAYLIGHT
TZOFFSETFROM:+0100
TZOFFSETTO:+0000
TZNAME:GMT
DTSTART:20181028T010000
END:DAYLIGHT
END:VTIMEZONE
BEGIN:VEVENT
DTSTART;TZID=Europe/Dublin:20180704T183000
DTEND;TZID=Europe/Dublin:20180704T210000
DTSTAMP:20260423T101354
CREATED:20180522T123425Z
LAST-MODIFIED:20180522T132153Z
UID:170170-1530729000-1530738000@www.runireland.com
SUMMARY:DeCare SportaSmile 5km
DESCRIPTION:Now in its 17th year – DeCare Sport a Smile 5km fun run/walk will take place this year on Wednesday\, 4th July @6.30pm followed by a BBQ! \nNEW to this year’s event \nDeCare’s Company Challenge \nWhat’s involved? \nA team of 4 work colleagues \nThe time of first 3 team members over the finish line counts \nWinning teams company name engraved on the trophy which they get to keep until the 2019 event \nIs your company up for the challenge?
URL:https://www.runireland.com/events/decare-sportasmile-5km/
LOCATION:Claremorris Athletic Track\, Claremount\, Claremorris\, F12 KX63\, Ireland
CATEGORIES:5K,Road Race
ATTACH;FMTTYPE=image/jpeg:https://www.runireland.com/wp-content/uploads/2018/05/2016_Sport-A-Smile-Logo-resized.jpg
ORGANIZER;CN="DeCare Dental":MAILTO:sportasmile@decaredental.eu
END:VEVENT
END:VCALENDAR