BEGIN:VCALENDAR
VERSION:2.0
PRODID:-//RunIreland.com - ECPv6.5.1.5//NONSGML v1.0//EN
CALSCALE:GREGORIAN
METHOD:PUBLISH
X-ORIGINAL-URL:https://www.runireland.com
X-WR-CALDESC:Events for RunIreland.com
REFRESH-INTERVAL;VALUE=DURATION:PT1H
X-Robots-Tag:noindex
X-PUBLISHED-TTL:PT1H
BEGIN:VTIMEZONE
TZID:Europe/Dublin
BEGIN:STANDARD
TZOFFSETFROM:+0000
TZOFFSETTO:+0100
TZNAME:IST
DTSTART:20180325T010000
END:STANDARD
BEGIN:DAYLIGHT
TZOFFSETFROM:+0100
TZOFFSETTO:+0000
TZNAME:GMT
DTSTART:20181028T010000
END:DAYLIGHT
END:VTIMEZONE
BEGIN:VEVENT
DTSTART;VALUE=DATE:20180623
DTEND;VALUE=DATE:20180625
DTSTAMP:20260423T101515
CREATED:20180213T121955Z
LAST-MODIFIED:20180213T122153Z
UID:167428-1529712000-1529884799@www.runireland.com
SUMMARY:Energia24
DESCRIPTION:How far could you go in 24-hours? \nWe’ll be there to help you every step of the way. We’ll even give you a special jacket if you make 100 miles and there are big cash prizes for the winners and National and Age-Group Championship medals to be awarded.\nOur 1652m flat course in a park around a lake in Victoria Park\, Belfast – close to the famous Titanic Quarter- has yielded world records and was the venue for the World 24-Hr Champs in 2017.\nYou can also choose a 12-hr race\, a 100km race and a team relay (teams of 4 including at least 1 woman each doing 3 stints of 2 hours). \nRegister Online HERE 
URL:https://www.runireland.com/events/energia24/
LOCATION:Victoria Park.\, Park Avenue\, Belfast\, BT4 1JT
CATEGORIES:Other,Road Race,Ultra Marathons
ATTACH;FMTTYPE=image/jpeg:https://www.runireland.com/wp-content/uploads/2018/02/Louise-Smart-1.jpg
ORGANIZER;CN="Ed Smith":MAILTO:ed_n_smith@hotmail.com
GEO:54.6021746;-5.883232
X-APPLE-STRUCTURED-LOCATION;VALUE=URI;X-ADDRESS=Victoria Park. Park Avenue Belfast BT4 1JT;X-APPLE-RADIUS=500;X-TITLE=Park Avenue:geo:-5.883232,54.6021746
END:VEVENT
END:VCALENDAR