BEGIN:VCALENDAR
VERSION:2.0
PRODID:-//RunIreland.com - ECPv6.5.1.5//NONSGML v1.0//EN
CALSCALE:GREGORIAN
METHOD:PUBLISH
X-WR-CALNAME:RunIreland.com
X-ORIGINAL-URL:https://www.runireland.com
X-WR-CALDESC:Events for RunIreland.com
REFRESH-INTERVAL;VALUE=DURATION:PT1H
X-Robots-Tag:noindex
X-PUBLISHED-TTL:PT1H
BEGIN:VTIMEZONE
TZID:Europe/Dublin
BEGIN:STANDARD
TZOFFSETFROM:+0000
TZOFFSETTO:+0100
TZNAME:IST
DTSTART:20170326T010000
END:STANDARD
BEGIN:DAYLIGHT
TZOFFSETFROM:+0100
TZOFFSETTO:+0000
TZNAME:GMT
DTSTART:20171029T010000
END:DAYLIGHT
END:VTIMEZONE
BEGIN:VEVENT
DTSTART;TZID=Europe/Dublin:20171231T110000
DTEND;TZID=Europe/Dublin:20171231T170000
DTSTAMP:20260424T084939
CREATED:20171108T112952Z
LAST-MODIFIED:20171219T125004Z
UID:163942-1514718000-1514739600@www.runireland.com
SUMMARY:ERP Xmas Cracker
DESCRIPTION:ERP Christmas Cracker 5km \nSNAP into action on December 31st \nALONE\, the charity that supports older people to age at home once again has teamed up with the Clonliffe Harriers Athletics Club and supported by the European Recycling Platform for the ERP 5km Christmas Cracker run taking place on the 31st December 2017 at 12 noon. \nThe family-friendly fun run is open to everyone – from serious runners to costume wearing walkers and everyone in between. The race will begin and end in Morton Stadium Santry\, with the route encompassing Northwood and Santry Avenue. \nSean Moynihan CEO of ALONE said\, “We’re thrilled to be partnering with the Clonliffe Harriers once more for the Christmas Cracker run. We hope that lots of people will join us for a fun morning out to shake off the post-Christmas slump and support older people. We’ll have spot prizes\, refreshments and a few surprises to help get you moving!” \nRegistration costs €20 and is now open HERE. €5 from every registration goes directly to ALONE to support their work with older people in need. \nALONE can be contacted on (01) 679 1032 for those who have concerns about their own wellbeing\, or the wellbeing of a vulnerable older person in the community or visit www.alone.ie \nRegister Online HERE
URL:https://www.runireland.com/events/erp-xmas-cracker/
CATEGORIES:5K,Road Race
END:VEVENT
END:VCALENDAR