BEGIN:VCALENDAR
VERSION:2.0
PRODID:-//RunIreland.com - ECPv6.5.1.5//NONSGML v1.0//EN
CALSCALE:GREGORIAN
METHOD:PUBLISH
X-ORIGINAL-URL:https://www.runireland.com
X-WR-CALDESC:Events for RunIreland.com
REFRESH-INTERVAL;VALUE=DURATION:PT1H
X-Robots-Tag:noindex
X-PUBLISHED-TTL:PT1H
BEGIN:VTIMEZONE
TZID:Europe/Dublin
BEGIN:STANDARD
TZOFFSETFROM:+0000
TZOFFSETTO:+0100
TZNAME:IST
DTSTART:20170326T010000
END:STANDARD
BEGIN:DAYLIGHT
TZOFFSETFROM:+0100
TZOFFSETTO:+0000
TZNAME:GMT
DTSTART:20171029T010000
END:DAYLIGHT
END:VTIMEZONE
BEGIN:VEVENT
DTSTART;TZID=Europe/Dublin:20171227T110000
DTEND;TZID=Europe/Dublin:20171227T170000
DTSTAMP:20260424T131850
CREATED:20171108T112746Z
LAST-MODIFIED:20171228T115816Z
UID:163937-1514372400-1514394000@www.runireland.com
SUMMARY:The Fat Turkey 10km
DESCRIPTION:2017 will be the 8th Fat Turkey Run. All participants are required to enter online. The event last year sold out\, so please don’t leave it too late.\nThe Fat Turkey 10km event supports developing rugby in Suttonians Rugby Football Club (established in 1924)\, with a donation going towards the IRFU Charitable Trust (Irish Rugby Football Union Charitable Trust was formed in 1978 to assist severely injured rugby players in their everyday lives and help to restore their confidence and independence).\nThe scenic route is a challenging 10km course\, commencing at St Fintan’s Church\, Sutton\, going all the way up Carrickbrack Road\, right at the Summit Shop\, right again onto Baily Green Road and up to the Summit Car Park (turnaround and aid/water station) and then back down on the same route.\nParticipant Sign In\, race number\, timing chip\, T-shirt and goodie bags can be collected from 09.30 in Suttonians RFC opposite Sutton Dart Station where parking\, changing and shower facilities are available.\nSign In will close at 10.30 followed by a 5-10 mins safety/event briefing. Participants will then take a short walk/jog to St Fintan’s Church car park which is the start location. The finish line will be on the grass verge opposite St Fintans Church. The race will begin at 11am sharp.\nOn completion of the race\, participants will jog/walk through Sutton cross to Suttonians R.F.C (approx 500 yards) where changing facilities and complimentary tea/coffee\, biscuits and full bar will be available. Prize giving will take place at the club.\nThere will also be a host of family activities at the club with live music\, hot food and full bar facilities etc.\nCost €23 + Reg Fee. The Fat Turkey Event is a fun-filled family day that has been an enormous success over the last number of years.
URL:https://www.runireland.com/events/the-fat-turkey-10km/
LOCATION:Sutton\, Dublin\, Sutton\, Dublin\, Ireland
CATEGORIES:10K,Road Race
ATTACH;FMTTYPE=image/jpeg:https://www.runireland.com/wp-content/uploads/2017/11/ftr_logo_2.jpg
ORGANIZER;CN="Simon or John":MAILTO:fatturkeyrun@gmail.com
GEO:53.3895166;-6.1103064
X-APPLE-STRUCTURED-LOCATION;VALUE=URI;X-ADDRESS=Sutton Dublin Sutton Dublin Ireland;X-APPLE-RADIUS=500;X-TITLE=Sutton:geo:-6.1103064,53.3895166
END:VEVENT
END:VCALENDAR