BEGIN:VCALENDAR
VERSION:2.0
PRODID:-//RunIreland.com - ECPv6.5.1.5//NONSGML v1.0//EN
CALSCALE:GREGORIAN
METHOD:PUBLISH
X-ORIGINAL-URL:https://www.runireland.com
X-WR-CALDESC:Events for RunIreland.com
REFRESH-INTERVAL;VALUE=DURATION:PT1H
X-Robots-Tag:noindex
X-PUBLISHED-TTL:PT1H
BEGIN:VTIMEZONE
TZID:Europe/Dublin
BEGIN:STANDARD
TZOFFSETFROM:+0000
TZOFFSETTO:+0100
TZNAME:IST
DTSTART:20170326T010000
END:STANDARD
BEGIN:DAYLIGHT
TZOFFSETFROM:+0100
TZOFFSETTO:+0000
TZNAME:GMT
DTSTART:20171029T010000
END:DAYLIGHT
END:VTIMEZONE
BEGIN:VEVENT
DTSTART;TZID=Europe/Dublin:20171226T110000
DTEND;TZID=Europe/Dublin:20171226T170000
DTSTAMP:20260424T144213
CREATED:20171108T110234Z
LAST-MODIFIED:20171219T122529Z
UID:163902-1514286000-1514307600@www.runireland.com
SUMMARY:Fields of Athenry 10K
DESCRIPTION:The 16th Fields of Athenry 10km will take place on St. Stephen’s Day\, December 26th at 11am. \nOver the last number of years\, this has become one of the leading road races in the country\, and we aim to continue to improve the event. The race will be held on its traditional route\, finishing under the medieval arch in Athenry. Last year we had over 1000 finishers with men’s champion and Irish Olympian Mick Clohisey of Raheny Shamrock AC taking top honours for the fifth year in a row. \n– €20 until 1st December / €25 until registration closes a couple of days before the race.\n– You must be at least 18 years old on Xmas Day to enter.\n– Online entry: HERE\n– Race info: HERE
URL:https://www.runireland.com/events/fields-of-athenry-10k/
LOCATION:Athenry\, Galway\, Athenry\, Galway\, Ireland
CATEGORIES:10K,Road Race
ORGANIZER;CN="Fields of Athenry 10K":MAILTO:10km@athenryac.com
GEO:53.3008131;-8.7453768
X-APPLE-STRUCTURED-LOCATION;VALUE=URI;X-ADDRESS=Athenry Galway Athenry Galway Ireland;X-APPLE-RADIUS=500;X-TITLE=Athenry:geo:-8.7453768,53.3008131
END:VEVENT
BEGIN:VEVENT
DTSTART;TZID=Europe/Dublin:20171226T120000
DTEND;TZID=Europe/Dublin:20171226T170000
DTSTAMP:20260424T144213
CREATED:20171108T111441Z
LAST-MODIFIED:20171221T150033Z
UID:163917-1514289600-1514307600@www.runireland.com
SUMMARY:Ardagh GAA Fun Run
DESCRIPTION:The Ardagh GAA FunRun will take place on St. Stephen’s Day\, December 26th at 12pm. It’s a great day out for our friends and families of the club. We are raising money for Special Olympics this year. You can download an entry form below and on the day we will have a separate queue for those who come with forms filled out. Refreshments and presentations after. Prizes for best fancy dress costume. \n– €20 per family / €10 Adult / €5 Child \nRegistration Form: HERE \nEach competitor is CHIPPED to give an accurate time \n \n****We have an EXTRA category this year for OVERALL Under 16 1st\,2nd & 3rd for BOYS and GIRLS.****** \n\nThere will be prizes for 1st\, 2nd\, 3rd for OVERALL ladies and gents\, LOCAL ladies and gents and LOCAL under 16 boys and girls!!! \nIMPORTANT NOTES:\nChildren in the under 16 category must be born on or after the 1st of January 2001. \nPeople arriving with forms already filled out can proceed to top of the queue or FASTRACK que available to download on www.ardaghgaaclub.com \nLOCAL Entries: People entering as Locals must be either an Ardagh Gaa club member\, school member (Ardagh\,Rathnamagh or Knockanillo) or born/live in the Ardagh Parish.\nAll people entered are in with the chance of winning an electronic TABLET and/or other spot prizes!! \nCash prizes for best adult and child FANCY DRESS!!!!
URL:https://www.runireland.com/events/ardagh-gaa-fun-run/
LOCATION:Ardagh\, Mayo\, Ardagh\, Mayo\, Ireland
CATEGORIES:5K,Kids Race,Road Race
ATTACH;FMTTYPE=image/png:https://www.runireland.com/wp-content/uploads/2017/11/screen_shot_2017-11-03_at_11.53.49_2.png
ORGANIZER;CN="Grainne":MAILTO:grainnesdesigns@gmail.com
GEO:54.0973956;-9.2308699
X-APPLE-STRUCTURED-LOCATION;VALUE=URI;X-ADDRESS=Ardagh Mayo Ardagh Mayo Ireland;X-APPLE-RADIUS=500;X-TITLE=Ardagh:geo:-9.2308699,54.0973956
END:VEVENT
END:VCALENDAR