BEGIN:VCALENDAR
VERSION:2.0
PRODID:-//RunIreland.com - ECPv6.5.1.5//NONSGML v1.0//EN
CALSCALE:GREGORIAN
METHOD:PUBLISH
X-WR-CALNAME:RunIreland.com
X-ORIGINAL-URL:https://www.runireland.com
X-WR-CALDESC:Events for RunIreland.com
REFRESH-INTERVAL;VALUE=DURATION:PT1H
X-Robots-Tag:noindex
X-PUBLISHED-TTL:PT1H
BEGIN:VTIMEZONE
TZID:Europe/Dublin
BEGIN:STANDARD
TZOFFSETFROM:+0000
TZOFFSETTO:+0100
TZNAME:IST
DTSTART:20170326T010000
END:STANDARD
BEGIN:DAYLIGHT
TZOFFSETFROM:+0100
TZOFFSETTO:+0000
TZNAME:GMT
DTSTART:20171029T010000
END:DAYLIGHT
END:VTIMEZONE
BEGIN:VEVENT
DTSTART;TZID=Europe/Dublin:20171203T080000
DTEND;TZID=Europe/Dublin:20171203T170000
DTSTAMP:20260424T114422
CREATED:20171108T095503Z
LAST-MODIFIED:20171211T124148Z
UID:163875-1512288000-1512320400@www.runireland.com
SUMMARY:St. John's FC Christmas Turkey Trot Sligo 2017
DESCRIPTION:When: Sunday 3rd December @ 1:30pm.\nWhen: Sunday 3rd December @ 1:30pm.\nWhere: Starting and finishing at Doorly Park playground\, Riverside\, Sligo.About: This is a 5km* PREDICTIVE race /fun run. No watches\, Garmins\, Phones\, etc allowed for timing. \nRegistration: When you register you put your predicted finish time. The top 3 runners/joggers whose finish time is closest to their predictive time wins a prize. It means the participant whose finishes 31st has as much chance as winning as the person who finishes 1st. You don’t have to be the fastest to win a prize!! There will also be prizes for first male and female finishers plus other age related prizes.There will also be a 2km fun run option.We encourage participants to wear Santa hats\, etc. to add to the fun for this family friendly event.Entry will be available via www.coretiming.ie \nAll funds raised will go towards the running\, maintenance and new equipment for St. John’s FC Underage teams.Please visit: www.stjohnsfcsligo.com or follow us on www.facebook.com/stjohnsfootie for updates.Please email stjohnsfc1981@gmail.com if you have any questions or queries.
URL:https://www.runireland.com/events/st-johns-fc-christmas-turkey-trot-sligo-2017/
LOCATION:Riverside\, Sligo\, Riverside\, Sligo\, Ireland
CATEGORIES:5K,Road Race
ATTACH;FMTTYPE=image/jpeg:https://www.runireland.com/wp-content/uploads/2017/11/turkey_trot_logo_1950682467.jpg
ORGANIZER;CN="John Nicholson":MAILTO:stjohnsfc1981@gmail.com
GEO:54.271179;-8.4635388
X-APPLE-STRUCTURED-LOCATION;VALUE=URI;X-ADDRESS=Riverside Sligo Riverside Sligo Ireland;X-APPLE-RADIUS=500;X-TITLE=Riverside:geo:-8.4635388,54.271179
END:VEVENT
BEGIN:VEVENT
DTSTART;TZID=Europe/Dublin:20171203T120000
DTEND;TZID=Europe/Dublin:20171203T170000
DTSTAMP:20260424T114422
CREATED:20171108T094317Z
LAST-MODIFIED:20171211T124136Z
UID:163867-1512302400-1512320400@www.runireland.com
SUMMARY:Belleek Woods 10km\, Ballina\, Co. Mayo
DESCRIPTION:The Belleek Woods\, Ballina 10km continues to grow every year and is a very popular 10K in the west.  \nThose that have run the Dublin City Marathon love to come out and test their 10k times on this fast and scenic course. The last two miles are downhill and go through the wonderful woodlands of Belleek Forest Park.\nThe event takes place on Sunday\, December 3rd at 12:00pm. Registration: Ballina Soccer Club.\nRace Start: Stone Archway (Besides Ballina Athletic Club) with the finish at Ballina Soccer Club.\nA perfect course to run a PB.\nChip Timed race.\nAAI Certified.\nEntry fee €15.00.\nBeanie cap for the first 150 entrants.
URL:https://www.runireland.com/events/wild-goose-chase-2017-2/
LOCATION:Belleek\, Balina\, Mayo\, Balina\, Mayo\, Ireland
CATEGORIES:10K,Road Race
ATTACH;FMTTYPE=image/jpeg:https://www.runireland.com/wp-content/uploads/2017/11/belleek_10k_2017.jpg
ORGANIZER;CN="Ann Egan":MAILTO:ballinaathleticclub@gmail.com
GEO:54.1149482;-9.1550693
X-APPLE-STRUCTURED-LOCATION;VALUE=URI;X-ADDRESS=Belleek Balina Mayo Balina Mayo Ireland;X-APPLE-RADIUS=500;X-TITLE=Balina:geo:-9.1550693,54.1149482
END:VEVENT
END:VCALENDAR