BEGIN:VCALENDAR
VERSION:2.0
PRODID:-//RunIreland.com - ECPv6.5.1.5//NONSGML v1.0//EN
CALSCALE:GREGORIAN
METHOD:PUBLISH
X-WR-CALNAME:RunIreland.com
X-ORIGINAL-URL:https://www.runireland.com
X-WR-CALDESC:Events for RunIreland.com
REFRESH-INTERVAL;VALUE=DURATION:PT1H
X-Robots-Tag:noindex
X-PUBLISHED-TTL:PT1H
BEGIN:VTIMEZONE
TZID:Europe/Dublin
BEGIN:STANDARD
TZOFFSETFROM:+0000
TZOFFSETTO:+0100
TZNAME:IST
DTSTART:20180325T010000
END:STANDARD
BEGIN:DAYLIGHT
TZOFFSETFROM:+0100
TZOFFSETTO:+0000
TZNAME:GMT
DTSTART:20181028T010000
END:DAYLIGHT
END:VTIMEZONE
BEGIN:VEVENT
DTSTART;TZID=Europe/Dublin:20181117T100000
DTEND;TZID=Europe/Dublin:20181117T133000
DTSTAMP:20260422T012716
CREATED:20180731T132735Z
LAST-MODIFIED:20181030T134434Z
UID:171112-1542448800-1542461400@www.runireland.com
SUMMARY:Clontarf Half Marathon
DESCRIPTION:Welcome to Joe Duffy BMW Clontarf half marathon and 5 mile. This is Ireland’s flattest half marathon and flattest 5 mile. It takes place in the scenic setting of Clontarf Promenade and Bull Island with views of Howth Head and Dublin bay. The race is contained within an off road promenade and Bull Island giving it unique and relaxing appeal. \nBoth races are open to runners/ joggers and walkers. The flat terrain makes it an ideal race to aim for a PB. The half marathon has pacers to help you achieve your Goal. The 5 mile is all on hard surfaced ground. \nBack with a bang after the Sell Out success of July 2018. We have gone with the same formula which attracted 3\,000 walkers\, joggers and runners to this flat course in July. It certainly has the big race atmosphere! Medals and goodies await you at our unique finish line. \nThis is an annual SELL OUT race. Don’t leave it too late to enter \nMEDALS: We will have a new medal for 2018. Watch this space!! \nRun\, Jog or Walk (we have a dedicated walking section) but don’t miss out on the Ápres Marathon race of 2018. Annual SELL OUT event. Places are limited. Enter now to avoid disappointment. \nGo out\, be active\, and most of all enjoy! \n 
URL:https://www.runireland.com/events/clontarf-half-marathon-2/
LOCATION:Clontarf\, Clontarf\, Dublin
CATEGORIES:Half Marathon,Road Race
ATTACH;FMTTYPE=image/jpeg:https://www.runireland.com/wp-content/uploads/2018/07/Clontarf-and-5-mile-hi-res.jpg
ORGANIZER;CN="Eoin Ryan":MAILTO:eoinryan1@hotmail.com
GEO:53.3660165;-6.2045103
X-APPLE-STRUCTURED-LOCATION;VALUE=URI;X-ADDRESS=Clontarf Clontarf Dublin;X-APPLE-RADIUS=500;X-TITLE=Clontarf:geo:-6.2045103,53.3660165
END:VEVENT
BEGIN:VEVENT
DTSTART;VALUE=DATE:20181118
DTEND;VALUE=DATE:20181119
DTSTAMP:20260422T012716
CREATED:20180703T101258Z
LAST-MODIFIED:20180703T101258Z
UID:170649-1542499200-1542585599@www.runireland.com
SUMMARY:The Great Ethiopian Run 2018
DESCRIPTION:With over 40\,000 participants from around the world and at 2\,500m above sea level\, the Great Ethiopian Run is an annual 10-kilometre road running event which takes place in late November in Addis Ababa.\nThe run through the streets of Addis Ababa is like no other. You can walk\, run or jog (and of course sing and dance!)\, so despite the altitude and heat\, it really is an achievable challenge for everyone\, and an experience that you’ll never forget.
URL:https://www.runireland.com/events/the-great-ethiopian-run-2018/
CATEGORIES:10K,Adventure Races,Road Race
ATTACH;FMTTYPE=image/jpeg:https://www.runireland.com/wp-content/uploads/2018/07/photo-ger.jpg
END:VEVENT
BEGIN:VEVENT
DTSTART;TZID=Europe/Dublin:20181118T140000
DTEND;TZID=Europe/Dublin:20181118T170000
DTSTAMP:20260422T012716
CREATED:20180827T174940Z
LAST-MODIFIED:20180827T174940Z
UID:171512-1542549600-1542560400@www.runireland.com
SUMMARY:Leenane 5 Mile Run | Jog | Walk
DESCRIPTION:Why not join the local run in aid of the upkeep of Leenane/Maam Red Cross ambulance! \nThe third Sunday in November\, November the 18th\, will see the tenth running of the Leenane 5 Mile. The event is open to all\, from elite runners to joggers and walkers. \nThe entry fee is 15 euro for an individual and 25 euro for a family. All monies raised go towards the upkeep of the Leenane/Maam Red Cross Ambulance. Registration is available through runireland.com\, via our website and limited registration will also be available on the day. Pick up your race number in the Community Centre\, Leenane\, from 12noon onwards. \nThe race starts at 2pm. Every participant receives a medal and there will be refreshments available in the Community Centre directly after the race. Get back early for some of the famous post-race cake! \nThere will be prizes for the first\, second and third male and female. The run starts at the Hotel in Leenane\, comes through the village and out the Westport Road\, turning right and around the beautiful townland of Glan\, then back into Leenane to finish in the village at the main car park. The surroundings are breathtaking as the route closely follows the shoreline of Killary Fjord. \nThe event is perfect for adventure racers and road runners who want to hold onto the fitness they have earned during the summer\, and 5 miles a very achievable distance if you are a first-timer. For more information please call Hazel on 087 7719751 or email Steve on jonsteve2@msn.com \nThe committee would like to thank the local sponsors – Timfy Designs Killary Cruises\, Aasleagh Fishery and Delphi Lodge for their support. Also a massive thank you to all the volunteers on the day.
URL:https://www.runireland.com/events/leenane-5-mile-run-jog-walk-2/
LOCATION:Leenane Village\, Leenane\, Leenane Co.Galway
CATEGORIES:5mile and 8k,Road Race
ATTACH;FMTTYPE=image/jpeg:https://www.runireland.com/wp-content/uploads/2018/08/thumb1.jpg
ORGANIZER;CN="Steve Coyne":MAILTO:jonsteve2@msn.com
END:VEVENT
END:VCALENDAR