BEGIN:VCALENDAR
VERSION:2.0
PRODID:-//RunIreland.com - ECPv6.5.1.5//NONSGML v1.0//EN
CALSCALE:GREGORIAN
METHOD:PUBLISH
X-WR-CALNAME:RunIreland.com
X-ORIGINAL-URL:https://www.runireland.com
X-WR-CALDESC:Events for RunIreland.com
REFRESH-INTERVAL;VALUE=DURATION:PT1H
X-Robots-Tag:noindex
X-PUBLISHED-TTL:PT1H
BEGIN:VTIMEZONE
TZID:Europe/Dublin
BEGIN:STANDARD
TZOFFSETFROM:+0000
TZOFFSETTO:+0100
TZNAME:IST
DTSTART:20180325T010000
END:STANDARD
BEGIN:DAYLIGHT
TZOFFSETFROM:+0100
TZOFFSETTO:+0000
TZNAME:GMT
DTSTART:20181028T010000
END:DAYLIGHT
END:VTIMEZONE
BEGIN:VEVENT
DTSTART;TZID=Europe/Dublin:20180704T183000
DTEND;TZID=Europe/Dublin:20180704T210000
DTSTAMP:20260423T082127
CREATED:20180522T123425Z
LAST-MODIFIED:20180522T132153Z
UID:170170-1530729000-1530738000@www.runireland.com
SUMMARY:DeCare SportaSmile 5km
DESCRIPTION:Now in its 17th year – DeCare Sport a Smile 5km fun run/walk will take place this year on Wednesday\, 4th July @6.30pm followed by a BBQ! \nNEW to this year’s event \nDeCare’s Company Challenge \nWhat’s involved? \nA team of 4 work colleagues \nThe time of first 3 team members over the finish line counts \nWinning teams company name engraved on the trophy which they get to keep until the 2019 event \nIs your company up for the challenge?
URL:https://www.runireland.com/events/decare-sportasmile-5km/
LOCATION:Claremorris Athletic Track\, Claremount\, Claremorris\, F12 KX63\, Ireland
CATEGORIES:5K,Road Race
ATTACH;FMTTYPE=image/jpeg:https://www.runireland.com/wp-content/uploads/2018/05/2016_Sport-A-Smile-Logo-resized.jpg
ORGANIZER;CN="DeCare Dental":MAILTO:sportasmile@decaredental.eu
END:VEVENT
BEGIN:VEVENT
DTSTART;TZID=Europe/Dublin:20180708T120000
DTEND;TZID=Europe/Dublin:20180708T140000
DTSTAMP:20260423T082127
CREATED:20180523T085757Z
LAST-MODIFIED:20180529T130425Z
UID:170205-1531051200-1531058400@www.runireland.com
SUMMARY:Inflatable Colour Run - Punchestown Kildare 12pm
DESCRIPTION:The Inflatable Colour Run is about to bounce into Kildare this Summer! \nThis is  ONE EVENT YOU DON’T WANT TO MISS! \nThe very best parts of Inflatable runs and Colour Runs\, combined\,  to make one EPIC day out\, suitable for all abilities. \nArrive dressed in white (or fancy dress if you’re really up for fun!) enjoy all the fun\, colour and music of the Start Line Party\,  then walk\, run\, dance or bounce your way around the route\, making your way through the colour stations and of course the Fun Inflatables! \nLaugh as we celebrate taking part with some music and even more colour at the finish line! \nAt the end\, we have a unique 2018 medal for each and every participant to add to their collection! Suitable for guys and girls\, adults and children\, runners and walkers.. if you love fun\, you will enjoy this event!
URL:https://www.runireland.com/events/inflatable-colour-run-punchestown-kildare/
CATEGORIES:Other,Road Race
ATTACH;FMTTYPE=image/png:https://www.runireland.com/wp-content/uploads/2018/05/General-image-Colour-Run-1.png
END:VEVENT
BEGIN:VEVENT
DTSTART;TZID=Europe/Dublin:20180715T103000
DTEND;TZID=Europe/Dublin:20180715T140000
DTSTAMP:20260423T082127
CREATED:20180410T101736Z
LAST-MODIFIED:20180410T101736Z
UID:169141-1531650600-1531663200@www.runireland.com
SUMMARY:The Frank Kelly 5km Run
DESCRIPTION:The Frank Kelly Run 2017 is a 5K road-race that takes place on July 15th at 12 noon in Corballa\, Co Sligo . The course starts and finishes at Castleconnor Community Centre. \nThe race is AAI certified. \nThe race starts promptly at 12 noon at Castleconnor Community Centre. Race number pickup is in the Community Hall located right by the start line between 10:15 and 11.45 on the morning of the race. Entries cost €10 and €5 for juveniles. However the race is limited to 200 entries. All entrants will receive a souvenir race medal\, Refreshments will be served after . \nThe race is AAI certified and has been officially measured . \nThe route is suitable for runners and walkers of all abilities. It is a very flat and fast course Prizes will be awarded in the following categories: Male and Female Senior \, O30\, O40\, O50\nThere will be teas\, coffees and snacks available for all participants in Castleconnor Hall after the race . Presentation of prizes will take place at 1:15 pm. \nPlease note that there will be changing facilities & showers available. Roads will not be closed for the event\, however there will be either marshals or Guards at all junctions.
URL:https://www.runireland.com/events/the-frank-kelly-5km-run/
LOCATION:Castleconnor\, Co Sligo\, Corballa\, Co Sligo\, Ireland
CATEGORIES:5K,Road Race
ATTACH;FMTTYPE=image/jpeg:https://www.runireland.com/wp-content/uploads/2018/04/frank_kelly.jpg
END:VEVENT
BEGIN:VEVENT
DTSTART;TZID=Europe/Dublin:20180722T070000
DTEND;TZID=Europe/Dublin:20180722T183000
DTSTAMP:20260423T082127
CREATED:20180405T120932Z
LAST-MODIFIED:20180405T120932Z
UID:169032-1532242800-1532284200@www.runireland.com
SUMMARY:Tough Mudder Ireland 2018 – Sunday
DESCRIPTION:Join Probably the Best Team on the Planet\nAre you awesome at helping others conquer their challenges? Then we want you on our team as a Tough Mudder Volunteer. Our volunteers are called Mudder MVPs (Most Valuable Players) because they are the driving force behind our team and create amazing life-changing experiences. \nWe have something for everyone who wants to volunteer\, from setting up the event site\, being the first to greet thousands of Mudders\, cheering them on as they are challenged through a series of obstacles\, or crowning Mudders with those hard-earned headbands. \nThis is one of the best ways to find out more about Tough Mudder events\, support your friends or family and earn an amazing discount to take to the course yourself and begin your journey. \nWhatever you do as a Mudder MVP\, you’ll be at the heart of it all\, creating life-changing experiences for everyone – including yourself. \nVolunteer Perks\n\nDiscount to Run a Tough Mudder or Tough Mudder Half\n20% off merchandise at the event and online\nFree Tough Mudder MVP T-shirt\nBreakfast and/or lunch depending on your shift\nFree parking for the duration of your volunteer shift\nThe feel-good factor\, as you support Mudders and change live\n\n\n\n\nVolunteer Shift\nVolunteer Discounted Ticket Price\n\n\n\n\n\n\n\n\n\nHalf Day Volunteer\n€40\n€20\n\n\nFull Day Volunteer\n€20\n€10
URL:https://www.runireland.com/events/tough-mudder-ireland-2018-sunday/
LOCATION:Loughcrew\, Co.Meath\, Loughcrew Adventure Centre\, Oldcastle\, Ireland
CATEGORIES:10 Miles,5mile and 8k,Adventure Races,Road Race
ATTACH;FMTTYPE=image/jpeg:https://www.runireland.com/wp-content/uploads/2018/04/D5M_1465.jpg
GEO:53.734141;-7.143688
X-APPLE-STRUCTURED-LOCATION;VALUE=URI;X-ADDRESS=Loughcrew Co.Meath Loughcrew Adventure Centre Oldcastle Ireland;X-APPLE-RADIUS=500;X-TITLE=Loughcrew Adventure Centre:geo:-7.143688,53.734141
END:VEVENT
BEGIN:VEVENT
DTSTART;TZID=Europe/Dublin:20180728T070000
DTEND;TZID=Europe/Dublin:20180728T180000
DTSTAMP:20260423T082127
CREATED:20180110T003907Z
LAST-MODIFIED:20180420T083749Z
UID:166286-1532761200-1532800800@www.runireland.com
SUMMARY:Born to Run – Tralee Marathon Club\, 40 Mile Relay (2)
DESCRIPTION:Born to Run Tralee Marathon Club are proud and excited to bring you the fourth annual Born to Run 40 Mile Ultra Marathon and second 2 person relay while introducing the first running of our 4 person relay. Taking place on Saturday July 28th in the town of Tralee\, this 40 Mile Ultra-marathon consists of ten 4 mile loops.  The course is made up of a relaxing (and flat) 1 mile river walkway (concrete) and country roads (not quiet flat in places). Each loop has two hills of approximately 0.5 miles each and have a climb of about 90 feet each. These hills are immediately followed by an equal downhill section which will be a welcome relief after the climb.
URL:https://www.runireland.com/events/born-run-tralee-marathon-club-40-mile-relay-2/
LOCATION:Tralee Co. Kerry
CATEGORIES:Other,Road Race,Ultra Marathons
ATTACH;FMTTYPE=image/jpeg:https://www.runireland.com/wp-content/uploads/2018/01/40mile-poster-1.jpg
ORGANIZER;CN="Born to Run Tralee Marathon Club":MAILTO:info@borntorun.ie
END:VEVENT
BEGIN:VEVENT
DTSTART;TZID=Europe/Dublin:20180728T070000
DTEND;TZID=Europe/Dublin:20180728T180000
DTSTAMP:20260423T082127
CREATED:20180406T194651Z
LAST-MODIFIED:20180420T083738Z
UID:169070-1532761200-1532800800@www.runireland.com
SUMMARY:Born to Run - Tralee Marathon Club\, 40 Mile Relay (4)
DESCRIPTION:Born to Run Tralee Marathon Club are proud and excited to bring you the fourth annual Born to Run 40 Mile Ultra Marathon and second 2 person relay while introducing the first running of our 4 person relay. Taking place on Saturday July 28th in the town of Tralee\, this 40 Mile Ultra-marathon consists of ten 4 mile loops. \nThe course is made up of a relaxing (and flat) 1 mile river walkway (concrete) and country roads (not quiet flat in places). Each loop has two hills of approximately 0.5 miles each and have a climb of about 90 feet each. These hills are immediately followed by an equal downhill section which will be a welcome relief after the climb.
URL:https://www.runireland.com/events/born-to-run-tralee-marathon-club-40-mile-relay-4/
LOCATION:Tralee Co. Kerry
CATEGORIES:10 Miles,Other,Road Race,Ultra Marathons
ATTACH;FMTTYPE=image/jpeg:https://www.runireland.com/wp-content/uploads/2018/04/40mile-poster.jpg
ORGANIZER;CN="Born to Run Tralee Marathon Club":MAILTO:info@borntorun.ie
END:VEVENT
END:VCALENDAR