BEGIN:VCALENDAR
VERSION:2.0
PRODID:-//RunIreland.com - ECPv6.5.1.5//NONSGML v1.0//EN
CALSCALE:GREGORIAN
METHOD:PUBLISH
X-ORIGINAL-URL:https://www.runireland.com
X-WR-CALDESC:Events for RunIreland.com
REFRESH-INTERVAL;VALUE=DURATION:PT1H
X-Robots-Tag:noindex
X-PUBLISHED-TTL:PT1H
BEGIN:VTIMEZONE
TZID:Europe/Dublin
BEGIN:STANDARD
TZOFFSETFROM:+0000
TZOFFSETTO:+0100
TZNAME:IST
DTSTART:20180325T010000
END:STANDARD
BEGIN:DAYLIGHT
TZOFFSETFROM:+0100
TZOFFSETTO:+0000
TZNAME:GMT
DTSTART:20181028T010000
END:DAYLIGHT
END:VTIMEZONE
BEGIN:VEVENT
DTSTART;TZID=Europe/Dublin:20180511T190000
DTEND;TZID=Europe/Dublin:20180511T210000
DTSTAMP:20260423T051905
CREATED:20180312T134052Z
LAST-MODIFIED:20180312T140445Z
UID:168191-1526065200-1526072400@www.runireland.com
SUMMARY:Splashworld 10k
DESCRIPTION:The Splashworld 10k road race\, in association with Tramore Athletic Club\, will take place\, at 7 pm\, on Friday the 11th of May. \nProceeds from this event will be going towards the development of a Running/Training track for use by Tramore Athletic Club. \n10K runners will be chip timed by Total timing. Race numbers will be given out to people registered online at Total Timing on the evening of the event or can be collected at Splashworld the day before the event. \nParticipants can avail of Splashworld’s changing rooms and use the pool\, free of charge\, following the event.
URL:https://www.runireland.com/events/splashworld-10k/
LOCATION:Splashworld\, Tramore\, Waterford\, X91 P8EW\, Ireland
CATEGORIES:10K,Road Race
GEO:52.1618528;-7.1472171
X-APPLE-STRUCTURED-LOCATION;VALUE=URI;X-ADDRESS=Splashworld Tramore Waterford X91 P8EW Ireland;X-APPLE-RADIUS=500;X-TITLE=Tramore:geo:-7.1472171,52.1618528
END:VEVENT
BEGIN:VEVENT
DTSTART;TZID=Europe/Dublin:20180511T193000
DTEND;TZID=Europe/Dublin:20180511T210000
DTSTAMP:20260423T051905
CREATED:20180417T105112Z
LAST-MODIFIED:20180417T105112Z
UID:169321-1526067000-1526072400@www.runireland.com
SUMMARY:Michael “Curley” Cunningham 4 Mile
DESCRIPTION:Mooreabbey Milers AC will host our annual club fundraising 4 mile road race on May 11th in the scenic village of Galbally Co. Limerick. This year it will be run in memory of our friend & clubmate\, the late great Michael “Curley” Cunningham who passed away in 2017. As per his wishes we will make a generous donation to the Oncology Unit of CUH. A perpetual cup will be presented to the winner of the race this & every year. Prize money for the top 3 men & women & first in men’s & women’s categories o/40\, o/50\, o/60 o/70. Refreshments afterwards. Online reg of €10 + fee (itsyourrace.com)\, €12 on the night. Go to our Facebook page for more info.
URL:https://www.runireland.com/events/michael-curley-cunningham-4-mile/
CATEGORIES:4 miles,Road Race
END:VEVENT
BEGIN:VEVENT
DTSTART;TZID=Europe/Dublin:20180513T103000
DTEND;TZID=Europe/Dublin:20180513T170000
DTSTAMP:20260423T051905
CREATED:20171109T150831Z
LAST-MODIFIED:20171213T150912Z
UID:164047-1526207400-1526230800@www.runireland.com
SUMMARY:The Searlait Tywang Memorial Road Run
DESCRIPTION:Sunday 13th May 2018 sees the 3rd Searlait Tywang Memorial Road Run again we are hosting 500M Kids Dash\, 5K\, 10K\, 10 Mile & Half Marathon \n2018 promises to be even better. \nWe once again are offering a distance to suit everyone with our half marathon\, 10mile\, 10km and 5km events and of course our kids 500m dash for our up and coming runners. This year’s event is capped at 700 participants with 150 of these places for the 5k event. This year we are timing our 5k event and yes you will all receive a custom made medal.
URL:https://www.runireland.com/events/the-searlait-tywang-memorial-road-run/
LOCATION:kilkenny\, Kilkenny City\, Kilkenny\, Ireland
CATEGORIES:10 Miles,10K,5K,Half Marathon,Road Race
ATTACH;FMTTYPE=image/jpeg:https://www.runireland.com/wp-content/uploads/2017/11/share2016-02-02-c3b22ea4ce86a84e8a1f4dc3eef6d82bdd1256904c3a8df1235cf820e8b1d9c9-picture.jpg
ORGANIZER;CN="Mairead Tywang":MAILTO:searlaitsrun@gmail.com
GEO:52.6541454;-7.2447879
X-APPLE-STRUCTURED-LOCATION;VALUE=URI;X-ADDRESS=kilkenny Kilkenny City Kilkenny Ireland;X-APPLE-RADIUS=500;X-TITLE=Kilkenny City:geo:-7.2447879,52.6541454
END:VEVENT
END:VCALENDAR