BEGIN:VCALENDAR
VERSION:2.0
PRODID:-//RunIreland.com - ECPv6.5.1.5//NONSGML v1.0//EN
CALSCALE:GREGORIAN
METHOD:PUBLISH
X-WR-CALNAME:RunIreland.com
X-ORIGINAL-URL:https://www.runireland.com
X-WR-CALDESC:Events for RunIreland.com
REFRESH-INTERVAL;VALUE=DURATION:PT1H
X-Robots-Tag:noindex
X-PUBLISHED-TTL:PT1H
BEGIN:VTIMEZONE
TZID:Europe/Dublin
BEGIN:STANDARD
TZOFFSETFROM:+0000
TZOFFSETTO:+0100
TZNAME:IST
DTSTART:20180325T010000
END:STANDARD
BEGIN:DAYLIGHT
TZOFFSETFROM:+0100
TZOFFSETTO:+0000
TZNAME:GMT
DTSTART:20181028T010000
END:DAYLIGHT
END:VTIMEZONE
BEGIN:VEVENT
DTSTART;TZID=Europe/Dublin:20180402T110000
DTEND;TZID=Europe/Dublin:20180402T123000
DTSTAMP:20260423T082134
CREATED:20180130T153955Z
LAST-MODIFIED:20180130T164936Z
UID:166940-1522666800-1522672200@www.runireland.com
SUMMARY:Ballyglass Fun Run/ Walk
DESCRIPTION:Ballyglass Annual Fun Run and Walk On Easter Monday April 2nd at 11am (Registration at 10am).
URL:https://www.runireland.com/events/ballyglass-fun-run-walk/
LOCATION:Ballyglass Football Club\, Ballyglass\, Claremorris\, Co. Mayo\, Ballyglass\, Claremorris\, Co. Mayo
CATEGORIES:5mile and 8k,Road Race
ATTACH;FMTTYPE=image/png:https://www.runireland.com/wp-content/uploads/2018/01/race.png
GEO:53.7238764;-9.0017356
X-APPLE-STRUCTURED-LOCATION;VALUE=URI;X-ADDRESS=Ballyglass Football Club Ballyglass Claremorris Co. Mayo Ballyglass Claremorris Co. Mayo;X-APPLE-RADIUS=500;X-TITLE=Ballyglass\, Claremorris:geo:-9.0017356,53.7238764
END:VEVENT
BEGIN:VEVENT
DTSTART;TZID=Europe/Dublin:20180402T123000
DTEND;TZID=Europe/Dublin:20180402T143000
DTSTAMP:20260423T082134
CREATED:20180121T175721Z
LAST-MODIFIED:20180121T175721Z
UID:166654-1522672200-1522679400@www.runireland.com
SUMMARY:Jog for a Dog 5k
DESCRIPTION:5K Charity event\, raising funds for My Canine Companion Autism Service Dogs for children and young adults with Autism. This is the fourth running of this very popular event which has sold out on line every year. Strictly limited to 500 participants. Chipped timing\, Category prizes\, refreshments. Coinciding with World Autism Awareness Day
URL:https://www.runireland.com/events/jog-dog-5k/
LOCATION:Castletown House\, Celbridge\, Castletown House\, Celbridge\, Co Kildare\, W23 V9H3
CATEGORIES:5K,Road Race
ATTACH;FMTTYPE=image/jpeg:https://www.runireland.com/wp-content/uploads/2018/01/IMG_20180119_210500.jpg
ORGANIZER;CN="PopUpRaces":MAILTO:info@popupraces.ie
GEO:53.349127;-6.53029
X-APPLE-STRUCTURED-LOCATION;VALUE=URI;X-ADDRESS=Castletown House Celbridge Castletown House Celbridge Co Kildare W23 V9H3;X-APPLE-RADIUS=500;X-TITLE=Castletown House:geo:-6.53029,53.349127
END:VEVENT
BEGIN:VEVENT
DTSTART;TZID=Europe/Dublin:20180408T120000
DTEND;TZID=Europe/Dublin:20180408T120000
DTSTAMP:20260423T082134
CREATED:20180223T081016Z
LAST-MODIFIED:20180224T101543Z
UID:167836-1523188800-1523188800@www.runireland.com
SUMMARY:Belcarra 8K
DESCRIPTION:Belcarra 8K–  €15 \nA wonderful event for the family catering for all levels of walkers\, joggers and runners. \nDiscount for families- €25. \nRace Registration on the day available at Belcarra Community Centre. The Community Centre is located across the road from church. This will be signposted from all approaches to the village. The race starts at 12 noon. Ample parking facilities in the surrounding area. \nThis year’s event is sponsored again by the local businesses in the area. Any profits from the race go to the Belcarra Community Recreational Park & Playground Development Fund. \nPrize giving and the legendary local refreshments will be available in Belcarra Community Centre. \nEvent image sourced on the 22/02/2018 at: https://www.mayo-ireland.ie/en/towns-villages/belcarra/belcarra-gallery.html \n© Mayo Ireland Ltd 1996-2016.
URL:https://www.runireland.com/events/belcarra-8k/
LOCATION:belcarra\, Castlebar\, Belcarra\, Castlebar\, Ireland
CATEGORIES:5mile and 8k,Kids Race,Road Race
ATTACH;FMTTYPE=image/jpeg:https://www.runireland.com/wp-content/uploads/2018/02/Belcarra.jpg
GEO:53.8550014;-9.2879257
X-APPLE-STRUCTURED-LOCATION;VALUE=URI;X-ADDRESS=belcarra Castlebar Belcarra Castlebar Ireland;X-APPLE-RADIUS=500;X-TITLE=Belcarra:geo:-9.2879257,53.8550014
END:VEVENT
BEGIN:VEVENT
DTSTART;TZID=Europe/Dublin:20180411T190000
DTEND;TZID=Europe/Dublin:20180411T203000
DTSTAMP:20260423T082134
CREATED:20180420T083015Z
LAST-MODIFIED:20180420T083015Z
UID:169081-1523473200-1523478600@www.runireland.com
SUMMARY:Lilliput 5km Series
DESCRIPTION:3 x 5 km races on a very flat fast course. An ideal race for beginners & newbies. Lots of helpful athletes taking part. Nothing serious\, Just enjoy. \nWhen:\nWednesday April 11th\, 18th & 25th @ 19:00 SHARP \nEntry Fee:\nAdults – 1 Race 10€ or 3 Races 25€\nU15’s – 1 Race 5€ or 3 Races 10€ \nEntry Fee Includes:\nChipped timing\, parking\, Race Entry\, Marshalls\, First Aid\, Showers & Refreshments. \nCategories:\nSenior Male & Female\, Over 40’s Male & Female\, Under 16’s Male & Female – 1st\, 2nd\, 3rd
URL:https://www.runireland.com/events/lilliput-5km-series/2018-04-11/
LOCATION:Lilliput Adventure Centre\, Lilliput House\, Lough Ennell\, Co. Westmeath\, N91 W97W
CATEGORIES:5K,Road Race
ATTACH;FMTTYPE=image/png:https://www.runireland.com/wp-content/uploads/2018/04/FB_Banner-1.png
ORGANIZER;CN="Lilliput Legend":MAILTO:info@lilliputadventure.com
END:VEVENT
END:VCALENDAR