BEGIN:VCALENDAR
VERSION:2.0
PRODID:-//RunIreland.com - ECPv6.5.1.5//NONSGML v1.0//EN
CALSCALE:GREGORIAN
METHOD:PUBLISH
X-ORIGINAL-URL:https://www.runireland.com
X-WR-CALDESC:Events for RunIreland.com
REFRESH-INTERVAL;VALUE=DURATION:PT1H
X-Robots-Tag:noindex
X-PUBLISHED-TTL:PT1H
BEGIN:VTIMEZONE
TZID:Europe/Dublin
BEGIN:STANDARD
TZOFFSETFROM:+0000
TZOFFSETTO:+0100
TZNAME:IST
DTSTART:20180325T010000
END:STANDARD
BEGIN:DAYLIGHT
TZOFFSETFROM:+0100
TZOFFSETTO:+0000
TZNAME:GMT
DTSTART:20181028T010000
END:DAYLIGHT
END:VTIMEZONE
BEGIN:VEVENT
DTSTART;TZID=Europe/Dublin:20180311T120000
DTEND;TZID=Europe/Dublin:20180311T120000
DTSTAMP:20260423T095824
CREATED:20171219T172748Z
LAST-MODIFIED:20171228T174209Z
UID:165437-1520769600-1520769600@www.runireland.com
SUMMARY:Abbey 8km Challenge
DESCRIPTION:The Abbey 8Km Road Race takes place around the Village of Abbey\, Loughrea. It will be chip timed again this year and all race entrants will get the Abbey 8KM Tech T Shirt. Last year we changed the route to a flatter 8Km course and it proved a great success. The race this year will be on the same Route\, starting and finishing in the Village\, close to the Community Centre. Registration will take place in the Community Centre on morning of the race from 10am to 11.30am. There are toilets and a bag drop in the Community Centre. Parking is very close by. All funds raised to the up keep of the Community and the Abbey Scouts.
URL:https://www.runireland.com/events/abbey-8km-challenge/
LOCATION:Abbey\, Loughrea\, Co. Galway\, Loughrea\, Galway\, Ireland
CATEGORIES:5mile and 8k,Road Race
GEO:53.1989136;-8.5660931
X-APPLE-STRUCTURED-LOCATION;VALUE=URI;X-ADDRESS=Abbey Loughrea Co. Galway Loughrea Galway Ireland;X-APPLE-RADIUS=500;X-TITLE=Loughrea:geo:-8.5660931,53.1989136
END:VEVENT
BEGIN:VEVENT
DTSTART;TZID=Europe/Dublin:20180311T120000
DTEND;TZID=Europe/Dublin:20180311T150000
DTSTAMP:20260423T095824
CREATED:20180216T115040Z
LAST-MODIFIED:20180216T121548Z
UID:167597-1520769600-1520780400@www.runireland.com
SUMMARY:Killoe Run 10k & 5k Run
DESCRIPTION:Come join us for our annual 10k/5k run which takes place on the 11th March 2018 at 12pm.\nA challenging and hilly 10k which proves enjoyable combined with a fast flat 5k. A great day out to be had.\nRefreshments served afterward in clubhouse
URL:https://www.runireland.com/events/killoe-run-10k-5k-run/2018-03-11/
LOCATION:Killoe Longford\, clonee\, Longford
CATEGORIES:10K,5K,Road Race
ATTACH;FMTTYPE=image/jpeg:https://www.runireland.com/wp-content/uploads/2018/02/28D054E0-99B3-44AE-8D24-9853B36ECD8E.jpeg
GEO:53.760313;-7.7373001
X-APPLE-STRUCTURED-LOCATION;VALUE=URI;X-ADDRESS=Killoe Longford clonee Longford;X-APPLE-RADIUS=500;X-TITLE=clonee:geo:-7.7373001,53.760313
END:VEVENT
END:VCALENDAR