BEGIN:VCALENDAR
VERSION:2.0
PRODID:-//RunIreland.com - ECPv6.5.1.5//NONSGML v1.0//EN
CALSCALE:GREGORIAN
METHOD:PUBLISH
X-ORIGINAL-URL:https://www.runireland.com
X-WR-CALDESC:Events for RunIreland.com
REFRESH-INTERVAL;VALUE=DURATION:PT1H
X-Robots-Tag:noindex
X-PUBLISHED-TTL:PT1H
BEGIN:VTIMEZONE
TZID:Europe/Dublin
BEGIN:STANDARD
TZOFFSETFROM:+0000
TZOFFSETTO:+0100
TZNAME:IST
DTSTART:20190331T010000
END:STANDARD
BEGIN:DAYLIGHT
TZOFFSETFROM:+0100
TZOFFSETTO:+0000
TZNAME:GMT
DTSTART:20191027T010000
END:DAYLIGHT
END:VTIMEZONE
BEGIN:VEVENT
DTSTART;TZID=Europe/Dublin:20190908T120000
DTEND;TZID=Europe/Dublin:20190908T120000
DTSTAMP:20260424T064927
CREATED:20190809T141354Z
LAST-MODIFIED:20190809T141354Z
UID:178602-1567944000-1567944000@www.runireland.com
SUMMARY:Bull Run 2019
DESCRIPTION:Join Clontarf Hockey Club for a run around the beautiful St. Anne’s park in Raheny! \nThis event is open to all  – runners\, joggers and walkers alike!!  Test yourself on this flat\, fast 4 mile course or get the family together for a fun day in the great outdoors. \nThis will be a chip timed event with prizes for the 1st female and 1st male to cross the line. \nProceeds from the race go towards Clontarf Hockey Club’s Pitch Fundraising Campaign. \nWe appreciate your support and look forward to welcoming you on the day! \nDate: 8th September 2019 \nStart Time: 12pm \nDistance 4 miles (timed) \nCost: €20 pre-register (€25 on the day) \nRegistration www.bullrun.ie
URL:https://www.runireland.com/events/bull-run-2019/
LOCATION:St. Anne’s Park\, Raheny\, Ireland
CATEGORIES:4 miles
ORGANIZER;CN="Clontarf Hockey Club":MAILTO:ormrodr@gmail.com
END:VEVENT
END:VCALENDAR