BEGIN:VCALENDAR
VERSION:2.0
PRODID:-//RunIreland.com - ECPv6.5.1.5//NONSGML v1.0//EN
CALSCALE:GREGORIAN
METHOD:PUBLISH
X-WR-CALNAME:RunIreland.com
X-ORIGINAL-URL:https://www.runireland.com
X-WR-CALDESC:Events for RunIreland.com
REFRESH-INTERVAL;VALUE=DURATION:PT1H
X-Robots-Tag:noindex
X-PUBLISHED-TTL:PT1H
BEGIN:VTIMEZONE
TZID:Europe/Dublin
BEGIN:STANDARD
TZOFFSETFROM:+0000
TZOFFSETTO:+0100
TZNAME:IST
DTSTART:20190331T010000
END:STANDARD
BEGIN:DAYLIGHT
TZOFFSETFROM:+0100
TZOFFSETTO:+0000
TZNAME:GMT
DTSTART:20191027T010000
END:DAYLIGHT
END:VTIMEZONE
BEGIN:VEVENT
DTSTART;TZID=Europe/Dublin:20190907T173000
DTEND;TZID=Europe/Dublin:20190907T190000
DTSTAMP:20260424T064532
CREATED:20190531T072952Z
LAST-MODIFIED:20190531T072952Z
UID:177984-1567877400-1567882800@www.runireland.com
SUMMARY:Mick Murphy Memorial 4 mile Road Race
DESCRIPTION:MICK MURPHY MEMORIAL 4 MILE 2019\n7th SEPTEMBER\, FERNS\, CO.WEXFORD \nCash Prizes . Team event.First 200 to enter get A fab bobble hat and a great day out!!\nSet your goals and get registering!
URL:https://www.runireland.com/events/mick-murphy-memorial-4-mile-road-race/
LOCATION:Ferns\, Co. Wexford\, Ferns\, Wexford
CATEGORIES:4 miles
ATTACH;FMTTYPE=image/png:https://www.runireland.com/wp-content/uploads/2019/05/6CCF70CE-DAB3-4A30-BC42-8A8DBDA9FF62.png
ORGANIZER;CN="Sliabh Bhuide Rover AC":MAILTO:Bewleysberry@yahoo.co.uk
END:VEVENT
END:VCALENDAR