BEGIN:VCALENDAR
VERSION:2.0
PRODID:-//RunIreland.com - ECPv6.5.1.5//NONSGML v1.0//EN
CALSCALE:GREGORIAN
METHOD:PUBLISH
X-ORIGINAL-URL:https://www.runireland.com
X-WR-CALDESC:Events for RunIreland.com
REFRESH-INTERVAL;VALUE=DURATION:PT1H
X-Robots-Tag:noindex
X-PUBLISHED-TTL:PT1H
BEGIN:VTIMEZONE
TZID:Europe/Dublin
BEGIN:STANDARD
TZOFFSETFROM:+0000
TZOFFSETTO:+0100
TZNAME:IST
DTSTART:20190331T010000
END:STANDARD
BEGIN:DAYLIGHT
TZOFFSETFROM:+0100
TZOFFSETTO:+0000
TZNAME:GMT
DTSTART:20191027T010000
END:DAYLIGHT
END:VTIMEZONE
BEGIN:VEVENT
DTSTART;TZID=Europe/Dublin:20190524T193000
DTEND;TZID=Europe/Dublin:20190524T220000
DTSTAMP:20260424T122352
CREATED:20190510T104516Z
LAST-MODIFIED:20190510T124515Z
UID:177653-1558726200-1558735200@www.runireland.com
SUMMARY:Clane AC 4 Miler
DESCRIPTION:Clane AC 4 mile race\nFriday 24th May 2019\n7:30pm \n​Clane Athletic Club\, Scoil Mhuire\, Clane\, Co.Kildare \n  \nREGISTER ON:  www.popupraces.ie/race/clane-ac-4-mile-race/ \n  \n \nClane Athletic Club is delighted to announce the arrival of its new purpose built athletics track\, comprising of a 200 metre\, six-lane floodlit track. \n  \nClane community will sprint into a new athletics era with the opening of a new\, bespoke athletic track later in 2019….in the mean time\, we will be hosting a fundraising 4 mile event on Friday May 24th 2019 at 7:30pm. \n  \nThe development is described as a major coup for our community\, and a major boost for a new generation of athletes with a dedicated facility. \n  \nClane Athletic club will celebrate  the new 200-metre track with a unique 4 mile road race. This is both a celebration of our new facility and importantly an opportunity to fundraise to offset the capital costs of the project. \n  \nIt will be the first part of the €250\,000 investment in an athletics hub. The new facility will help undoubtedly attract more participants\, foster local talent and signal a turning point in athletics and a new era. \nThe race will also form part of the Kildare Road Race Series (incorporating the ‘Pat Maleady Memorial Run’) \nThe investment in Clane Athletics and the facilities will transform athletics for our current stars and the stars of the future. We wanted to make sure that the facilities were second to none and will encourage more people\, particularly young people\, to take up the sport. \n\n4 MILE Road race (incorporating the Pat Maleady Memorial Trophy- Junior Athletes)\nPost Race Refreshments & Hospitality\nCategory Prizes\nGuest Celebrities\n\nWhy no medal or T-Shirt?\nThere will be no medals or T-shirts for this event.\nThe nature of this fundraising event is to maximise monies contributing to the track.\nThere is no entry fee for this race\, however\, the club are asking for donations where possible towards the completion of the track. \nDonations can be made at the end of the registration process. \n\nREGISTER ON:  www.popupraces.ie/race/clane-ac-4-mile-race/
URL:https://www.runireland.com/events/clane-ac-4-miler/
LOCATION:Scoil Mhuire Community School Clane\, Prosperous Road\, Clane\, Kildare
CATEGORIES:4 miles
ORGANIZER;CN="Clane Athletic Club":MAILTO:claneathleticclub@gmail.com
END:VEVENT
END:VCALENDAR