BEGIN:VCALENDAR
VERSION:2.0
PRODID:-//RunIreland.com - ECPv6.5.1.5//NONSGML v1.0//EN
CALSCALE:GREGORIAN
METHOD:PUBLISH
X-WR-CALNAME:RunIreland.com
X-ORIGINAL-URL:https://www.runireland.com
X-WR-CALDESC:Events for RunIreland.com
REFRESH-INTERVAL;VALUE=DURATION:PT1H
X-Robots-Tag:noindex
X-PUBLISHED-TTL:PT1H
BEGIN:VTIMEZONE
TZID:Europe/Dublin
BEGIN:STANDARD
TZOFFSETFROM:+0000
TZOFFSETTO:+0100
TZNAME:IST
DTSTART:20190331T010000
END:STANDARD
BEGIN:DAYLIGHT
TZOFFSETFROM:+0100
TZOFFSETTO:+0000
TZNAME:GMT
DTSTART:20191027T010000
END:DAYLIGHT
END:VTIMEZONE
BEGIN:VEVENT
DTSTART;TZID=Europe/Dublin:20190510T200000
DTEND;TZID=Europe/Dublin:20190510T210000
DTSTAMP:20260424T122152
CREATED:20190509T091258Z
LAST-MODIFIED:20190509T091400Z
UID:177597-1557518400-1557522000@www.runireland.com
SUMMARY:Michael Curley Cunningham 4 Mile
DESCRIPTION:Mooreabbey Milers AC will hold the 2nd annual Michael Curley Cunningham 4 Mile race in honor of the legend that was Curley on Friday May 10th at 8pm in Galbally\, Co. Limerick. \nRegister on the night from 6.30pm in the community centre. Reg closes at 7.45pm sharp as the start is approx 1k away. Reg fee €10 per runner. \nAAI permit granted\, accurately measured. \n€200 for the first male & female. Cash bonus is last year’s male & female course records are broken. Cash prizes for 2nd & 3rd male & female plus cash prizes for 1st o/40\, o/50\, o/60\, o/70 & 1st male & female junior (16-18). \nSpot prizes to be won plus enjoy delicious refreshment in the community centre afterward.
URL:https://www.runireland.com/events/michael-curley-cunningham-4-mile-2/
LOCATION:Galbally\, Co. Limerick
CATEGORIES:4 miles
ATTACH;FMTTYPE=image/jpeg:https://www.runireland.com/wp-content/uploads/2019/05/c.jpg
END:VEVENT
END:VCALENDAR