BEGIN:VCALENDAR
VERSION:2.0
PRODID:-//RunIreland.com - ECPv6.5.1.5//NONSGML v1.0//EN
CALSCALE:GREGORIAN
METHOD:PUBLISH
X-ORIGINAL-URL:https://www.runireland.com
X-WR-CALDESC:Events for RunIreland.com
REFRESH-INTERVAL;VALUE=DURATION:PT1H
X-Robots-Tag:noindex
X-PUBLISHED-TTL:PT1H
BEGIN:VTIMEZONE
TZID:Europe/Dublin
BEGIN:STANDARD
TZOFFSETFROM:+0000
TZOFFSETTO:+0100
TZNAME:IST
DTSTART:20190331T010000
END:STANDARD
BEGIN:DAYLIGHT
TZOFFSETFROM:+0100
TZOFFSETTO:+0000
TZNAME:GMT
DTSTART:20191027T010000
END:DAYLIGHT
END:VTIMEZONE
BEGIN:VEVENT
DTSTART;TZID=Europe/Dublin:20190504T100000
DTEND;TZID=Europe/Dublin:20190504T120000
DTSTAMP:20260424T122356
CREATED:20190306T091927Z
LAST-MODIFIED:20200522T150018Z
UID:176209-1556964000-1556971200@www.runireland.com
SUMMARY:Star Wars 4 Miler and Virtual Run
DESCRIPTION:It’s 20 years after Star Wars Episode I “The Phantom Menace” was released in cinemas in 1999\, and we are gonna hold a walk/jog/run over 4mile distance to celebrate it. So get your trainers on\, and earn Star Wars themed medal. 4th May 2019 – Attymass (Ballina)\, Co. Mayo or virtual run option. \nSign up here – https://www.active.com/attymass-ballina-mayo/running/distance-running/star-wars-4-miler-4th-may-2019 \nChip timed event with 80mm medal for all finishers! \n\nVenue has been confirmed for Attymass and route will be 4 mile loop around the lake! Garmin link will be posted on fb shortly. \nFor all updated please follow: \nhttps://www.facebook.com/events/2021897378112937/ \n  \nVirtual Run information is in the link below: \nhttps://drive.google.com/open?id=1sq6IEJg8XFGHKWb855XLAo21NkNOgoMQ \n  \n 
URL:https://www.runireland.com/events/star-wars-4-miler-and-virtual-run/
LOCATION:Attymass\, Attymass\, Ballina
CATEGORIES:4 miles,Other
ATTACH;FMTTYPE=image/jpeg:https://www.runireland.com/wp-content/uploads/2019/03/starwars.jpg
ORGANIZER;CN="run4time":MAILTO:contact.run4time@gmail.com
END:VEVENT
END:VCALENDAR