BEGIN:VCALENDAR
VERSION:2.0
PRODID:-//RunIreland.com - ECPv6.5.1.5//NONSGML v1.0//EN
CALSCALE:GREGORIAN
METHOD:PUBLISH
X-ORIGINAL-URL:https://www.runireland.com
X-WR-CALDESC:Events for RunIreland.com
REFRESH-INTERVAL;VALUE=DURATION:PT1H
X-Robots-Tag:noindex
X-PUBLISHED-TTL:PT1H
BEGIN:VTIMEZONE
TZID:Europe/Dublin
BEGIN:STANDARD
TZOFFSETFROM:+0000
TZOFFSETTO:+0100
TZNAME:IST
DTSTART:20180325T010000
END:STANDARD
BEGIN:DAYLIGHT
TZOFFSETFROM:+0100
TZOFFSETTO:+0000
TZNAME:GMT
DTSTART:20181028T010000
END:DAYLIGHT
END:VTIMEZONE
BEGIN:VEVENT
DTSTART;TZID=Europe/Dublin:20181006T130000
DTEND;TZID=Europe/Dublin:20181006T170000
DTSTAMP:20260425T180503
CREATED:20180612T113001Z
LAST-MODIFIED:20180612T122258Z
UID:170418-1538830800-1538845200@www.runireland.com
SUMMARY:Ox Mountain Challenge 2018
DESCRIPTION:Ox Mountain Challenge Run 2018 \n  \nThe 2nd Annual Ox Mountain Challenge is a10 mile Road Race / Mountain Run with a half way split. It is a Community Run that will take place on Saturday October 6th at 1.00 p.m.  \n  \nSkreen / Dromard Community Centre will be the base for the Run where registration\, briefing\, parking and changing facilities will be available .The Community Centre is located on the main Sligo- Ballina Road (N59) approx. 6 miles from Ballisadare. Runners can pick up their Race Tags etc on Friday 6th from 7pm – 10pm & and on the morning of the run from 10am – 12am.  Late registration will be available during both time slots. \nTo accommodate fitness of all levels a team relay of 4 X 2.5 mile race will be available along with a 4 mile run / walk .This run will be a smaller loop of the 10 mile run but will have the same start and finish. As this is a new run on the athletic Club Calendar early entry is advisable. Online registration is through Core Timing and will close one week before race day. Different Category prizes to be won on the day\, full details to be published later.  \n 
URL:https://www.runireland.com/events/ox-mountain-challenge-2018/
CATEGORIES:10 Miles,10K,4 miles,Adventure Races
ORGANIZER;CN="coretiming":MAILTO:coretiming@gmail.com
END:VEVENT
BEGIN:VEVENT
DTSTART;TZID=Europe/Dublin:20181007T123000
DTEND;TZID=Europe/Dublin:20181007T140000
DTSTAMP:20260425T180503
CREATED:20180831T092438Z
LAST-MODIFIED:20180831T092438Z
UID:171521-1538915400-1538920800@www.runireland.com
SUMMARY:Lake Region Medical Charity 4 Mile Run/2 Mile Walk
DESCRIPTION:The Lake Region Medical 4 Mile Fun Run/2 Mile Walk takes place on Sunday 7th October at 12:30pm on the scenic grounds of the JFK Arboretum just outside New Ross in County Wexford.\nThis charity event is in aid of the Educate Together\, National School\, New Ross and St Patrick’s Special School\, Enniscorthy. \n \nThe day will commence with registration from 11:30am and events kicking off with the “Lake Region Kiddies Dash” at 12:30pm which covers distances of up to 80 meter sprints for kids from the ages of 4 to 12 years old (kids go free). This will be followed by a 4 mile timed run @ 1:30pm consisting of 2 laps of the park for runners of all ages and disciplines. This will be shortly followed by a 2 mile lap of the park for walkers\, those with buggies & kids and anyone who wants to take part. \nTo register\, pick up a sponsorship pack or find out more about this great event then go to https://www.lakeregionmedical4mile.com/ and keep up to date with information on www.facebook.com/LakeRegionFunRun
URL:https://www.runireland.com/events/lake-region-medical-charity-4-mile-run-2-mile-walk/
LOCATION:JFK Arboretum\, New Ross\, Co. Wexford\, Ireland
CATEGORIES:4 miles,Kids Race,Other
ORGANIZER;CN="Donagh Minihan":MAILTO:Donaghm@gmail.com
END:VEVENT
END:VCALENDAR