BEGIN:VCALENDAR
VERSION:2.0
PRODID:-//RunIreland.com - ECPv6.5.1.5//NONSGML v1.0//EN
CALSCALE:GREGORIAN
METHOD:PUBLISH
X-ORIGINAL-URL:https://www.runireland.com
X-WR-CALDESC:Events for RunIreland.com
REFRESH-INTERVAL;VALUE=DURATION:PT1H
X-Robots-Tag:noindex
X-PUBLISHED-TTL:PT1H
BEGIN:VTIMEZONE
TZID:Europe/Dublin
BEGIN:STANDARD
TZOFFSETFROM:+0000
TZOFFSETTO:+0100
TZNAME:IST
DTSTART:20180325T010000
END:STANDARD
BEGIN:DAYLIGHT
TZOFFSETFROM:+0100
TZOFFSETTO:+0000
TZNAME:GMT
DTSTART:20181028T010000
END:DAYLIGHT
END:VTIMEZONE
BEGIN:VEVENT
DTSTART;TZID=Europe/Dublin:20180901T140000
DTEND;TZID=Europe/Dublin:20180901T170000
DTSTAMP:20260425T204343
CREATED:20180731T150128Z
LAST-MODIFIED:20180801T101052Z
UID:171145-1535810400-1535821200@www.runireland.com
SUMMARY:Clontarf Hockey Club Bull Run (4 mile)
DESCRIPTION:On Saturday the 1st of September\, Clontarf Hockey Club will host the inaugural 4 mile BULLRUN in St. Anne’s Park to raise much needed funds for the re-development of our hockey pitch\, located in Mount Temple Comprehensive School in Clontarf. \nThis event is open to men\, women\, runners\, joggers and walkers. At 4 miles the event offers a great opportunity for everyone to get involved\, with a significant emphasis on the day placed on having fun at a friendly event for all to enjoy. It also offers an opportunity for those more experienced runners to test themselves over 4 miles on a flat\, fast course. Prizes are available for the 1st female and 1st male to cross the line. It will be chip timed\, taking in the beautiful surrounds of St. Annes Park. \nClontarf Hockey Club are excited to host this event\, which is part of our Pitch Fundraising Campaign\, and we look forward to your support and welcoming you on the day for what will be a great event! \nFor more information check out www.bullrun.ie
URL:https://www.runireland.com/events/clontarf-hockey-club-bull-run-4-mile/
LOCATION:St. Anne’s Park\, Raheny\, Dublin 5
CATEGORIES:4 miles
ORGANIZER;CN="Clontarf Hockey Club":MAILTO:ormrodr@gmail.com
END:VEVENT
BEGIN:VEVENT
DTSTART;TZID=Europe/Dublin:20180908T170000
DTEND;TZID=Europe/Dublin:20180908T190000
DTSTAMP:20260425T204343
CREATED:20180903T120256Z
LAST-MODIFIED:20180903T130408Z
UID:171633-1536426000-1536433200@www.runireland.com
SUMMARY:Mick Murphy 4 Mile Road Race
DESCRIPTION:Mick Murphy 4 Mile Road Race takes place Saturday 8th September at 5pm in Ferns Village Co.Wexford. Hosted by SLiabh Buidhe Rovers AC this is a great race – cash prizes throughout the field. Finisher Medal.
URL:https://www.runireland.com/events/mick-murphy-4-mile-road-race/
CATEGORIES:4 miles
ATTACH;FMTTYPE=image/jpeg:https://www.runireland.com/wp-content/uploads/2018/09/Mick-Murphy-Flyer-2018.jpg
END:VEVENT
END:VCALENDAR