BEGIN:VCALENDAR
VERSION:2.0
PRODID:-//RunIreland.com - ECPv6.5.1.5//NONSGML v1.0//EN
CALSCALE:GREGORIAN
METHOD:PUBLISH
X-ORIGINAL-URL:https://www.runireland.com
X-WR-CALDESC:Events for RunIreland.com
REFRESH-INTERVAL;VALUE=DURATION:PT1H
X-Robots-Tag:noindex
X-PUBLISHED-TTL:PT1H
BEGIN:VTIMEZONE
TZID:Europe/Dublin
BEGIN:STANDARD
TZOFFSETFROM:+0000
TZOFFSETTO:+0100
TZNAME:IST
DTSTART:20170326T010000
END:STANDARD
BEGIN:DAYLIGHT
TZOFFSETFROM:+0100
TZOFFSETTO:+0000
TZNAME:GMT
DTSTART:20171029T010000
END:DAYLIGHT
BEGIN:STANDARD
TZOFFSETFROM:+0000
TZOFFSETTO:+0100
TZNAME:IST
DTSTART:20180325T010000
END:STANDARD
BEGIN:DAYLIGHT
TZOFFSETFROM:+0100
TZOFFSETTO:+0000
TZNAME:GMT
DTSTART:20181028T010000
END:DAYLIGHT
BEGIN:STANDARD
TZOFFSETFROM:+0000
TZOFFSETTO:+0100
TZNAME:IST
DTSTART:20190331T010000
END:STANDARD
BEGIN:DAYLIGHT
TZOFFSETFROM:+0100
TZOFFSETTO:+0000
TZNAME:GMT
DTSTART:20191027T010000
END:DAYLIGHT
BEGIN:STANDARD
TZOFFSETFROM:+0000
TZOFFSETTO:+0100
TZNAME:IST
DTSTART:20200329T010000
END:STANDARD
BEGIN:DAYLIGHT
TZOFFSETFROM:+0100
TZOFFSETTO:+0000
TZNAME:GMT
DTSTART:20201025T010000
END:DAYLIGHT
BEGIN:STANDARD
TZOFFSETFROM:+0000
TZOFFSETTO:+0100
TZNAME:IST
DTSTART:20210328T010000
END:STANDARD
BEGIN:DAYLIGHT
TZOFFSETFROM:+0100
TZOFFSETTO:+0000
TZNAME:GMT
DTSTART:20211031T010000
END:DAYLIGHT
BEGIN:STANDARD
TZOFFSETFROM:+0000
TZOFFSETTO:+0100
TZNAME:IST
DTSTART:20220327T010000
END:STANDARD
BEGIN:DAYLIGHT
TZOFFSETFROM:+0100
TZOFFSETTO:+0000
TZNAME:GMT
DTSTART:20221030T010000
END:DAYLIGHT
BEGIN:STANDARD
TZOFFSETFROM:+0000
TZOFFSETTO:+0100
TZNAME:IST
DTSTART:20230326T010000
END:STANDARD
BEGIN:DAYLIGHT
TZOFFSETFROM:+0100
TZOFFSETTO:+0000
TZNAME:GMT
DTSTART:20231029T010000
END:DAYLIGHT
END:VTIMEZONE
BEGIN:VEVENT
DTSTART;TZID=Europe/Dublin:20231210T110000
DTEND;TZID=Europe/Dublin:20231210T140000
DTSTAMP:20260419T195014
CREATED:20231204T162923Z
LAST-MODIFIED:20231204T162923Z
UID:187862-1702206000-1702216800@www.runireland.com
SUMMARY:Run Run Rudolph 2023 / Kilcullen GAA
DESCRIPTION:Kilcullen GAA’s “Run Run Rudolph” Christmas event is back for 2023 but is bigger & better – we’ve added a 10 KM event (2 laps of our 5K course) plus the 5 KM Run & 2.5 K Family Walk/Run events. \nRun Run Rudolph 2023 will take place on Sunday the 10th of December 2023 starting & finishing at our clubhouse. \nAgain\, this event is a fundraiser supporting the addition of 3 Hurling & Football playing pitches & other infrastructure at our Kilcullen clubhouse\, all part of our “Field of Dreams” plans. \nThe event is open to athletes\, fun runners\, joggers and walkers. \nDogs must be kept on a lead at all times & controlled. \nAll entrants will get Christmas bells with their race numbers to create a lovely Christmas atmosphere as they circuit Kilcullen town. \nPrizes for 1st\, 2nd & 3rd Male & Female runners in both 10 & 5 KM events as well as spot prizes for the Family Walk/Run event. We’ll also have prizes for the best fancy-dress costumes. \nOnline entry closes at midnight on Friday the 8th of December\, late entries will be available the evening of Saturday the 9th of December at the Clubhouse & limited late entries on Sunday morning (but only before 10 AM). \nNote: Registration may close earlier if we reach our numbers limit before this date. \nThis year we are offering a postal service (for an additional fee). Our partner Pop-Up Races will post your event numbers to you approximately 1 week before the event thus making your event morning easier & stress free. \nDepending on numbers selecting this option – we will offer number collection at the Clubhouse on the evening of Saturday December 9th & Sunday December 10th (but only before 10 AM). \nThe event will start at 11 AM with the 5KM & 10KM events departing 1st to the sound of Chuck Berry’s Run Rudolph Run. The 2.5 KM Family Walk/Run will depart shortly afterwards again to the sound on Run Rudolph Run. \nBoth the 5 & 10 K events will be Chip-timed. Prize giving will take place at the finish line area after the race where Christmas goodies will be on offer to all participants. \nLast year we enjoyed a great Christmas atmosphere at the clubhouse & we plan to add to that this year – Santa has pencilled us in again & we hope will surprise us with a visit if time allows with his busy schedule. \n**NUMBER POSTAGE OPTION – NUMBERS WILL BE SENT OUT ON THE WEEK OF THE RACE**
URL:https://www.runireland.com/events/run-run-rudolph-2023-kilcullen-gaa/
LOCATION:Kilcullen GAA\, Kilcullen\, Co. Kildare\, Knockbounce\, Kilcullen\, Co. Kildare\, R56 YX81\, Ireland
CATEGORIES:10K,1K,5K,Kids Race
ORGANIZER;CN="Maurice O'Brien":MAILTO:mauriceobrien@gmail.com
END:VEVENT
BEGIN:VEVENT
DTSTART;VALUE=DATE:20200419
DTEND;VALUE=DATE:20200420
DTSTAMP:20260419T195014
CREATED:20200409T115930Z
LAST-MODIFIED:20200519T092745Z
UID:182841-1587254400-1587340799@www.runireland.com
SUMMARY:Blackwater Virtual Runs in aid of Charity
DESCRIPTION:Battling against this awful Coronavirus are the Nursing Homes frontline staff. \nToday\, we should\, more than ever cherish the staff who are dedicating themselves to caring for others during this awful crisis. \nWe have launched a challenge to show our support.  \nComplete any distance for your level. \nComplete your challenge by walking\, running and staying within Government guidelines.  \nThis challenge is open to everyone – all ages and abilities welcome. \nYour donation will support frontline nursing home staff in the fight against Covid-19. \n“Virtual Fun Run in Aid of Monaghan Nursing Homes” is an open run challenge to support frontline staff and their patients in these Homes.  \nYou decide how long\, what time and where! At the end post your finisher photo into Facebook Blackwater 10k page to add your result. \nYou can run any of the below distance. \n1mile\, 2k\, 5k\, 5mile\, or 10k \nThis is about bringing runners together to make a life-saving difference. \nNow is our time to help them. \nPlease donate whatever you can. Every little helps!
URL:https://www.runireland.com/events/blackwater-virtual-runs-in-aid-of-charity/
LOCATION:Co. Kildare
CATEGORIES:10K,1K,5K,Other
ATTACH;FMTTYPE=image/png:https://www.runireland.com/wp-content/uploads/2020/04/Post.png
END:VEVENT
BEGIN:VEVENT
DTSTART;TZID=Europe/Dublin:20191226T110000
DTEND;TZID=Europe/Dublin:20191226T130000
DTSTAMP:20260419T195014
CREATED:20191209T080545Z
LAST-MODIFIED:20191209T143610Z
UID:180226-1577358000-1577365200@www.runireland.com
SUMMARY:West Sligo Fun Run
DESCRIPTION:West Sligo run starts in Dromore West village go out Easky Coast Rd through some lovely scenic country roads lovely views of ox mountains. rivers\, windmills flat course over a lovely bridge finishes along a beautiful river through lovely woods\, over some foot bridges and finishes in our modern community centre where refreshments will be served and prizes will be presented \nAll walkers start from community at @ 11.00 sharp\, all runners start from petrol station @ 11.30\, the course is info flat some minor inclines and declines. \n10k finishes through woods for 1k then on to community centre\, plenty parking on streets and village and Community Centra grounds\, race numbers on reg please wear suitable attire.
URL:https://www.runireland.com/events/west-sligo-fun-run-2/
LOCATION:Co. Kildare
CATEGORIES:10K,1K,Kids Race
ATTACH;FMTTYPE=image/png:https://www.runireland.com/wp-content/uploads/2019/12/Screenshot-2019-12-09-at-08.04.43.png
END:VEVENT
BEGIN:VEVENT
DTSTART;TZID=Europe/Dublin:20190914T093000
DTEND;TZID=Europe/Dublin:20190914T113000
DTSTAMP:20260419T195014
CREATED:20190604T110255Z
LAST-MODIFIED:20190604T110255Z
UID:178023-1568453400-1568460600@www.runireland.com
SUMMARY:Glencar Lough Swim (1k\, 3k or 5k)
DESCRIPTION:The Glencar Lough swim takes place in the stunning Glencar Valley which joins counties Sligo and Leitrim. Home to the famous Glencar Lough\, Glencar waterfall and Irelands highest waterfall Sruth in Aghaidh an Aird.\n\nThis event appeals to all levels\, catering for new and experienced open water swimmers. On the day there will  be a 5km loop of the lake\, a 3km loop and 1 km swim.\n\n***EARLY BIRD OFFER UNTIL END OF JUNE***\n\n\nAll proceeds from the event go to supporting the North West MS Therapy Centre in Sligo.
URL:https://www.runireland.com/events/glencar-lough-swim-1k-3k-or-5k/
LOCATION:Glencar Valley\, Counties Sligo\, Leitrim\, Ireland
CATEGORIES:1K,5K,Other
ORGANIZER;CN="Shane Sweeney":MAILTO:kingschallengeaquathlon@gmail.com
END:VEVENT
BEGIN:VEVENT
DTSTART;TZID=Europe/Dublin:20180714T100000
DTEND;TZID=Europe/Dublin:20180714T150000
DTSTAMP:20260419T195014
CREATED:20180418T141019Z
LAST-MODIFIED:20180418T141019Z
UID:169359-1531562400-1531580400@www.runireland.com
SUMMARY:Super Milk Wild Air Run
DESCRIPTION:Super Milk Wild Air Run is an award-winning family fun run that features 10 of Europe’s biggest inflatable obstacles as part of a 5K course. 2018 brings new features such a water guns to the course. Each runner gets a powerful foam water gun\, which they take home\, to complete new fun tasks around the course\, and of course\, to give each other a soaking. \nIt can be completed by all fitness levels and all ages between 7-70. All the family can get involved. \nTickets for Super Milk Wild Air Run are on sale at www.wildairrun.com. Early bird tickets are now on sale at €25 for adults and €15 for children. Family tickets (€66) and group rates are also available. Spectators can cheer from the side-lines for free. For more information and to buy tickets visit www.wildairrun.com
URL:https://www.runireland.com/events/super-milk-wild-air-run-2/
LOCATION:fota house\, Carrigtohill\,\, Fota\, Co. Cork
CATEGORIES:1K,5K,5mile and 8k,Adventure Races,Kids Race,Other
ATTACH;FMTTYPE=image/png:https://www.runireland.com/wp-content/uploads/2018/04/girls-jumping-3.png
END:VEVENT
BEGIN:VEVENT
DTSTART;TZID=Europe/Dublin:20180615T190000
DTEND;TZID=Europe/Dublin:20180615T230000
DTSTAMP:20260419T195014
CREATED:20180425T121141Z
LAST-MODIFIED:20180525T172451Z
UID:169495-1529089200-1529103600@www.runireland.com
SUMMARY:Bullaun NS 8K
DESCRIPTION:Bullaun NS 8k is in its fourth year and is an official approved race on the Athletics Association of Ireland(AAI)calendar. \nThis year it will take place on Friday June 15th at 7.30pm. The course is flat and offers joggers and runners of all abilities a great race. \nA 5k walk will also be available at 7.35 pm and a 1k Kids fun run at 6.45pm
URL:https://www.runireland.com/events/bullaun-ns-8k/
LOCATION:BULLAUN-LOUGHREA\, Bullaun\, Loughrea
CATEGORIES:1K,5K,Kids Race,Road Race
ATTACH;FMTTYPE=image/jpeg:https://www.runireland.com/wp-content/uploads/2018/04/19388690_1422874601092830_1222313664198675914_o-1.jpg
END:VEVENT
BEGIN:VEVENT
DTSTART;TZID=Europe/Dublin:20180614T190000
DTEND;TZID=Europe/Dublin:20180614T200000
DTSTAMP:20260419T195014
CREATED:20180516T051219Z
LAST-MODIFIED:20180516T051219Z
UID:170092-1529002800-1529006400@www.runireland.com
SUMMARY:Killeeneen NS End of Year 5km Run
DESCRIPTION:This is the 5th annual Killeeneen National School 5km road race. There is something for everyone with a 1km fun run for children (Montessori to 6thClass)\, a 2.5km walk or a 5km road race. Prizes for top 3 home in male and female categories and also a prize for the first Killeeneen mother and father home. A lovely flat 2.5km loop that is ideal to achieve a PB! \nThis race is chip-timed and a long sleeved technical t-shirt is available to the first 100 entries. Those who have pre-registered online can collect their race pack in the registration room in the school building on the evening of the race. \nTea/ coffee and refreshments are available in the school after the race. Every year this proves to be a wonderful event. \n€18 online entry or €20 if registering on the night (from 5pm at Killeeneen National School) \nChildren’s race 6.15pm\, Family Walk 6.30pm and 5km Road Race 7pm
URL:https://www.runireland.com/events/killeeneen-ns-end-of-year-5km-run/
LOCATION:Killeeneen National School Killeeneen Craughwell Co. Galway\, Killeeneen NS\, Killeeneen\, Craughwell\, H91 E293
CATEGORIES:1K,5K,Kids Race
ATTACH;FMTTYPE=image/png:https://www.runireland.com/wp-content/uploads/2018/05/front-of-sch-website.png
ORGANIZER;CN="PopUpRaces":MAILTO:info@popupraces.ie
END:VEVENT
BEGIN:VEVENT
DTSTART;TZID=Europe/Dublin:20180415T130000
DTEND;TZID=Europe/Dublin:20180415T160000
DTSTAMP:20260419T195014
CREATED:20180219T120148Z
LAST-MODIFIED:20180219T120229Z
UID:167674-1523797200-1523808000@www.runireland.com
SUMMARY:Family fun run 1k/5k/10k Cromane Co. Kerry
DESCRIPTION:Family fun event day guaranteed with 10k at 1.30pm 1k at 1.35pm 5k at 2pm. \nMedals 🥇 and refreshments afterward. \nAll proceeds are for the pre schools new building. \nEntry €10 adult €5 child family €20 (2+2).\nAny questions please call Valeria 087 7542926!\nLook forward to seeing you all there!!
URL:https://www.runireland.com/events/family-fun-run-1k-5k-10k-cromane-co-kerry/
LOCATION:cromane co kerry
CATEGORIES:10K,1K,5K
ATTACH;FMTTYPE=image/png:https://www.runireland.com/wp-content/uploads/2018/02/IMG_5713-3.png
END:VEVENT
BEGIN:VEVENT
DTSTART;TZID=Europe/Dublin:20180324T110000
DTEND;TZID=Europe/Dublin:20180324T170000
DTSTAMP:20260419T195014
CREATED:20180315T170935Z
LAST-MODIFIED:20180315T171805Z
UID:168337-1521889200-1521910800@www.runireland.com
SUMMARY:Purple Run 5K & 1K
DESCRIPTION:Down Syndrome Ireland (DSI)\, with the support of Today FM’s Matt Cooper and Ireland’s most capped female athlete Fionnuala McCormack\, are encouraging people to put their best foot forward and take part in the third annual DSI ‘Purple Run’ proudly supported by MACE and help celebrate World Down Syndrome Day. \nRun With Us\nThe charity is encouraging everyone to ‘Run with us\, not for us’ as the event is a celebration of people with Down syndrome in Ireland. The Purple Run will take place on Saturday\, March 24th at 11am\, in the Phoenix Park\, Dublin. \nThe event is open to all age groups and abilities and participants can choose to run\, walk or push a buggy over the 5km or 1km distance\, allowing all the family to take part. Registration for the event takes place online only at www.downsyndrome.ie and costs €20 which includes a ‘Purple Run 2018’ t-shirt. People with Down syndrome and under-sixteens can enter for free. \nTo register for the Purple Run and find out more information on Down Syndrome Ireland\, please visit www.downsyndrome.ie or find them on Facebook and Twitter.
URL:https://www.runireland.com/events/purple-run-5k-1k/
LOCATION:Phoenix Park\, Dublin\, Ireland
CATEGORIES:1K,5K,Kids Race
ATTACH;FMTTYPE=image/jpeg:https://www.runireland.com/wp-content/uploads/2018/03/46553_DSI_Purple_Run_Poster_A4_V4.jpg
END:VEVENT
BEGIN:VEVENT
DTSTART;TZID=Europe/Dublin:20171119T123000
DTEND;TZID=Europe/Dublin:20171119T170000
DTSTAMP:20260419T195014
CREATED:20171107T163618Z
LAST-MODIFIED:20171211T124310Z
UID:163852-1511094600-1511110800@www.runireland.com
SUMMARY:BDN 10K (Ballinderreen\, Galway)
DESCRIPTION:Welcome to SOUTH GALWAY AC’s\, 7th annual BDN 10k. \n12.30: Race starts at Ballinderreen village (approx 5 mins walk from the community centre). \n10.00-12.00: Race Number pick up for online registrations (€20)\, & Day Registrations (€23)\, at Ballinderreen Community Center (Car parking close by in the GAA pitch). \nWater station close to the 5k mark.\nThe race finishes a the community center\, with refreshments and snacks. \nCourse is certified measured by AAI and CHIP TIMED.\nPrizes for various categories.\nToilets available at the community centre and GAA grounds. \nJuvenile 1k:\nA seperate childrens 1km race wlll take place on the day\, at the earlier time of 12.15.\nThis is open to ages 8 to 16 years old.\nRegistration for children on the day only\, so please arrive at 11.30 for 1k registration.
URL:https://www.runireland.com/events/bdn-10k-ballinderreen-galway/
LOCATION:Ballinderreen\, Galway\, Ballinderreen\, Galway\, Ireland
CATEGORIES:10K,1K
ORGANIZER;CN="Frank Power":MAILTO:powerfrank00@gmail.com
GEO:53.1856721;-8.9096455
X-APPLE-STRUCTURED-LOCATION;VALUE=URI;X-ADDRESS=Ballinderreen Galway Ballinderreen Galway Ireland;X-APPLE-RADIUS=500;X-TITLE=Ballinderreen:geo:-8.9096455,53.1856721
END:VEVENT
BEGIN:VEVENT
DTSTART;TZID=Europe/Dublin:20171119T093000
DTEND;TZID=Europe/Dublin:20171119T170000
DTSTAMP:20260419T195014
CREATED:20171107T162033Z
LAST-MODIFIED:20171107T162033Z
UID:163838-1511083800-1511110800@www.runireland.com
SUMMARY:RNLI Reindeer Run 2017
DESCRIPTION:Come and enjoy the RNLI Reindeer Run in Marlay Park. This 300-acre suburban park is located about 9km from Dublin city centre. It offers an idyllic location for a self-timed run whether you’re an amateur runner or a pro. \nCome and enjoy the RNLI Reindeer Run in Marlay Park. This 300-acre suburban park is located about 9km from Dublin city centre. It offers an idyllic location for a self-timed run whether you’re an amateur runner or a pro.Bring along the whole herd and enjoy some festive fun for all the family. Spaces are available in the 10K and 5K fun runs and there’s a 1K Saunter\, perfect for the little ones. \nThis year’s race in Marlay House for the RNLI Reindeer Runs will take place at the lower end of the at the College Road entrance for your ease and comfort once more this year. This is the same location as the run in 2016 .We will have signs in place but we ask that you first use the College Road car park and when this is full to use the Grange Road car park. Please note that we are expecting the College Road car park to fill up very quickly and it is a 1km walk from the Grange Road car park to the registration/starting point. This is not a chipped race but the course has been measured and will take in forest trails and park paths along the scenic route. \nRace Times1K Santa Saunter starts at 11am Registration 10.30am10K run starts at 11am Registration 10am-10.45am5K run starts at 12.00 noon Registration 11am-11.45am
URL:https://www.runireland.com/events/rnli-reindeer-run-2017/
LOCATION:Marlay Park\, Dublin\, Marlay Park\, Dublin\, Ireland
CATEGORIES:10K,1K,5K,Other
ATTACH;FMTTYPE=image/jpeg:https://www.runireland.com/wp-content/uploads/2017/11/reindeerrunlogo.jpg
ORGANIZER;CN="RNLI":MAILTO:MarlayReindeer@rnli.org.uk
GEO:53.273285;-6.268865
X-APPLE-STRUCTURED-LOCATION;VALUE=URI;X-ADDRESS=Marlay Park Dublin Marlay Park Dublin Ireland;X-APPLE-RADIUS=500;X-TITLE=Marlay Park:geo:-6.268865,53.273285
END:VEVENT
END:VCALENDAR