BEGIN:VCALENDAR
VERSION:2.0
PRODID:-//RunIreland.com - ECPv6.5.1.5//NONSGML v1.0//EN
CALSCALE:GREGORIAN
METHOD:PUBLISH
X-ORIGINAL-URL:https://www.runireland.com
X-WR-CALDESC:Events for RunIreland.com
REFRESH-INTERVAL;VALUE=DURATION:PT1H
X-Robots-Tag:noindex
X-PUBLISHED-TTL:PT1H
BEGIN:VTIMEZONE
TZID:Europe/Dublin
BEGIN:STANDARD
TZOFFSETFROM:+0000
TZOFFSETTO:+0100
TZNAME:IST
DTSTART:20200329T010000
END:STANDARD
BEGIN:DAYLIGHT
TZOFFSETFROM:+0100
TZOFFSETTO:+0000
TZNAME:GMT
DTSTART:20201025T010000
END:DAYLIGHT
END:VTIMEZONE
BEGIN:VEVENT
DTSTART;TZID=Europe/Dublin:20200310T192000
DTEND;TZID=Europe/Dublin:20200310T210000
DTSTAMP:20260423T004847
CREATED:20191217T175555Z
LAST-MODIFIED:20191221T112808Z
UID:180382-1583868000-1583874000@www.runireland.com
SUMMARY:KBC Dublin Night Run 5km or 10km Sandymount
DESCRIPTION:Midweek run/ walk \nSandymount is an ideal location being walking distance from the center of Dublin. And the course is laid out in long straight flat lines making it safer and more ‘racer’ friendly. \nThere are two distances to suit all levels of fitness. A 5km single lap or a 10km double lap. The course is a single loop starting and finishing beside Clanna Gael GAA club. Entries for the first year are limited to 1\,000 so don’t leave it too late to enter! This is an annual SELL OUT race.
URL:https://www.runireland.com/events/kbc-dublin-night-run-5km-or-10km-sandymount/
LOCATION:Sandymount Strand\, Dublin 4
CATEGORIES:10K,5K
ATTACH;FMTTYPE=image/jpeg:https://www.runireland.com/wp-content/uploads/2019/12/for-njuko.jpg
ORGANIZER;CN="Eoin Ryan":MAILTO:eoinryan1@hotmail.com
END:VEVENT
END:VCALENDAR