BEGIN:VCALENDAR
VERSION:2.0
PRODID:-//RunIreland.com - ECPv6.5.1.5//NONSGML v1.0//EN
CALSCALE:GREGORIAN
METHOD:PUBLISH
X-ORIGINAL-URL:https://www.runireland.com
X-WR-CALDESC:Events for RunIreland.com
REFRESH-INTERVAL;VALUE=DURATION:PT1H
X-Robots-Tag:noindex
X-PUBLISHED-TTL:PT1H
BEGIN:VTIMEZONE
TZID:Europe/Dublin
BEGIN:STANDARD
TZOFFSETFROM:+0000
TZOFFSETTO:+0100
TZNAME:IST
DTSTART:20200329T010000
END:STANDARD
BEGIN:DAYLIGHT
TZOFFSETFROM:+0100
TZOFFSETTO:+0000
TZNAME:GMT
DTSTART:20201025T010000
END:DAYLIGHT
END:VTIMEZONE
BEGIN:VEVENT
DTSTART;VALUE=DATE:20200308
DTEND;VALUE=DATE:20200309
DTSTAMP:20260423T051726
CREATED:20200116T211321Z
LAST-MODIFIED:20200116T211321Z
UID:180746-1583625600-1583711999@www.runireland.com
SUMMARY:Killoe 5k & 10k
DESCRIPTION:Come join us for our annual 5 & 10k runs\, this is our 8th year to host this very successful run with a challenging hilly 10k and a fast pacey 5k route which offers something for everyone.\nWalkers welcome and yummy refreshments served afterwards in clubhouse
URL:https://www.runireland.com/events/killoe-5k-10k/
LOCATION:Killoe Longford\, clonee\, Longford
CATEGORIES:10K,5K
ATTACH;FMTTYPE=image/jpeg:https://www.runireland.com/wp-content/uploads/2020/01/511F9EA6-7684-4148-A8E1-F47425E75361.jpeg
GEO:53.760313;-7.7373001
X-APPLE-STRUCTURED-LOCATION;VALUE=URI;X-ADDRESS=Killoe Longford clonee Longford;X-APPLE-RADIUS=500;X-TITLE=clonee:geo:-7.7373001,53.760313
END:VEVENT
BEGIN:VEVENT
DTSTART;TZID=Europe/Dublin:20200308T110000
DTEND;TZID=Europe/Dublin:20200308T130000
DTSTAMP:20260423T051726
CREATED:20200115T082800Z
LAST-MODIFIED:20200115T082800Z
UID:180695-1583665200-1583672400@www.runireland.com
SUMMARY:Ballinabranna 5K Fun Run
DESCRIPTION:Ballinbranna 5km Fun Run is located just a few minutes from Carlow town in the picturesque village of Ballinbranna and the surrounding area. The run will take place on a loop\, on quiet country roads\, in a scenic location. Chip timing is being provided by Just Runs Events while there is also a fun element\, including novelty finishes\, for families. All abilities are catered for and we look forward to welcoming all participants. Registration is from 9:30am in the Ballinbranna GAA clubhouse. Medals will be awarded to the first 200 registered and refreshments will be served at the end of the race. All proceeds raised will be going to Ballinbranna National School. We look forward to seeing you there! \n 
URL:https://www.runireland.com/events/ballinabranna-5k-fun-run/
LOCATION:Ballinabranna GAA\, Co. Carlow\, Ballinabranagh\, Co. Carlow
CATEGORIES:5K
ATTACH;FMTTYPE=image/jpeg:https://www.runireland.com/wp-content/uploads/2020/01/Ballinabranna-NS.jpg
END:VEVENT
BEGIN:VEVENT
DTSTART;TZID=Europe/Dublin:20200308T110000
DTEND;TZID=Europe/Dublin:20200308T150000
DTSTAMP:20260423T051726
CREATED:20200205T081159Z
LAST-MODIFIED:20200205T081159Z
UID:180994-1583665200-1583679600@www.runireland.com
SUMMARY:Kilsheelan 10 Miler
DESCRIPTION:10 Mile Run\, to help with the running costs of our Community centre in our village.  The run is in its third year\, and going from strength to strength. \nHeadquarters for Entries\, Changing Facilities & Post Race Refreshments is Kplan Community Centre. \nOnline registration www.kilsheelan10mile.itsyourrace.com/register
URL:https://www.runireland.com/events/kilsheelan-10-miler/
LOCATION:Kilsheelan Village\, Clonmel\, Co. Tipperary\, Clonmel\, Co. Tipperary
CATEGORIES:10 Miles
ATTACH;FMTTYPE=image/jpeg:https://www.runireland.com/wp-content/uploads/2020/02/run-poster-2020.jpg
ORGANIZER;CN="Kplan Community Centre":MAILTO:kilsheelancentre@gmail.com
END:VEVENT
BEGIN:VEVENT
DTSTART;TZID=Europe/Dublin:20200308T113000
DTEND;TZID=Europe/Dublin:20200308T150000
DTSTAMP:20260423T051726
CREATED:20200217T164049Z
LAST-MODIFIED:20200217T171004Z
UID:181168-1583667000-1583679600@www.runireland.com
SUMMARY:Raheen Wood Co Clare 5k/10k
DESCRIPTION:Fun Run 5k/10k in the beautiful Raheen Woods in Tuamgraney\, Co. Clare. This is a fundraiser for The Raheen Woods Steiner Community School and Secondary School. Registration on the day in the school hall from 11:30am. €10 per Adult\, Kids are Free! Race starts at 12:30pm. Fully signposted route on trail in the woods with water station. Slight hills\, dirt trail route\, some muddy patches. Refreshments served after race. Parking on school grounds.
URL:https://www.runireland.com/events/fun-run-5k-10k/
LOCATION:Raheen Wood Steiner Community School\, Raheen Road\, Tuamgraney\, Co Clare\, V94RW32
CATEGORIES:10K,5K
ATTACH;FMTTYPE=image/png:https://www.runireland.com/wp-content/uploads/2020/02/flyer.png
END:VEVENT
BEGIN:VEVENT
DTSTART;TZID=Europe/Dublin:20200308T120000
DTEND;TZID=Europe/Dublin:20200308T150000
DTSTAMP:20260423T051726
CREATED:20200107T133118Z
LAST-MODIFIED:20200227T132435Z
UID:180591-1583668800-1583679600@www.runireland.com
SUMMARY:Glynn 5k
DESCRIPTION:  \nThe annual Glynn 5K will take place at the earlier date of Sunday March 8 th 2020 at\n12PM.\nAll funds raised will go to Glynn NS Development Fund and towards the construction\nof a P.E. hall.\nOnline entry @runireland.com. Registration will also take place on the evening\nbefore and on the morning of the race in Glynn Parish Hall.\nGenerous CASH PRIZES for the 1st\, 2nd and 3rd male and female.\nCost is €15\nEARLY BIRD SPECIAL: €10 until Friday 28 th of February.\nThe 5K is open to age 14 and over. There will also be a 2K for those aged 7-13 on\nthe day. Cost is €5.\nSpot prizes\, refreshments\, music and a raffle in Glynn Parish Hall after the run.\nCar parking in Glynn GAA pitch. Please allow 10 minutes to walk to registration and\nstart line.
URL:https://www.runireland.com/events/glynn-5k-2/
CATEGORIES:5K
ATTACH;FMTTYPE=image/jpeg:https://www.runireland.com/wp-content/uploads/2020/01/35546827_2110627889255856_3978160445138665472_o.jpg
END:VEVENT
BEGIN:VEVENT
DTSTART;TZID=Europe/Dublin:20200308T133000
DTEND;TZID=Europe/Dublin:20200308T170000
DTSTAMP:20260423T051726
CREATED:20191022T105219Z
LAST-MODIFIED:20200122T174035Z
UID:179463-1583674200-1583686800@www.runireland.com
SUMMARY:Duhallow 10 miler 2020
DESCRIPTION:Duhallow 10\n10 Mile Road Race 2020\nSunday 8th of March 2020 Race Starts: 1.30pm sharp\nNewmarket\, Co. Cork\n150 PLACES ONLY LEFT WILL SELL OUT FAST ! \nLIMITED TOP SIZES AVAILABLE! \nEntry Fee: €30 \n€35 euro on the day if available \nEnter on line@ \nhttps://register.primoevents.com/ps/event/Duhallow10Mile2020 \nRace HQ – HI-LAND Lounge\, Newmarket\, Co. Cork\nGreat Race for a PB ‘’Fast Course a one for all Fitness levels ‘’\nPrizes (All Cash prizes)\nCash Prize for breaking course records- Miko Tonsa- 49:10 Aoife Cooke 56:47\n1st Man (€500)\n1st Woman (€500)​​​​​​\n1st Ten Men and Women\n1st Three Wheelchair Athletes\n1st Three Veterans in Men and Women\nMen -Over 40\,45\,50\,55\,60\,65\,70\,75\,80 Women-Over 35\,40\,45\,50\,55\,60\,65\,70\,75\,80 \nT-SHIRTS SIZES GUARANTEED UP TO 21/12/2019 \nRace info: Donie shine 086-81649970\, Jerry Twomey 086-8050821\, Shane Browne 086-1672153 or Duhallow AC Facebook page https://www.facebook.com/duhallowac/\nAI Permit Granted-Everyone competing in this race are doing so at their own risk\, Duhallow A.C accept no responsibility or liability for any injury\, loss or damage to persons or property while attending and participating in this event
URL:https://www.runireland.com/events/duhallow-10-miler-2020/
LOCATION:safaris nightclub\, Newmarket\, Newmarket
CATEGORIES:10 Miles
ORGANIZER;CN="Duhallow A.C":MAILTO:Duhallowac1997@outlook.com
END:VEVENT
END:VCALENDAR