BEGIN:VCALENDAR
VERSION:2.0
PRODID:-//RunIreland.com - ECPv6.5.1.5//NONSGML v1.0//EN
CALSCALE:GREGORIAN
METHOD:PUBLISH
X-ORIGINAL-URL:https://www.runireland.com
X-WR-CALDESC:Events for RunIreland.com
REFRESH-INTERVAL;VALUE=DURATION:PT1H
X-Robots-Tag:noindex
X-PUBLISHED-TTL:PT1H
BEGIN:VTIMEZONE
TZID:Europe/Dublin
BEGIN:STANDARD
TZOFFSETFROM:+0000
TZOFFSETTO:+0100
TZNAME:IST
DTSTART:20200329T010000
END:STANDARD
BEGIN:DAYLIGHT
TZOFFSETFROM:+0100
TZOFFSETTO:+0000
TZNAME:GMT
DTSTART:20201025T010000
END:DAYLIGHT
END:VTIMEZONE
BEGIN:VEVENT
DTSTART;TZID=Europe/Dublin:20200306T200000
DTEND;TZID=Europe/Dublin:20200306T200000
DTSTAMP:20260423T051725
CREATED:20191114T174206Z
LAST-MODIFIED:20191114T174206Z
UID:179946-1583524800-1583524800@www.runireland.com
SUMMARY:ROSCOMMON 20/20 COMMUNITY CHALLENGE
DESCRIPTION:Moonlight 5 and 10km run/walk\, suitable for all ages and all levels of fitness
URL:https://www.runireland.com/events/roscommon-20-20-community-challenge/
CATEGORIES:10K,5K
END:VEVENT
END:VCALENDAR