BEGIN:VCALENDAR
VERSION:2.0
PRODID:-//RunIreland.com - ECPv6.5.1.5//NONSGML v1.0//EN
CALSCALE:GREGORIAN
METHOD:PUBLISH
X-ORIGINAL-URL:https://www.runireland.com
X-WR-CALDESC:Events for RunIreland.com
REFRESH-INTERVAL;VALUE=DURATION:PT1H
X-Robots-Tag:noindex
X-PUBLISHED-TTL:PT1H
BEGIN:VTIMEZONE
TZID:Europe/Dublin
BEGIN:STANDARD
TZOFFSETFROM:+0000
TZOFFSETTO:+0100
TZNAME:IST
DTSTART:20200329T010000
END:STANDARD
BEGIN:DAYLIGHT
TZOFFSETFROM:+0100
TZOFFSETTO:+0000
TZNAME:GMT
DTSTART:20201025T010000
END:DAYLIGHT
END:VTIMEZONE
BEGIN:VEVENT
DTSTART;TZID=Europe/Dublin:20200101T080000
DTEND;TZID=Europe/Dublin:20200229T170000
DTSTAMP:20260422T165206
CREATED:20200115T162921Z
LAST-MODIFIED:20200522T150104Z
UID:180712-1577865600-1582995600@www.runireland.com
SUMMARY:60k in 60 Days Virtual Challenge
DESCRIPTION:LEAP into 2020 with this exciting 60 kms in 60-day personal challenge for The Ronald McDonald House Charities Ireland. \nWe CARE for 20 families from all over Ireland every night\, and support them whilst their child is seriously ill in Crumlin Children’s Hospital\, Dublin 12. We provide a ‘home away from home’ on the grounds of the hospital\, keeping families close to their sick child and also to each other. It costs the Charity €60.00 per night to CARE for each family\, ensuring they have somewhere to feel safe and secure whilst dealing with their sick child. \nWe want you to LEAP into 2020 and help us to CARE for our families by signing up\, stepping out and challenging yourself to 60km in 60 days. From 1st January to 29th February\, you can walk\, run or cycle to complete your 60km\, showing your support and CARE for our families and their sick children. \nEach time you go out\, save your kilometres until you have hit your 60km target and send in the evidence to Irish Bling Hunters Facebook page or Irishblinghunters@gmail.com to claim your medal and completion certificate. \nRegister for the Challenge HERE 
URL:https://www.runireland.com/events/60k-in-60-days-virtual-challenge/
CATEGORIES:Cycle Events,Other
ATTACH;FMTTYPE=image/png:https://www.runireland.com/wp-content/uploads/2020/01/Care-to-Leap-00000002.png
ORGANIZER;CN="Ronald McDonald House":MAILTO:sharon.keogh@rmhc.ie
END:VEVENT
BEGIN:VEVENT
DTSTART;TZID=Europe/Dublin:20200107T000000
DTEND;TZID=Europe/Dublin:20200228T000000
DTSTAMP:20260422T165206
CREATED:20191221T112326Z
LAST-MODIFIED:20200522T150122Z
UID:180454-1578355200-1582848000@www.runireland.com
SUMMARY:Run with Ciara - Virtual Run
DESCRIPTION:This event is the first virtual run of its kind in Ireland where every participant can run for the county team of choice and as they run their miles are added to a live leader board via the running app and online\,  the county with the most miles wins. \n\n\nWhile Ciara is running the 1000km on the wild Atlantic way everybody taking part using the app can run anywhere they want and their miles are logged in support of Ciara ! \n\n\nAll funds for this event are going to the children’s grief centre\, the only one of its kind in Ireland.  Our goal is to recruit as many people as possible to to sign up for their county team and log the miles between 7th January and 28th February \nwww.runwithciara.com
URL:https://www.runireland.com/events/run-with-ciara-virtual-run/
CATEGORIES:Other
END:VEVENT
BEGIN:VEVENT
DTSTART;TZID=Europe/Dublin:20200216T120000
DTEND;TZID=Europe/Dublin:20200216T170000
DTSTAMP:20260422T165206
CREATED:20191221T112352Z
LAST-MODIFIED:20191221T112352Z
UID:180479-1581854400-1581872400@www.runireland.com
SUMMARY:Enniscorthy 10K
DESCRIPTION:Entries Limited to 400 – New Location – Fast Course \nThe new course for the Creane&Creane Insurance Enniscorthy 10k. The course is two laps with just a 94 metre rise over the 10k beginning out the Old Dublin Rd\,heading out to Scarawalsh and back in the New Dublin Road. \nThis is the same course Slaney has held the Senior County Road Race on with some fast times. We will expect the event records to be broken in 2020. \nLifestyle Fitness\, is the race HQ\, and the finish is at Bolgers Hardware on the slip road\, close to Clearstream. \nThis year the race is limited to 400 entries\, so don’t wait too long to enter or you might miss out. Tshirt for finishers.
URL:https://www.runireland.com/events/enniscorthy-10k-3/
LOCATION:Enniscorthy\, Co Wexford\, Enniscorthy\, Co Wexford\, Ireland
CATEGORIES:10K
ATTACH;FMTTYPE=image/png:https://www.runireland.com/wp-content/uploads/2019/12/slaney.png
ORGANIZER;CN="Slaney Olympic AC":MAILTO:kiarakearney@eircom.net
GEO:52.5031135;-6.5727721
X-APPLE-STRUCTURED-LOCATION;VALUE=URI;X-ADDRESS=Enniscorthy Co Wexford Enniscorthy Co Wexford Ireland;X-APPLE-RADIUS=500;X-TITLE=Enniscorthy:geo:-6.5727721,52.5031135
END:VEVENT
BEGIN:VEVENT
DTSTART;TZID=Europe/Dublin:20200216T130000
DTEND;TZID=Europe/Dublin:20200216T170000
DTSTAMP:20260422T165206
CREATED:20171109T105202Z
LAST-MODIFIED:20191227T120255Z
UID:163982-1581858000-1581872400@www.runireland.com
SUMMARY:SPANISH POINT 5 Mile (Run Clare race2)
DESCRIPTION:**All venues to be confirmed**  \nA HUGE THANK YOU to absolutely everyone who has taken part in run Clare 2019! You were all amazing! \nEveryone on the Run Clare committee is dedicated to running; we all love it! We have all been involved in the sport one way or another for most of our lives. We live it and breathe it. One sunny day  in 2014 we had the brain wave of encouraging everyone to share our passion for the sport and created our amazing series. \nWe have listened to feedback and decided to make a couple of changes to keep the series fresh and exciting! We are delighted to announce that we will be moving locations to new areas of the Banner County… \nThe 5k will be in Lisdoonvarna\, it’ll be a great way to start the journey around the country lanes. The 5 mile will take us to Spanish Point\, where the route will take close to the Atlantic\, then to Ennis for the Eamon Moloney 10k\, where the urban location is known for its family atmosphere and fast\, flat route. Finally we are heading to East Clare for the 10 mile. \nFinishers prizes to be announced in the coming weeks! Tech tops for the first 400 entries in the 10k. \nWe all start together but we may not all finish together\,  what matters is that we all have achieved something incredible as an individual. \nWhere else would you get 4 races over 4 months with all the trimmings you know we do?? In 2019 we had over a 1000 runners from 24 counties sign up for the series\, lets get the whole of Ireland coming to Clare and prove that the Banner know about races! \n4 races. 4 months. 1 goal. \nhttps://eventgen.ie/run-clare—the-5-to-10-challenge-2020 \n  \n5 mile only link is https://eventgen.ie/run-clare—5-mile-2020
URL:https://www.runireland.com/events/lahinch-5-mile-run-clare-race2/
LOCATION:SPANISH POINT
CATEGORIES:5mile and 8k
ATTACH;FMTTYPE=image/jpeg:https://www.runireland.com/wp-content/uploads/2017/11/rc-2020-1.jpg
ORGANIZER;CN="Jason Moloney":MAILTO:jason.moloney@gmail.com
END:VEVENT
BEGIN:VEVENT
DTSTART;TZID=Europe/Dublin:20200216T130000
DTEND;TZID=Europe/Dublin:20200216T170000
DTSTAMP:20260422T165206
CREATED:20191017T125052Z
LAST-MODIFIED:20191125T104031Z
UID:179385-1581858000-1581872400@www.runireland.com
SUMMARY:Tony McGowan Run\, Half\, 10k\, 5k
DESCRIPTION:The 8th Annual Tony McGowan Run will take place on Sunday the 16th Feb 2020. \n \nLike last year\, this year we also have a half marathon\, what better way to take in Drumshanbo’s beautiful scenery than on Ireland’s first and only floating boardwalk \nA flat course over all and ideal for getting that pb early in the year. \nAs well as the half marathon we will also have our 10k and 5k runs with a 2.5k scavenger hunt taking place for the kids (old and young) \n\nMedals and t shirts for the half marathon finishers\nMedals for all other finishers\nonline registration\nRaces are chipped and timed\nRefreshments provided
URL:https://www.runireland.com/events/tony-mcgowan-run-half-10k-5k/
LOCATION:Acres Lake Board Walk\, Drumshanbo\, Co Leitrim\, 0000
CATEGORIES:10K,5K,Half Marathon,Kids Race,Trail / Off Road Races
END:VEVENT
BEGIN:VEVENT
DTSTART;TZID=Europe/Dublin:20200216T133000
DTEND;TZID=Europe/Dublin:20200216T170000
DTSTAMP:20260422T165206
CREATED:20191217T175256Z
LAST-MODIFIED:20191217T175256Z
UID:180375-1581859800-1581872400@www.runireland.com
SUMMARY:Gorgeous Gort 5K
DESCRIPTION:The Gorgeous Gort 5K will start at George’s Street Gort and will take you through the town of Gort and around the scenic hinterland via secondary roads. \nThe race will finish close to Gort Community centre not far from the start line. The race route is Jones counter measured and Athletics Ireland permitted. Entrants will be chip timed. \n***Special reduced entry fee for Couples and special prize for first couple home…………..it is Valentines Day after all…..well close enough anyway*** \nA fast flat route. The route can be viewed at www.southgalwayac.ie \nEntry both on the day and online at www.active.com \nThe race will start at 1.30pm and race entrants are asked to assemble outside Gort Community Centre at 1.20pm prior to being walked to the start line by race marshalls. \nRegistration will open at 11.30am in Gort Community centre where pre-registered entrants can collect their race packs. \nTechnical race t-shirts (Male and Female fit) are guaranteed for entrants registered prior to February 1st\, 2020. Sizes or availability cannot be guaranteed after this date. \nToilet and shower facilities will be available at Gort Community Centre and post race refreshments will be served in the community centre. \nAmple parking will be proved at Gort Community Centre – please obey parking stewards on the day
URL:https://www.runireland.com/events/gorgeous-gort-5k/
LOCATION:Gort\, Galway\, Gort\, Galway\, Ireland
CATEGORIES:5K,Road Race
GEO:53.0666432;-8.8187485
X-APPLE-STRUCTURED-LOCATION;VALUE=URI;X-ADDRESS=Gort Galway Gort Galway Ireland;X-APPLE-RADIUS=500;X-TITLE=Gort:geo:-8.8187485,53.0666432
END:VEVENT
END:VCALENDAR