BEGIN:VCALENDAR
VERSION:2.0
PRODID:-//RunIreland.com - ECPv6.5.1.5//NONSGML v1.0//EN
CALSCALE:GREGORIAN
METHOD:PUBLISH
X-WR-CALNAME:RunIreland.com
X-ORIGINAL-URL:https://www.runireland.com
X-WR-CALDESC:Events for RunIreland.com
REFRESH-INTERVAL;VALUE=DURATION:PT1H
X-Robots-Tag:noindex
X-PUBLISHED-TTL:PT1H
BEGIN:VTIMEZONE
TZID:Europe/Dublin
BEGIN:STANDARD
TZOFFSETFROM:+0000
TZOFFSETTO:+0100
TZNAME:IST
DTSTART:20200329T010000
END:STANDARD
BEGIN:DAYLIGHT
TZOFFSETFROM:+0100
TZOFFSETTO:+0000
TZNAME:GMT
DTSTART:20201025T010000
END:DAYLIGHT
END:VTIMEZONE
BEGIN:VEVENT
DTSTART;TZID=Europe/Dublin:20200101T080000
DTEND;TZID=Europe/Dublin:20200229T170000
DTSTAMP:20260422T113746
CREATED:20200115T162921Z
LAST-MODIFIED:20200522T150104Z
UID:180712-1577865600-1582995600@www.runireland.com
SUMMARY:60k in 60 Days Virtual Challenge
DESCRIPTION:LEAP into 2020 with this exciting 60 kms in 60-day personal challenge for The Ronald McDonald House Charities Ireland. \nWe CARE for 20 families from all over Ireland every night\, and support them whilst their child is seriously ill in Crumlin Children’s Hospital\, Dublin 12. We provide a ‘home away from home’ on the grounds of the hospital\, keeping families close to their sick child and also to each other. It costs the Charity €60.00 per night to CARE for each family\, ensuring they have somewhere to feel safe and secure whilst dealing with their sick child. \nWe want you to LEAP into 2020 and help us to CARE for our families by signing up\, stepping out and challenging yourself to 60km in 60 days. From 1st January to 29th February\, you can walk\, run or cycle to complete your 60km\, showing your support and CARE for our families and their sick children. \nEach time you go out\, save your kilometres until you have hit your 60km target and send in the evidence to Irish Bling Hunters Facebook page or Irishblinghunters@gmail.com to claim your medal and completion certificate. \nRegister for the Challenge HERE 
URL:https://www.runireland.com/events/60k-in-60-days-virtual-challenge/
CATEGORIES:Cycle Events,Other
ATTACH;FMTTYPE=image/png:https://www.runireland.com/wp-content/uploads/2020/01/Care-to-Leap-00000002.png
ORGANIZER;CN="Ronald McDonald House":MAILTO:sharon.keogh@rmhc.ie
END:VEVENT
BEGIN:VEVENT
DTSTART;TZID=Europe/Dublin:20200107T000000
DTEND;TZID=Europe/Dublin:20200228T000000
DTSTAMP:20260422T113746
CREATED:20191221T112326Z
LAST-MODIFIED:20200522T150122Z
UID:180454-1578355200-1582848000@www.runireland.com
SUMMARY:Run with Ciara - Virtual Run
DESCRIPTION:This event is the first virtual run of its kind in Ireland where every participant can run for the county team of choice and as they run their miles are added to a live leader board via the running app and online\,  the county with the most miles wins. \n\n\nWhile Ciara is running the 1000km on the wild Atlantic way everybody taking part using the app can run anywhere they want and their miles are logged in support of Ciara ! \n\n\nAll funds for this event are going to the children’s grief centre\, the only one of its kind in Ireland.  Our goal is to recruit as many people as possible to to sign up for their county team and log the miles between 7th January and 28th February \nwww.runwithciara.com
URL:https://www.runireland.com/events/run-with-ciara-virtual-run/
CATEGORIES:Other
END:VEVENT
BEGIN:VEVENT
DTSTART;TZID=Europe/Dublin:20200116T110000
DTEND;TZID=Europe/Dublin:20200209T140000
DTSTAMP:20260422T113746
CREATED:20200116T162052Z
LAST-MODIFIED:20200116T162052Z
UID:180739-1579172400-1581256800@www.runireland.com
SUMMARY:Bodyke NS 5K & 10K Fun Run
DESCRIPTION:Our Annual 10k & 5k Fun Run will take place on Sunday 9th February at The Cobblers Rest Bodyke\, the start time is 11:30am and registration will take place from 11am\, everyone is welcome. The children will receive finishers medals.
URL:https://www.runireland.com/events/bodyke-ns-5k-10k-fun-run/
LOCATION:The Cobbler’s Rest\, Bodyke\, Co Clare
CATEGORIES:10K,5K,Kids Race
ATTACH;FMTTYPE=image/jpeg:https://www.runireland.com/wp-content/uploads/2020/01/Fun-Run-2020_01-scaled.jpg
GEO:52.8843406;-8.5967058
X-APPLE-STRUCTURED-LOCATION;VALUE=URI;X-ADDRESS=The Cobbler’s Rest Bodyke Co Clare;X-APPLE-RADIUS=500;X-TITLE=Bodyke:geo:-8.5967058,52.8843406
END:VEVENT
BEGIN:VEVENT
DTSTART;TZID=Europe/Dublin:20200208T093000
DTEND;TZID=Europe/Dublin:20200208T093000
DTSTAMP:20260422T113746
CREATED:20191219T131247Z
LAST-MODIFIED:20191219T131247Z
UID:180408-1581154200-1581154200@www.runireland.com
SUMMARY:The Fly High Lily Remembrance Run
DESCRIPTION:  \n  \n  \n  \n  \n  \n  \n  \nRace Entry Here \nOn 8th February 2020 we are hosting a charity run for Spina Bifida & Hydrocephalus Ireland and Lilly’s Garden. \nThis run is to commemorate Lily Daly who died at the age of 7.5 due to sudden complications and onset of acute Hydrocephalus. Lily was one of a kind.  She was a ball of positive energy bouncing around with love for everyone. Her enthusiasm and passion was infectious along with her unbridled imagination. \nShe packed a lifetime into her precious short 7.5 characterful and colourful years leaving her mark on everyone she came in contact with\, especially her school friends at Gaelscoil Inse Chor\, it truly was her home from home. \nEven though she was only 7 and a half she showed an empathy that was beyond her years\, caring for others. She is missed beyond measure every moment of every day\, her cheeky smile\, her determined nature\, her joyful outlook on life. \nTo mark Lilys memory and to celebrate her life\, the incredible teachers\, parents and pupils at her school are aiming to create an amazing outdoor classroom by way of a sensory outdoor garden – a way for other kids to explore\, imagine and belong\, just as Lily did. We can see her now bursting with the excitement at the thought of this. She would love the idea of an outdoor classroom in her name. As a family\, it would mean the world to us knowing that Lily’s legacy will live on. \nFunds raised will go toward the outdoor classroom in Gaelscoil Inse Chor and Spina Bifida and hydrocephalus Ireland. SBHI \nStart time is 9.30am and the run will take place in the beautiful surrounds of Phoenix Park. \n5k is the distance of the main event with a 2.5k untimed option available also. All are welcome – young & old\, walkers & runners. Your support for this great cause is greatly appreciated \nENTER HERE
URL:https://www.runireland.com/events/the-fly-high-lily-remembrance-run/
LOCATION:Phoenix Park\, Dublin\, Dublin\, Dublin 8
CATEGORIES:5K,Kids Race
ORGANIZER;CN="PopUpRaces":MAILTO:info@popupraces.ie
END:VEVENT
BEGIN:VEVENT
DTSTART;TZID=Europe/Dublin:20200208T093000
DTEND;TZID=Europe/Dublin:20200208T120000
DTSTAMP:20260422T113746
CREATED:20191217T174458Z
LAST-MODIFIED:20191217T174458Z
UID:180318-1581154200-1581163200@www.runireland.com
SUMMARY:Wind Farm 5k
DESCRIPTION:The trail will be following the Peak Ridge Path at the Galway Wind Park. You will race between the towering\, majestic turbines with views of the lake\, river\, Connemara\, and beautiful Irish countryside. €20 online registration cost\, €25 on race day. Payment is non-refundable. All proceeds go towards planning and carrying-out the Green Energy Festival in Galway City on 17 April 2020. This event is entirely student organised\, and we need to raise all the funds we can! Thank you dearly for your contribution. Please register here: \nhttps://socsbox.nuigalway.ie/index.php?route=product/product&path=78&product_id=423 \nBe sure to select a t-shirt size at the link provided in registration. Thank you and see you on race day! More information about the Green Energy Festival can be found at greenenergyfestival.com
URL:https://www.runireland.com/events/wind-farm-5k/
LOCATION:Galway Wind Park\, Seecon\, Knock South\, Co. Galway\, Ireland
CATEGORIES:5K
ORGANIZER;CN="NUIG Energy Society":MAILTO:energy@socs.nuigalway.ie
END:VEVENT
BEGIN:VEVENT
DTSTART;TZID=Europe/Dublin:20200208T093000
DTEND;TZID=Europe/Dublin:20200208T130000
DTSTAMP:20260422T113746
CREATED:20200106T120331Z
LAST-MODIFIED:20200106T120430Z
UID:180575-1581154200-1581166800@www.runireland.com
SUMMARY:Slaney Adventure Race 2020
DESCRIPTION:Total distance:  33.5Km \n  \nStart Location: \n\n\n\n\n\nGary Byrnes Grain Store\,\nBREE\nCO.WEXFORD\nY21 EK46\n\n\n\n\n\n  \nThe Race consist of the following \nStage 1:  Cycle 22km \nRoute MAP:https://www.plotaroute.com/route/541961 \nDescription: Starting in Bree village\, this cycle route will bring you through the rolling wexford countryside\, crossing the Slaney River and back along the Slaney valley \nTerrain;    Sealed road \nFeatures: Stunning views of the river Slaney and surrounding valley \n  \nStage 2:  Kayak 1km \nRoute Map:https://www.plotaroute.com/route/534628 \nDescription: In association with Wexford Kayak safaris\, competitors will Kayak a circular route along the spectacular river Slaney. \nRestrictions:   Participants cannot use their own Kayaks. They must use the Kayaks and paddles provided. Buoyancy aid must be used at all times. \n  \nState 3:   Cycle 8km \nRoute Map:https://www.plotaroute.com/route/541963 \nDescription:  A short cycle brings you back into Bree Village\, for the final transition. \n  \nStage 4: Forest Trail Run 6.5KM \n  \nRoute Map:https://www.strava.com/activities/1333053343 \n  \nDescription: Competitors will follow a short road before ascending up-to the stunning Bree hill. Following a a rolling  forest trail competitors circle the Hill\, taking in the breath taking views of the Slaney valley below\, before ascending the renowned Downhill Mountain Bike track. From here\, it’s down through the forest and back to the finish area in the Village below \nTerrain: Sealed road\, Forrest track\, Mountain track\, forest trail \nFeatures: From Various Points along the trail you have panoramic views across the Slaney valley and rolling Wexford countryside. \nPrecautions:  Trail runners are recommended
URL:https://www.runireland.com/events/slaney-adventure-race-2020/
LOCATION:Bree\, Wexford\, Bree Community Centre\, Enniscorthy\, Wexford\, Y21 XF95\, Ireland
CATEGORIES:Adventure Races
ATTACH;FMTTYPE=image/jpeg:https://www.runireland.com/wp-content/uploads/2020/01/80462897_2846541465404545_5382401570228928512_n-1.jpg
ORGANIZER;CN="Denis Aspel":MAILTO:denisasple@gmail.com
END:VEVENT
END:VCALENDAR