BEGIN:VCALENDAR
VERSION:2.0
PRODID:-//RunIreland.com - ECPv6.5.1.5//NONSGML v1.0//EN
CALSCALE:GREGORIAN
METHOD:PUBLISH
X-WR-CALNAME:RunIreland.com
X-ORIGINAL-URL:https://www.runireland.com
X-WR-CALDESC:Events for RunIreland.com
REFRESH-INTERVAL;VALUE=DURATION:PT1H
X-Robots-Tag:noindex
X-PUBLISHED-TTL:PT1H
BEGIN:VTIMEZONE
TZID:Europe/Dublin
BEGIN:STANDARD
TZOFFSETFROM:+0000
TZOFFSETTO:+0100
TZNAME:IST
DTSTART:20190331T010000
END:STANDARD
BEGIN:DAYLIGHT
TZOFFSETFROM:+0100
TZOFFSETTO:+0000
TZNAME:GMT
DTSTART:20191027T010000
END:DAYLIGHT
END:VTIMEZONE
BEGIN:VEVENT
DTSTART;TZID=Europe/Dublin:20191229T120000
DTEND;TZID=Europe/Dublin:20191229T170000
DTSTAMP:20260422T100141
CREATED:20191105T113916Z
LAST-MODIFIED:20191105T113916Z
UID:179755-1577620800-1577638800@www.runireland.com
SUMMARY:Christmas Cracker 5k
DESCRIPTION:A festive 5k held in Lees road\, Ennis on Christmas week. Runners and walkers of all abilities are welcome. \nFancy dress is optional \nThere will be a custom designed medal for all finishers!! \nEntries will also be taken on the day from 10-11.30am. \nA fun filled afternoon is promised so save the date Sunday 29th December at 12pm sharp. \nPrice: €10 per adult\, €5 per child \nSeparate family ticket for families: 2 adults and 2 kids(or groups of 4) for €25 \nRegister HERE
URL:https://www.runireland.com/events/christmas-cracker-5k-2/
LOCATION:Lees road\, Ennis
CATEGORIES:5K,Kids Race
ATTACH;FMTTYPE=image/jpeg:https://www.runireland.com/wp-content/uploads/2019/11/medal-1.jpg
END:VEVENT
END:VCALENDAR