BEGIN:VCALENDAR
VERSION:2.0
PRODID:-//RunIreland.com - ECPv6.5.1.5//NONSGML v1.0//EN
CALSCALE:GREGORIAN
METHOD:PUBLISH
X-ORIGINAL-URL:https://www.runireland.com
X-WR-CALDESC:Events for RunIreland.com
REFRESH-INTERVAL;VALUE=DURATION:PT1H
X-Robots-Tag:noindex
X-PUBLISHED-TTL:PT1H
BEGIN:VTIMEZONE
TZID:Europe/Dublin
BEGIN:STANDARD
TZOFFSETFROM:+0000
TZOFFSETTO:+0100
TZNAME:IST
DTSTART:20190331T010000
END:STANDARD
BEGIN:DAYLIGHT
TZOFFSETFROM:+0100
TZOFFSETTO:+0000
TZNAME:GMT
DTSTART:20191027T010000
END:DAYLIGHT
END:VTIMEZONE
BEGIN:VEVENT
DTSTART;TZID=Europe/Dublin:20191226T103000
DTEND;TZID=Europe/Dublin:20191226T130000
DTSTAMP:20260422T100210
CREATED:20191008T081806Z
LAST-MODIFIED:20191118T173822Z
UID:179182-1577356200-1577365200@www.runireland.com
SUMMARY:Cavan Christmas Dash 5K
DESCRIPTION:9th Annual Cavan Christmas Dash 5K Run – Jog – Walk \nGet your St. Stephen’s day off to a cracking start and join us Thursday morning (26th!) in Cavan Town. \nRegistration on the day will commence at 10:30am at The Farnham Arms Hotel and close at 11:45am. \nThose pre-registered online can pick up their number at the pre-registration desk. \nThe race will start at 12 noon sharp. \nRegister online or see registration fees on the day below: \nIndividual Entry – €15 (Kids under 16 – €8)\nFamily – Two Adults & Two Kids under 16 – €45\nFamily of Four Adults – €50\nFor more visit – www.cavanchristmasdash.ie
URL:https://www.runireland.com/events/cavan-christmas-dash-5k/
LOCATION:The Farnham Arms Hotel\, The Farnham Arms Hotel\, Cavan\, H12 Y6E4\, Ireland
CATEGORIES:5K
ATTACH;FMTTYPE=image/jpeg:https://www.runireland.com/wp-content/uploads/2019/10/ccd_logo_200_148-1.jpg
ORGANIZER;CN="Liam Mimnagh":MAILTO:info@cavanchristmasdash.ie
GEO:53.991278;-7.360043
X-APPLE-STRUCTURED-LOCATION;VALUE=URI;X-ADDRESS=The Farnham Arms Hotel The Farnham Arms Hotel Cavan H12 Y6E4 Ireland;X-APPLE-RADIUS=500;X-TITLE=The Farnham Arms Hotel:geo:-7.360043,53.991278
END:VEVENT
BEGIN:VEVENT
DTSTART;TZID=Europe/Dublin:20191226T103000
DTEND;TZID=Europe/Dublin:20191226T150000
DTSTAMP:20260422T100210
CREATED:20191202T155413Z
LAST-MODIFIED:20191202T174050Z
UID:180152-1577356200-1577372400@www.runireland.com
SUMMARY:Ardagh 5K Fun Run
DESCRIPTION:Our annual fundraiser is almost here\, prizes for adults\, locals and underage. Registration at Ardagh Community centre from 10.30AM\, race starts at 12 Noon SHARP.
URL:https://www.runireland.com/events/ardagh-5k-fun-run-2/
LOCATION:Ardagh\, Mayo\, Ardagh\, Mayo\, Ireland
CATEGORIES:5K
ATTACH;FMTTYPE=image/jpeg:https://www.runireland.com/wp-content/uploads/2019/12/fun-run-2019pic.jpg
ORGANIZER;CN="Ardagh GAA":MAILTO:ardaghgaa2017@gmail.com
GEO:54.0973956;-9.2308699
X-APPLE-STRUCTURED-LOCATION;VALUE=URI;X-ADDRESS=Ardagh Mayo Ardagh Mayo Ireland;X-APPLE-RADIUS=500;X-TITLE=Ardagh:geo:-9.2308699,54.0973956
END:VEVENT
BEGIN:VEVENT
DTSTART;TZID=Europe/Dublin:20191226T110000
DTEND;TZID=Europe/Dublin:20191226T120000
DTSTAMP:20260422T100210
CREATED:20191112T174031Z
LAST-MODIFIED:20191112T174031Z
UID:179863-1577358000-1577361600@www.runireland.com
SUMMARY:Streets of Wicklow 5km
DESCRIPTION:Ever popular Streets of Wicklow 5km is on at 11:00 am St. Stephens Day 26th of December. This fast course offers cash prizes first 5 men and women in\, category prizes and €100 for the Fastes Family across the line (2 parents & 2 kids to score)\nTo register on-line click on https://register.primoevents.com/ps/event/StreetsofWicklow2019\nEntries will be taken on the day\, and non-chipped walking registration also available €10
URL:https://www.runireland.com/events/streets-of-wicklow-5km-2/
LOCATION:East Glendalough School – Station Road Wicklow\, Station Road\, Wicklow
CATEGORIES:5K
ATTACH;FMTTYPE=image/jpeg:https://www.runireland.com/wp-content/uploads/2019/11/sow20182.jpg
ORGANIZER;CN="Inbhear Dee Athletics Club":MAILTO:inbheardee.secretary@gmail.com
END:VEVENT
BEGIN:VEVENT
DTSTART;TZID=Europe/Dublin:20191226T110000
DTEND;TZID=Europe/Dublin:20191226T130000
DTSTAMP:20260422T100210
CREATED:20191016T102338Z
LAST-MODIFIED:20191023T165241Z
UID:179368-1577358000-1577365200@www.runireland.com
SUMMARY:Pieta House Wren Run 3km & 6km (Walk\, Jog\, Run)
DESCRIPTION:REGISTER TO SUPPORT OR TAKE PART – SUPPORT A GREAT CAUSE SO YOU CAN WIN AMAZING PRIZES LIKE A CONSULTATION WITH DERMOT BANNON\, SUPERVALU VOUCHER\, HOTEL GETAWAYS PLUS LOADS MORE.. \nFOR MORE INFO\, VISIT: WWW.PIETAHOUSEWRENRUN.IE \nThe Pieta House Wren Run is back for its fourth year on 26th December in Woodford\, Co. Galway @11am. \nCourse Profile: 3km (tarmac surface) & 6km (tarmac and forest trail) Routes – All ages\, levels & abilities welcome! (Dog and buggy friendly)\nLocation: Woodford Community Field\, Woodford\, Co. Galway \nAll proceeds split 50:50 between Pieta House and local community groups in East Galway. Our beneficiaries for 2019 are Davitts Camogie Club & Tommy Larkins GAA Club who are using their proceeds to invest in social wellbeing initiatives/ facilities to benefit the young and old of their communities. \nT&Cs Apply
URL:https://www.runireland.com/events/pieta-house-wren-run-3km-6km-walk-jog-run/
LOCATION:Pieta House Wren Run 3&6km\, Woodford\, Co. Galway\, H62 XW18\, Ireland
CATEGORIES:5K,Kids Race,Other,Road Race,Trail / Off Road Races
ORGANIZER;CN="Wren Run Company Limited by Guarantee":MAILTO:pietahousewrenrun@gmail.com
END:VEVENT
BEGIN:VEVENT
DTSTART;TZID=Europe/Dublin:20191226T110000
DTEND;TZID=Europe/Dublin:20191226T130000
DTSTAMP:20260422T100210
CREATED:20191209T080545Z
LAST-MODIFIED:20191209T143610Z
UID:180226-1577358000-1577365200@www.runireland.com
SUMMARY:West Sligo Fun Run
DESCRIPTION:West Sligo run starts in Dromore West village go out Easky Coast Rd through some lovely scenic country roads lovely views of ox mountains. rivers\, windmills flat course over a lovely bridge finishes along a beautiful river through lovely woods\, over some foot bridges and finishes in our modern community centre where refreshments will be served and prizes will be presented \nAll walkers start from community at @ 11.00 sharp\, all runners start from petrol station @ 11.30\, the course is info flat some minor inclines and declines. \n10k finishes through woods for 1k then on to community centre\, plenty parking on streets and village and Community Centra grounds\, race numbers on reg please wear suitable attire.
URL:https://www.runireland.com/events/west-sligo-fun-run-2/
CATEGORIES:10K,1K,Kids Race
ATTACH;FMTTYPE=image/png:https://www.runireland.com/wp-content/uploads/2019/12/Screenshot-2019-12-09-at-08.04.43.png
END:VEVENT
BEGIN:VEVENT
DTSTART;TZID=Europe/Dublin:20191226T110000
DTEND;TZID=Europe/Dublin:20191226T140000
DTSTAMP:20260422T100210
CREATED:20181126T113852Z
LAST-MODIFIED:20191023T071209Z
UID:172864-1577358000-1577368800@www.runireland.com
SUMMARY:Fields of Athenry 10K
DESCRIPTION:The 18th Fields of Athenry 10km takes place on St. Stephen’s Day\, December 26th at 11am. Over the last number of years this has become one of the leading road races in the country\, and we aim to continue to improve the event. The race will be held on its traditional route\, finishing under the medieval arch in Athenry. Last year we had over 1100 finishers and two course records\, with men’s champion and Irish Olympian Mick Clohisey of Raheny Shamrock AC taking top honours in the men’s race for the seventh year in a row\, while Laura Shaughnessy took her second win in the race having also won in 2016. \n  \nEnter now HERE
URL:https://www.runireland.com/events/fields-of-athenry-10k-2/
LOCATION:Athenry\, Galway\, Athenry\, Galway\, Ireland
CATEGORIES:10K
ATTACH;FMTTYPE=image/jpeg:https://www.runireland.com/wp-content/uploads/2018/11/4x4-patcallanan.jpg
ORGANIZER;CN="Fields of Athenry 10K":MAILTO:10km@athenryac.com
GEO:53.3008131;-8.7453768
X-APPLE-STRUCTURED-LOCATION;VALUE=URI;X-ADDRESS=Athenry Galway Athenry Galway Ireland;X-APPLE-RADIUS=500;X-TITLE=Athenry:geo:-8.7453768,53.3008131
END:VEVENT
BEGIN:VEVENT
DTSTART;TZID=Europe/Dublin:20191226T123000
DTEND;TZID=Europe/Dublin:20191226T143000
DTSTAMP:20260422T100210
CREATED:20191105T114015Z
LAST-MODIFIED:20191105T114015Z
UID:179775-1577363400-1577370600@www.runireland.com
SUMMARY:Turkey Trot 7K & 10K
DESCRIPTION:Run off the excess Turkey & Ham this St. Stephens’ Day!! 10k & 7k routes for all abilities… get out to the fresh air for the afternoon!! \nRefreshments served afterwards. registration from 11am.\nDonations welcome on the day.
URL:https://www.runireland.com/events/turkey-trot-7k-10k-2/
LOCATION:Arva\, Cavan\, Arva\, Cavan\, Ireland
CATEGORIES:10K
ATTACH;FMTTYPE=image/jpeg:https://www.runireland.com/wp-content/uploads/2019/11/Turkey-Trot-2018-poster-page-001-scaled.jpg
ORGANIZER;CN="Arva Trotters":MAILTO:carol.mcenerney@gmail.com
GEO:53.9214383;-7.5799134
X-APPLE-STRUCTURED-LOCATION;VALUE=URI;X-ADDRESS=Arva Cavan Arva Cavan Ireland;X-APPLE-RADIUS=500;X-TITLE=Arva:geo:-7.5799134,53.9214383
END:VEVENT
BEGIN:VEVENT
DTSTART;TZID=Europe/Dublin:20191226T130000
DTEND;TZID=Europe/Dublin:20191226T150000
DTSTAMP:20260422T100210
CREATED:20181231T170603Z
LAST-MODIFIED:20191113T215733Z
UID:173638-1577365200-1577372400@www.runireland.com
SUMMARY:Shane Brennan 5k
DESCRIPTION:5k run/jog/walk Newtownforbes 1pm 26th December
URL:https://www.runireland.com/events/shane-brennan-5k-2/2019-12-26/
LOCATION:Newtownforbes\, Longford\, Newtownforbes\, Longford\, Ireland
CATEGORIES:5K
ATTACH;FMTTYPE=image/jpeg:https://www.runireland.com/wp-content/uploads/2018/12/20181108_205735.jpg
ORGANIZER;CN="Sinead Nolan":MAILTO:sineadpnolan@gmail.com
GEO:53.7654838;-7.835621
X-APPLE-STRUCTURED-LOCATION;VALUE=URI;X-ADDRESS=Newtownforbes Longford Newtownforbes Longford Ireland;X-APPLE-RADIUS=500;X-TITLE=Newtownforbes:geo:-7.835621,53.7654838
END:VEVENT
BEGIN:VEVENT
DTSTART;TZID=Europe/Dublin:20191226T140000
DTEND;TZID=Europe/Dublin:20191226T140000
DTSTAMP:20260422T100210
CREATED:20191217T174407Z
LAST-MODIFIED:20191217T174407Z
UID:180309-1577368800-1577368800@www.runireland.com
SUMMARY:10k and 5k St Stephen's Day Run\, Castletown
DESCRIPTION:10km and 5km CHARITY RUN \nST STEPHEN’S DAY \nFROM THE GOLDEN ANCHOR CASTLETOWN Y25 K316 \nWALK STARTS AT 1PM \nRUN STARTS AT 2PM \nPRIZES FOR ALL AGE CATEGORIES \nREFRESHMENTS SERVED \nCONTACT 086 – 0686428 \nADULTS €10 PRIMARY SCHOOL CHILDREN €5 \nWALK \, JOG OR RUN . BUGGY FRIENDLY ROAD RACE \, WITH STUNNING COASTAL VIEWS ON 5k ROUTE
URL:https://www.runireland.com/events/10k-and-5k-st-stephens-day-run-castletown/
LOCATION:The Golden Anchor \, Castletown\, Castletown\, Gorey\, Wexford\, Y25 K16\, Ireland
CATEGORIES:10K,5K
END:VEVENT
END:VCALENDAR