BEGIN:VCALENDAR
VERSION:2.0
PRODID:-//RunIreland.com - ECPv6.5.1.5//NONSGML v1.0//EN
CALSCALE:GREGORIAN
METHOD:PUBLISH
X-ORIGINAL-URL:https://www.runireland.com
X-WR-CALDESC:Events for RunIreland.com
REFRESH-INTERVAL;VALUE=DURATION:PT1H
X-Robots-Tag:noindex
X-PUBLISHED-TTL:PT1H
BEGIN:VTIMEZONE
TZID:Europe/Dublin
BEGIN:STANDARD
TZOFFSETFROM:+0000
TZOFFSETTO:+0100
TZNAME:IST
DTSTART:20190331T010000
END:STANDARD
BEGIN:DAYLIGHT
TZOFFSETFROM:+0100
TZOFFSETTO:+0000
TZNAME:GMT
DTSTART:20191027T010000
END:DAYLIGHT
END:VTIMEZONE
BEGIN:VEVENT
DTSTART;TZID=Europe/Dublin:20191201T080000
DTEND;TZID=Europe/Dublin:20191225T170000
DTSTAMP:20260422T100115
CREATED:20191128T170746Z
LAST-MODIFIED:20191128T170852Z
UID:180100-1575187200-1577293200@www.runireland.com
SUMMARY:12 Days of Christmas Challenge
DESCRIPTION:The 12 Days of Christmas Challenge is back for 2019!  \nChristmas is fast approaching and with it the many party invitations and distracting opportunities to let your fitness decrease and your waistline increase during the silly season.  But fear not\, if you need some inspiration\, motivation or just some accountability to get you moving this December you can sign up now to the Tri Talking Sport 12 Days of Christmas Challenge. \nThe concept is a simple one\, commit to completing 12 hours of physical activity over the festive period from December 1st– 25th. Ideally this would be one hour of activity per day for 12 days\, however\, this is more about challenge completion than competition so participants can decide to complete the challenge over a variety of durations from 30 minutes to 2 hour sessions. \nParticipants can select any form of physical activity of choice; yoga\, pilates\, running\, swimming\, cycling\, walking\, hiking\, jogging\, gym class or any other activity that gets you moving\, puts a smile on your face and gets the blood rushing through your veins. This is a fun challenge to encourage people to get moving over the festive period. With so much going on\, as always in the lead up to Christmas\, there are plenty of excuses and reasons not to stay motivated to exercise over the next few weeks. This challenge provides the incentive to get an hour of exercise completed on at least 12 days between now and Christmas Day\, taking time out to enjoy the session either on your own or with fellow challengers. \nThe reward for the challenge is in the completion and personal satisfaction\, however there will be a number of presents and treats up for grabs from Santa’s Sleigh as an incentive for participants to engage in the challenge fully.  Register for the challenge HERE \n 
URL:https://www.runireland.com/events/12-days-of-christmas-challenge/
CATEGORIES:Other
ATTACH;FMTTYPE=image/png:https://www.runireland.com/wp-content/uploads/2019/11/1.png
END:VEVENT
BEGIN:VEVENT
DTSTART;TZID=Europe/Dublin:20191208T110000
DTEND;TZID=Europe/Dublin:20191208T110000
DTSTAMP:20260422T100115
CREATED:20190910T113731Z
LAST-MODIFIED:20190910T133528Z
UID:178922-1575802800-1575802800@www.runireland.com
SUMMARY:Claregalway 5K Jingle Bells Fun Run and Walk
DESCRIPTION:Claregalway 5K Jingle Bells Fun-run and Walk Sunday 8th December @11am. Entry Fee €10. \nMain Sponsor: ProAir Heat Recovery Ventilation Systems \nNumber Pickup and Late Registration in Claregalway Community Centre between 9.30am and 10.45am. \nStart and Finish near Community Centre. Refreshments afterwards in Community Centre. \nAt 12 noon there will be a 1K fun run for juveniles under 10s and under 12s – entry fee €5 \nRaising funds for Clare River Harriers A.C. and Claregalway Handball Club.\nDirect link to online entries on www.clareriverharriers.com
URL:https://www.runireland.com/events/claregalway-5k-jingle-bells-fun-run-and-walk-on-sunday-08-december-at-11am/
LOCATION:Claregalway\, Co. Galway\, Claregalway\, Co. Galway\, H91 D635
CATEGORIES:5K
ATTACH;FMTTYPE=image/jpeg:https://www.runireland.com/wp-content/uploads/2019/09/Claregalway-5k-Jingle-Bells-08-Dec-2019.jpg
ORGANIZER;CN="Clare River Harriers A.C.":MAILTO:t.kilgarriff2@gmail.com
GEO:53.3343852;-8.9358168
X-APPLE-STRUCTURED-LOCATION;VALUE=URI;X-ADDRESS=Claregalway Co. Galway Claregalway Co. Galway H91 D635;X-APPLE-RADIUS=500;X-TITLE=Claregalway:geo:-8.9358168,53.3343852
END:VEVENT
END:VCALENDAR