BEGIN:VCALENDAR
VERSION:2.0
PRODID:-//RunIreland.com - ECPv6.5.1.5//NONSGML v1.0//EN
CALSCALE:GREGORIAN
METHOD:PUBLISH
X-WR-CALNAME:RunIreland.com
X-ORIGINAL-URL:https://www.runireland.com
X-WR-CALDESC:Events for RunIreland.com
REFRESH-INTERVAL;VALUE=DURATION:PT1H
X-Robots-Tag:noindex
X-PUBLISHED-TTL:PT1H
BEGIN:VTIMEZONE
TZID:Europe/Dublin
BEGIN:STANDARD
TZOFFSETFROM:+0000
TZOFFSETTO:+0100
TZNAME:IST
DTSTART:20190331T010000
END:STANDARD
BEGIN:DAYLIGHT
TZOFFSETFROM:+0100
TZOFFSETTO:+0000
TZNAME:GMT
DTSTART:20191027T010000
END:DAYLIGHT
END:VTIMEZONE
BEGIN:VEVENT
DTSTART;TZID=Europe/Dublin:20191124T080000
DTEND;TZID=Europe/Dublin:20191124T170000
DTSTAMP:20260422T113844
CREATED:20190717T100405Z
LAST-MODIFIED:20200519T095433Z
UID:178402-1574582400-1574614800@www.runireland.com
SUMMARY:Beflast 10k MoRun 2019
DESCRIPTION:Timings – Mini MoRun 9.30am – 5k MoRun 10am – 10k MoRun 10.10am \nMoRunning is back this November and without a doubt it will be an epic year to be a MoRunner\, celebrating our 10 year anniversary with us.  With an incredible 24 locations\, the inclusion of the 1.5km Mini MoRun\, as well as a virtual MoRun we expect to see loads more MoBro’s and MoSista’s\, as well as kids and families enjoying everything MoRunning is about!  Good fun\, lots of laughs\, loads of smiles\, high fives and not forgetting the fancy dress and funny moustaches! \nMake sure you secure your entry for you\, your friends and your family as soon as possible when entries open early Summer\, as places are limited and we don’t want you to miss out. \n \nTo you the MoRunner\, we will be there to support you\, laugh with you\, cheer you on\, encourage and motivate you throughout your MoRunning journey.
URL:https://www.runireland.com/events/beflast-10k-morun-2019/
LOCATION:Stormont Park\, Stormont Park\, Belfast\, BT4 3GW
CATEGORIES:10K
ATTACH;FMTTYPE=image/jpeg:https://www.runireland.com/wp-content/uploads/2019/07/MoMedal20181-3.jpg
ORGANIZER;CN="The Fix Events":MAILTO:info@thefixevents.com
END:VEVENT
BEGIN:VEVENT
DTSTART;TZID=Europe/Dublin:20191124T080000
DTEND;TZID=Europe/Dublin:20191124T170000
DTSTAMP:20260422T113844
CREATED:20190717T100649Z
LAST-MODIFIED:20200519T095339Z
UID:178399-1574582400-1574614800@www.runireland.com
SUMMARY:Beflast 5k MoRun 2019
DESCRIPTION:Timings – Mini MoRun 9.30am – 5k MoRun 10am – 10k MoRun 10.10am \nMoRunning is back this November and without a doubt it will be an epic year to be a MoRunner\, celebrating our 10 year anniversary with us.  With an incredible 24 locations\, the inclusion of the 1.5km Mini MoRun\, as well as a virtual MoRun we expect to see loads more MoBro’s and MoSista’s\, as well as kids and families enjoying everything MoRunning is about!  Good fun\, lots of laughs\, loads of smiles\, high fives and not forgetting the fancy dress and funny moustaches! \nMake sure you secure your entry for you\, your friends and your family as soon as possible when entries open early Summer\, as places are limited and we don’t want you to miss out. \n \nTo you the MoRunner\, we will be there to support you\, laugh with you\, cheer you on\, encourage and motivate you throughout your MoRunning journey.
URL:https://www.runireland.com/events/beflast-5k-morun-2019/
LOCATION:Stormont Park\, Stormont Park\, Belfast\, BT4 3GW
CATEGORIES:5K
ATTACH;FMTTYPE=image/jpeg:https://www.runireland.com/wp-content/uploads/2019/07/MoMedal20181-2.jpg
ORGANIZER;CN="The Fix Events":MAILTO:info@thefixevents.com
END:VEVENT
BEGIN:VEVENT
DTSTART;TZID=Europe/Dublin:20191124T080000
DTEND;TZID=Europe/Dublin:20191124T170000
DTSTAMP:20260422T113844
CREATED:20190717T100800Z
LAST-MODIFIED:20200519T095254Z
UID:178396-1574582400-1574614800@www.runireland.com
SUMMARY:Beflast 1.5k Mini MoRun 2019
DESCRIPTION:Timings – Mini MoRun 9.30am – 5k MoRun 10am – 10k MoRun 10.10am \nMoRunning is back this November and without a doubt it will be an epic year to be a MoRunner\, celebrating our 10 year anniversary with us.  With an incredible 24 locations\, the inclusion of the 1.5km Mini MoRun\, as well as a virtual MoRun we expect to see loads more MoBro’s and MoSista’s\, as well as kids and families enjoying everything MoRunning is about!  Good fun\, lots of laughs\, loads of smiles\, high fives and not forgetting the fancy dress and funny moustaches! \nMake sure you secure your entry for you\, your friends and your family as soon as possible when entries open early Summer\, as places are limited and we don’t want you to miss out. \n \nTo you the MoRunner\, we will be there to support you\, laugh with you\, cheer you on\, encourage and motivate you throughout your MoRunning journey.
URL:https://www.runireland.com/events/beflast-1-5k-mini-morun-2019/
LOCATION:Stormont Park\, Stormont Park\, Belfast\, BT4 3GW
CATEGORIES:Kids Race
ATTACH;FMTTYPE=image/jpeg:https://www.runireland.com/wp-content/uploads/2019/07/MoRunVisual3-A-1.jpg
ORGANIZER;CN="The Fix Events":MAILTO:info@thefixevents.com
END:VEVENT
BEGIN:VEVENT
DTSTART;TZID=Europe/Dublin:20191124T130000
DTEND;TZID=Europe/Dublin:20191124T150000
DTSTAMP:20260422T113844
CREATED:20191021T145421Z
LAST-MODIFIED:20191021T145421Z
UID:179298-1574600400-1574607600@www.runireland.com
SUMMARY:Castleblayney SuperValu 5km Road Race
DESCRIPTION:The 9th running of the Castleblayney SuperValue 5km road race. AAI certified and approved the course which is run on closed roads and is on the same fast course as the previous year. \nThe race will commence at 2pm sharp with registration online at €10 or on the day for €15. \nU14 2k Juvenile Race at 1pm for €5 entry on the day with all receiving finishers medals.\nThe race is chip timed and attracts a large field every year with plenty of potential for a PB. \nAll finishers will receive a medal with category prizes for male and female in a number of categories. \nRefreshments and presentation will take place afterwards in The Glencarn Hotel\, a short distance from the finish. Plenty of parking near registration and will be signposted on the day
URL:https://www.runireland.com/events/castleblayney-supervalu-5km-road-race-3/
LOCATION:Castleblayney\, Monaghan\, Castleblayney\, Monaghan\, Ireland
CATEGORIES:5K
ATTACH;FMTTYPE=image/jpeg:https://www.runireland.com/wp-content/uploads/2019/10/5km-2019.jpg
ORGANIZER;CN="Stephen A. Dignam":MAILTO:diggy75@eircom.net
GEO:54.120659;-6.7397374
X-APPLE-STRUCTURED-LOCATION;VALUE=URI;X-ADDRESS=Castleblayney Monaghan Castleblayney Monaghan Ireland;X-APPLE-RADIUS=500;X-TITLE=Castleblayney:geo:-6.7397374,54.120659
END:VEVENT
END:VCALENDAR