BEGIN:VCALENDAR
VERSION:2.0
PRODID:-//RunIreland.com - ECPv6.5.1.5//NONSGML v1.0//EN
CALSCALE:GREGORIAN
METHOD:PUBLISH
X-WR-CALNAME:RunIreland.com
X-ORIGINAL-URL:https://www.runireland.com
X-WR-CALDESC:Events for RunIreland.com
REFRESH-INTERVAL;VALUE=DURATION:PT1H
X-Robots-Tag:noindex
X-PUBLISHED-TTL:PT1H
BEGIN:VTIMEZONE
TZID:Europe/Dublin
BEGIN:STANDARD
TZOFFSETFROM:+0000
TZOFFSETTO:+0100
TZNAME:IST
DTSTART:20190331T010000
END:STANDARD
BEGIN:DAYLIGHT
TZOFFSETFROM:+0100
TZOFFSETTO:+0000
TZNAME:GMT
DTSTART:20191027T010000
END:DAYLIGHT
END:VTIMEZONE
BEGIN:VEVENT
DTSTART;TZID=Europe/Dublin:20191117T090000
DTEND;TZID=Europe/Dublin:20191117T140000
DTSTAMP:20260422T113746
CREATED:20190618T101312Z
LAST-MODIFIED:20190618T101312Z
UID:178142-1573981200-1573999200@www.runireland.com
SUMMARY:Forkhill GAA 10K Race Around The Brac
DESCRIPTION:Forkhill GAA clubs 8th annual Race Around The Brack 10K event. \n10K Run/Walk (Chipped Event)\n5K Fun Run – Family Walk \nRefreshments for All Finishers in our Club Rooms Afterwards \nProceeds to underage development (charity partner to be announced) \nPrizes for 1st 2nd 3rd Male and Female\nThe route is well signposted with safety Marshall’s at all junctions\nThere will be water stops along the route and also back up cars in front and behind both the 10k event and the fun run/family walk event \nHeartbreak Hill is still here \nEntry fee for the 10k event is £15 or 17 euro \nEntry fee for the fun run/family walk is £5 or 7 euro per adult \nEntrants for the 10k event must be over 16 years old \nRegistration will take place on event day in Club Rooms from 9 am \nBespoke Commemorative Medal for all 10k finishers\nCertificates for Fun Run/Family Walk \nDetails of this event will be posted on our Facebook page\nhttps://www.facebook.com/peadar.odoirnin \nPlease email club secretary Thomas on:\nsecretary.forkhillpeadarodoirnin.armagh@gaa.ie \nClub Address:\nForkhill GAA\, 19 Bog Rd\, Forkhill\, Newry\, BT35 9SZ
URL:https://www.runireland.com/events/forkhill-gaa-10k-race-around-the-brac/2019-11-17/
LOCATION:Forkhill GAA\, 19 Bog Road\, Forkhill\, BT35 9SZ
CATEGORIES:10K,5K
ATTACH;FMTTYPE=image/jpeg:https://www.runireland.com/wp-content/uploads/2019/06/slieve-brack.jpg
ORGANIZER;CN="Thomas Smith (Club Secretary)":MAILTO:secretary.forkhillpeadarodoirnin.armagh@gaa.ie
END:VEVENT
BEGIN:VEVENT
DTSTART;TZID=Europe/Dublin:20191117T120000
DTEND;TZID=Europe/Dublin:20191117T170000
DTSTAMP:20260422T113746
CREATED:20191015T121231Z
LAST-MODIFIED:20191111T164541Z
UID:179346-1573992000-1574010000@www.runireland.com
SUMMARY:Hollymount International Road Race
DESCRIPTION:The 54th Hollymount International Road Races will take place in Hollymount on Sunday 17th November. Once again\, there will be 3 separate races – the Junior race\, Ladies race and Senior mens race. \nONLINE ENTRY – €15 \nON THE DAY ENTRY – €20
URL:https://www.runireland.com/events/hollymount-international-road-race/
CATEGORIES:10K
END:VEVENT
BEGIN:VEVENT
DTSTART;TZID=Europe/Dublin:20191117T123000
DTEND;TZID=Europe/Dublin:20191117T123000
DTSTAMP:20260422T113746
CREATED:20190924T114505Z
LAST-MODIFIED:20191116T152956Z
UID:179020-1573993800-1573993800@www.runireland.com
SUMMARY:BDN10k Ballinderreen\, South Galway
DESCRIPTION:ON LINE REGISTRATION IS NOW CLOSED. \nREGISTRATION WILL BE AVAILABLE ON THE DAY (€23) \, from 10am to 12pm. \nA limited number of Beanie hats still available on the day. \n  \nSOUTH GALWAY AC hosts its 9th annual BDN 10k. \n** Beanie hats for the first 200 that register** \n  \n12.30:  Race starts at Ballinderreen village (5 mins walk from the community centre/gaa pitch). \n  \n10.00-12.00:  Race Number pick up for online registration (€20)\, & Day Registrations (€23)\, at Ballinderreen Community Centre   (Car parking close by in the GAA pitch). \n  \nThe course is AAI certified measured\, CHIP TIMED. \nPrizes for various categories. \n  \nWater station close to the 5k mark. \nRace finishes at community centre\, with refreshments and snacks. Toilets available at the community centre and GAA grounds. \n  \nRace is “Green ECO” – Reduced disposable water bottles\, Reduced paper\, Car Pooling encouraged
URL:https://www.runireland.com/events/bdn10k-ballinderreen-south-galway/
LOCATION:Ballinderreen Community Center\, Ballinderreen\, Co. Galway\, Ballinderreen\, Galway\, H91 TC65\, Ireland
CATEGORIES:10K
ORGANIZER;CN="Frank Power":MAILTO:powerfrank00@gmail.com
END:VEVENT
END:VCALENDAR