BEGIN:VCALENDAR
VERSION:2.0
PRODID:-//RunIreland.com - ECPv6.5.1.5//NONSGML v1.0//EN
CALSCALE:GREGORIAN
METHOD:PUBLISH
X-ORIGINAL-URL:https://www.runireland.com
X-WR-CALDESC:Events for RunIreland.com
REFRESH-INTERVAL;VALUE=DURATION:PT1H
X-Robots-Tag:noindex
X-PUBLISHED-TTL:PT1H
BEGIN:VTIMEZONE
TZID:Europe/Dublin
BEGIN:STANDARD
TZOFFSETFROM:+0000
TZOFFSETTO:+0100
TZNAME:IST
DTSTART:20190331T010000
END:STANDARD
BEGIN:DAYLIGHT
TZOFFSETFROM:+0100
TZOFFSETTO:+0000
TZNAME:GMT
DTSTART:20191027T010000
END:DAYLIGHT
END:VTIMEZONE
BEGIN:VEVENT
DTSTART;TZID=Europe/Dublin:20191113T080000
DTEND;TZID=Europe/Dublin:20191113T170000
DTSTAMP:20260423T051721
CREATED:20191114T161129Z
LAST-MODIFIED:20191114T161129Z
UID:179915-1573632000-1573664400@www.runireland.com
SUMMARY:Michael Egan Wild Atlantic 5 Mile (Run the Banner Run 2)
DESCRIPTION:Experience the wild and free Atlantic way with this 5 mile run from Quilty\, Co Clare\, while supporting local voluntary community youth athletics activities. \nHosted by Kilmurry Ibrickane/North Clare Athletic Club the Michael Egan Memorial Atlantic 5ml road race will take place at Quilty\, Co. Clare at 1pm on Sunday 23rd February 2020. \nFUN RUNNERS\, Meet and Train Groups\, and\,  WALKERS most WELCOME………. \nDo it for FRIENDS! \nOnline Registration @ https://register.primoevents.com/ps/event/2020RunTheBannerFunFriendsFitness5to10RunSeries \nOn the day: Quilty Tavern from 11am-12.30pm.
URL:https://www.runireland.com/events/michael-egan-wild-atlantic-5-mile-run-the-banner-run-2/
CATEGORIES:5mile and 8k,Road Race
END:VEVENT
BEGIN:VEVENT
DTSTART;TZID=Europe/Dublin:20191113T200000
DTEND;TZID=Europe/Dublin:20191113T213000
DTSTAMP:20260423T051721
CREATED:20190826T143107Z
LAST-MODIFIED:20190826T143107Z
UID:178774-1573675200-1573680600@www.runireland.com
SUMMARY:Run in the Dark Dublin - 5k & 10k
DESCRIPTION:Run in the Dark Dublin returns on 13th November 2019.  \n9\,000 people will take over the Dublin city streets\, starting on the northside of the quays. Our flat route through the city centre is perfect for testing yourself. Every participant will receive an official run time and certificate. \n  \n 
URL:https://www.runireland.com/events/run-in-the-dark-dublin-5k-10k/
LOCATION:dublin city\, CHQ\, Ireland
CATEGORIES:10K,5K
ATTACH;FMTTYPE=image/jpeg:https://www.runireland.com/wp-content/uploads/2019/08/7.jpg
ORGANIZER;CN="Run in the Dark":MAILTO:info@runinthedark.org
END:VEVENT
BEGIN:VEVENT
DTSTART;TZID=Europe/Dublin:20191113T200000
DTEND;TZID=Europe/Dublin:20191113T213000
DTSTAMP:20260423T051721
CREATED:20190830T133506Z
LAST-MODIFIED:20190830T133506Z
UID:178847-1573675200-1573680600@www.runireland.com
SUMMARY:Run in the Dark Galway 5k & 10k
DESCRIPTION:Run in the Dark  Galway on the 13th November 2019 \nJoin us for Run in the Dark Galway starting on the Salthill Promenade at 8pm. \nChallenge yourself to a 5k or 10k run on 13th November and light up the night with 25\,000 people in 50 locations across the globe. \nEach participant will receive a Run in the Dark flashing armband and buff.
URL:https://www.runireland.com/events/run-in-the-dark-galway-5k-10k/
LOCATION:Galway\, Galway\, Ireland
CATEGORIES:10K,5K
ATTACH;FMTTYPE=image/jpeg:https://www.runireland.com/wp-content/uploads/2019/08/Galway-runireland.jpg
ORGANIZER;CN="Run in the Dark":MAILTO:info@runinthedark.org
GEO:53.270668;-9.0567905
END:VEVENT
BEGIN:VEVENT
DTSTART;TZID=Europe/Dublin:20191113T200000
DTEND;TZID=Europe/Dublin:20191113T213000
DTSTAMP:20260423T051721
CREATED:20190830T133613Z
LAST-MODIFIED:20190830T150732Z
UID:178850-1573675200-1573680600@www.runireland.com
SUMMARY:Run in the Dark Kilkenny 5k & 10k
DESCRIPTION:Run in the Dark Kilkenny on the 13th November 2019 \nJoin us for Run in the Dark Kilkenny starting at 8pm. \nChallenge yourself to a 5k or 10k run on 13th November and light up the night with 25\,000 people in 50 locations across the globe. \nEach participant will receive a Run in the Dark flashing armband and buff.
URL:https://www.runireland.com/events/run-in-the-dark-kilkenny-5k-10k/
LOCATION:Kilkenny City\, Ireland
CATEGORIES:10K,5K
ATTACH;FMTTYPE=image/jpeg:https://www.runireland.com/wp-content/uploads/2019/08/Kilkenny-runireland.jpg
ORGANIZER;CN="Run in the Dark":MAILTO:info@runinthedark.org
END:VEVENT
BEGIN:VEVENT
DTSTART;TZID=Europe/Dublin:20191113T200000
DTEND;TZID=Europe/Dublin:20191113T213000
DTSTAMP:20260423T051721
CREATED:20190830T133630Z
LAST-MODIFIED:20190910T160452Z
UID:178844-1573675200-1573680600@www.runireland.com
SUMMARY:Run in the Dark Limerick 5k & 10k
DESCRIPTION:Run in the Dark Limerick on the 13th November 2019 \nJoin us for Run in the Dark Limerick starting at UL Boathouse at 8pm. \nChallenge yourself to a 5k or 10k run on 13th November and light up the night with 25\,000 people in 50 locations across the globe. \nEach participant will receive a Run in the Dark flashing armband and buff.
URL:https://www.runireland.com/events/run-in-the-dark-limerick-5k-10k/
LOCATION:Limerick\, Ireland
CATEGORIES:10K,5K
ATTACH;FMTTYPE=image/jpeg:https://www.runireland.com/wp-content/uploads/2019/08/POP-UP-LIMERICK-IG.jpg
ORGANIZER;CN="Run in the Dark":MAILTO:info@runinthedark.org
END:VEVENT
BEGIN:VEVENT
DTSTART;TZID=Europe/Dublin:20191113T200000
DTEND;TZID=Europe/Dublin:20191113T213000
DTSTAMP:20260423T051721
CREATED:20190910T183527Z
LAST-MODIFIED:20190910T183527Z
UID:178948-1573675200-1573680600@www.runireland.com
SUMMARY:Run in the Dark Wexford 5k &10k
DESCRIPTION:Run in the Dark Wexford on the 13th November 2019 \nJoin us for Run in the Dark Wexford starting at 8pm. \nChallenge yourself to a 5k or 10k run on 13th November and light up the night with 25\,000 people in 50 locations across the globe. \nEach participant will receive a Run in the Dark flashing armband and buff. \nThe inaugural Run in the Dark event in Wexford will start and finish on the quay.  Participants will follow a route which includes Paul Quay\, Trinity Street and the Faythe. The runners and walkers will then travelling past Wexford Park and before returning to the quay via Summerhill Road and Waterloo Road. \nThis route will provide a fun opportunity to appreciate some of the scenic sites of Wexford Town.
URL:https://www.runireland.com/events/run-in-the-dark-wexford-5k-10k/
LOCATION:Wexford Town\, Wexford\, Wexford Town\, Wexford\, Ireland
CATEGORIES:10K,5K
ATTACH;FMTTYPE=image/png:https://www.runireland.com/wp-content/uploads/2019/09/Copy-of-Untitled.png
ORGANIZER;CN="Run in the Dark":MAILTO:info@runinthedark.org
GEO:52.336916;-6.4633381
X-APPLE-STRUCTURED-LOCATION;VALUE=URI;X-ADDRESS=Wexford Town Wexford Wexford Town Wexford Ireland;X-APPLE-RADIUS=500;X-TITLE=Wexford Town:geo:-6.4633381,52.336916
END:VEVENT
BEGIN:VEVENT
DTSTART;TZID=Europe/Dublin:20191113T200000
DTEND;TZID=Europe/Dublin:20191113T213000
DTSTAMP:20260423T051721
CREATED:20190912T102451Z
LAST-MODIFIED:20190912T102451Z
UID:178962-1573675200-1573680600@www.runireland.com
SUMMARY:Run in the Dark Ballina
DESCRIPTION:Run in the Dark  Ballina  \nJoin us for Run in the Dark Ballina on 13th November at 8pm. \nChallenge yourself to a 5k or 10k run and light up the night with 25\,000 people in 50 locations across the globe. \nEach participant will receive a Run in the Dark flashing armband and buff. \n\nRun in the Dark is the principal fundraiser for the Mark Pollock Trust.
URL:https://www.runireland.com/events/run-in-the-dark-ballina/
LOCATION:Ballina Town\, Ballina\, Mayo\, Ireland
ATTACH;FMTTYPE=image/png:https://www.runireland.com/wp-content/uploads/2019/09/Copy-of-POP-UP-LIMERICK-FB.png
ORGANIZER;CN="Run in the Dark":MAILTO:info@runinthedark.org
GEO:54.1149482;-9.1550693
X-APPLE-STRUCTURED-LOCATION;VALUE=URI;X-ADDRESS=Ballina Town Ballina Mayo Ireland;X-APPLE-RADIUS=500;X-TITLE=Ballina:geo:-9.1550693,54.1149482
END:VEVENT
BEGIN:VEVENT
DTSTART;TZID=Europe/Dublin:20191113T200000
DTEND;TZID=Europe/Dublin:20191113T213000
DTSTAMP:20260423T051721
CREATED:20190927T151704Z
LAST-MODIFIED:20190927T151704Z
UID:179087-1573675200-1573680600@www.runireland.com
SUMMARY:Run in the Dark Kenmare - 5k & 10k
DESCRIPTION:Run in the Dark  Kenmare \nJoin us for the first ever Run in the Dark Kenmare on 13th November at 8pm. \nChallenge yourself to a 5k or 10k run and light up the night with 25\,000 people in 50 locations across the globe. \nEach participant will receive a Run in the Dark flashing armband and buff. \n\nRun in the Dark is the principal fundraiser for the Mark Pollock Trust.
URL:https://www.runireland.com/events/run-in-the-dark-kenmare-5k-10k/
LOCATION:Kenmare\, Kerry\, Kenmare\, Kenmare
CATEGORIES:10K,5K
ATTACH;FMTTYPE=image/jpeg:https://www.runireland.com/wp-content/uploads/2019/09/Copy-of-Untitled-4.jpg
ORGANIZER;CN="Run in the Dark":MAILTO:info@runinthedark.org
END:VEVENT
BEGIN:VEVENT
DTSTART;TZID=Europe/Dublin:20191113T210000
DTEND;TZID=Europe/Dublin:20191113T223000
DTSTAMP:20260423T051721
CREATED:20190830T122555Z
LAST-MODIFIED:20190830T122555Z
UID:178840-1573678800-1573684200@www.runireland.com
SUMMARY:Run in the Dark Cork - 5k & 10k
DESCRIPTION:Thousands of people will take over the Cork city streets\, starting on Patrick Street at 9pm. \nChoose between a 5k or 10k distance and if you don’t feel like running\, you’re also welcome as a walker on the 5k route. \nEvery participant will receive an official run time and certificate.
URL:https://www.runireland.com/events/run-in-the-dark-cork-5k-10k/
LOCATION:Cork\, Oliver Plunket Street\, Cork\, Ireland
CATEGORIES:10K,5K
ATTACH;FMTTYPE=image/jpeg:https://www.runireland.com/wp-content/uploads/2019/08/Cork-runireland.jpg
ORGANIZER;CN="Run in the Dark":MAILTO:info@runinthedark.org
GEO:51.8978499;-8.4710743
X-APPLE-STRUCTURED-LOCATION;VALUE=URI;X-ADDRESS=Cork Oliver Plunket Street Cork Ireland;X-APPLE-RADIUS=500;X-TITLE=Oliver Plunket Street:geo:-8.4710743,51.8978499
END:VEVENT
BEGIN:VEVENT
DTSTART;TZID=Europe/Dublin:20191113T210000
DTEND;TZID=Europe/Dublin:20191113T223000
DTSTAMP:20260423T051721
CREATED:20190927T151640Z
LAST-MODIFIED:20190927T151640Z
UID:179083-1573678800-1573684200@www.runireland.com
SUMMARY:Run in the Dark Inch Beach
DESCRIPTION:Run in the Dark  Inch Beach – 5k \nJoin us for Run in the Dark Inch Beach\, Kerry on 13th November at 9pm. \nChallenge yourself to a 5k run and light up the night with 25\,000 people in 50 locations across the globe. \nEach participant will receive a Run in the Dark flashing armband and buff. The Inch Beach run is championed by adventurer Mike O’Shea. With the sea spray in our faces we will run a 5km loop along the hard sands of this beautiful location. \nThe meeting point is Sammys Café. \n\nRun in the Dark is the principal fundraiser for the Mark Pollock Trust.
URL:https://www.runireland.com/events/run-in-the-dark-inch-beach/
LOCATION:inch beach\, Kerry
CATEGORIES:5K
ATTACH;FMTTYPE=image/jpeg:https://www.runireland.com/wp-content/uploads/2019/09/Copy-of-Untitled-2.jpg
ORGANIZER;CN="Run in the Dark":MAILTO:info@runinthedark.org
END:VEVENT
END:VCALENDAR