BEGIN:VCALENDAR
VERSION:2.0
PRODID:-//RunIreland.com - ECPv6.5.1.5//NONSGML v1.0//EN
CALSCALE:GREGORIAN
METHOD:PUBLISH
X-WR-CALNAME:RunIreland.com
X-ORIGINAL-URL:https://www.runireland.com
X-WR-CALDESC:Events for RunIreland.com
REFRESH-INTERVAL;VALUE=DURATION:PT1H
X-Robots-Tag:noindex
X-PUBLISHED-TTL:PT1H
BEGIN:VTIMEZONE
TZID:Europe/Dublin
BEGIN:STANDARD
TZOFFSETFROM:+0000
TZOFFSETTO:+0100
TZNAME:IST
DTSTART:20190331T010000
END:STANDARD
BEGIN:DAYLIGHT
TZOFFSETFROM:+0100
TZOFFSETTO:+0000
TZNAME:GMT
DTSTART:20191027T010000
END:DAYLIGHT
END:VTIMEZONE
BEGIN:VEVENT
DTSTART;TZID=Europe/Dublin:20191102T090000
DTEND;TZID=Europe/Dublin:20191102T160000
DTSTAMP:20260422T113813
CREATED:20191009T125758Z
LAST-MODIFIED:20191009T130036Z
UID:179207-1572685200-1572710400@www.runireland.com
SUMMARY:TURF WARRIOR
DESCRIPTION:This is Ireland’s most innovative and exciting obstacle race. Not only does this pose a worthy challenge for the extreme obstacle runners this is also excellent craic – YOU MIGHT BE A GROWN UP BUT YOU DON’T NEED TO ACT LIKE ONE!
URL:https://www.runireland.com/events/turf-warrior-2/
LOCATION:Killary Adventure Centre\, Killary Adventure Centre\, Galway\, Ireland
CATEGORIES:Other
ATTACH;FMTTYPE=image/jpeg:https://www.runireland.com/wp-content/uploads/2019/10/TW-ads-Aug-2019.jpg
ORGANIZER;CN="Gaelforce Events":MAILTO:info@gaelforceevents.com
GEO:53.5926895;-9.7691631
X-APPLE-STRUCTURED-LOCATION;VALUE=URI;X-ADDRESS=Killary Adventure Centre Killary Adventure Centre Galway Ireland;X-APPLE-RADIUS=500;X-TITLE=Killary Adventure Centre:geo:-9.7691631,53.5926895
END:VEVENT
BEGIN:VEVENT
DTSTART;TZID=Europe/Dublin:20191102T110000
DTEND;TZID=Europe/Dublin:20191102T140000
DTSTAMP:20260422T113813
CREATED:20190918T094321Z
LAST-MODIFIED:20190918T094321Z
UID:178982-1572692400-1572703200@www.runireland.com
SUMMARY:Glendalough Trail Run 2019
DESCRIPTION:Join Fighting Blindness for the Glendalough Trail 2019 – a unique 15km running experience in a beautiful part of the country. A minimum of €50 sponsorship also needs to be raised in aid of Fighting Blindness. For more info visit www.glendaloughtrail.com or contact us on 01 678 9004 or fundraising@fightingblindness.ie.
URL:https://www.runireland.com/events/glendalough-trail-run-2019/
LOCATION:Brockagh Resource Centre\, Laragh House\, Glendalough\, Wicklow\, Ireland
CATEGORIES:Adventure Races,Trail / Off Road Races
ATTACH;FMTTYPE=image/jpeg:https://www.runireland.com/wp-content/uploads/2019/09/2019-Glendalough-Poster.jpg
ORGANIZER;CN="Fighting Blindness":MAILTO:fundraising@fightingblindness.ie
END:VEVENT
END:VCALENDAR